Workbook
Name ACUERDOS: #REF!
Name ACUERDOS: #REF!
Name ACUERDOS: #REF!
Name ACUERDOS: #REF!
Name ACUERDOS: #REF!
Name ACUERDOS: #REF!
Name ACUERDOS: #REF!
Name ACUERDOS: #REF!
Name ACUERDOS: #REF!
Name ACUERDOS: #REF!
Name ACUERDOS: #REF!
Name ACUERDOS: #REF!
Name ACUERDOS: #REF!
Name ACUERDOS: #REF!
Name ACUERDOS: #REF!
Name ACUERDOS: #REF!
Name AFC: #REF!
Name AFC: #REF!
Name AFC: #REF!
Name AFC: #REF!
Name AFC: #REF!
Name AFC: #REF!
Name AFC: #REF!
Name AFC: #REF!
Name AFC: #REF!
Name AFC: #REF!
Name AFC: #REF!
Name AFC: #REF!
Name AFC: #REF!
Name AFC: #REF!
Name AFC: #REF!
Name AFC: #REF!
Name AFP: #REF!
Name AFP: #REF!
Name AFP: #REF!
Name AFP: #REF!
Name AFP: #REF!
Name AFP: #REF!
Name AFP: #REF!
Name AFP: #REF!
Name AFP: #REF!
Name AFP: #REF!
Name AFP: #REF!
Name AFP: #REF!
Name AFP: #REF!
Name AFP: #REF!
Name AFP: #REF!
Name AFP: #REF!
Name años: #REF!
Name años: #REF!
Name años: #REF!
Name años: #REF!
Name años: #REF!
Name años: #REF!
Name años: #REF!
Name años: #REF!
Name años: #REF!
Name años: #REF!
Name años: #REF!
Name años: #REF!

Sheet RESUMEN COTIZACIÓN
A1: RESUMEN COTIZACIÓN — SISTEMAS HIDRÁULICOS
A2: Esta pestaña muestra automáticamente sólo los productos con CANTIDAD > 0 que hayas indicado en cada pestaña de categoría.
A4: Total ítems distintos cotizados: | C4: =COUNTIF(_Datos!H2:H1234,">0") -> 0 | E4: Fecha: | F4: =TODAY() -> 46147
A5: Total unidades cotizadas: | C5: =SUM(_Datos!H2:H1234) -> 0
A6: Si no ves productos en la tabla, vuelve al "Menú por Categoría" y completa la columna CANTIDAD A COTIZAR en las pestañas que necesites.
A7: Pestaña | B7: Categoría Madre | C7: Categoría | D7: SKU | E7: Descripción | F7: Unidad Mín. Venta | G7: Formato | H7: Cantidad
A8: =IFERROR(INDEX(_Datos!A:A,MATCH(1,_Datos!$I:$I,0)),"") | B8: =IFERROR(INDEX(_Datos!B:B,MATCH(1,_Datos!$I:$I,0)),"") | C8: =IFERROR(INDEX(_Datos!C:C,MATCH(1,_Datos!$I:$I,0)),"") | D8: =IFERROR(INDEX(_Datos!D:D,MATCH(1,_Datos!$I:$I,0)),"") | E8: =IFERROR(INDEX(_Datos!E:E,MATCH(1,_Datos!$I:$I,0)),"") | F8: =IFERROR(INDEX(_Datos!F:F,MATCH(1,_Datos!$I:$I,0)),"") | G8: =IFERROR(INDEX(_Datos!G:G,MATCH(1,_Datos!$I:$I,0)),"") | H8: =IFERROR(INDEX(_Datos!H:H,MATCH(1,_Datos!$I:$I,0)),"")
A9: =IFERROR(INDEX(_Datos!A:A,MATCH(2,_Datos!$I:$I,0)),"") | B9: =IFERROR(INDEX(_Datos!B:B,MATCH(2,_Datos!$I:$I,0)),"") | C9: =IFERROR(INDEX(_Datos!C:C,MATCH(2,_Datos!$I:$I,0)),"") | D9: =IFERROR(INDEX(_Datos!D:D,MATCH(2,_Datos!$I:$I,0)),"") | E9: =IFERROR(INDEX(_Datos!E:E,MATCH(2,_Datos!$I:$I,0)),"") | F9: =IFERROR(INDEX(_Datos!F:F,MATCH(2,_Datos!$I:$I,0)),"") | G9: =IFERROR(INDEX(_Datos!G:G,MATCH(2,_Datos!$I:$I,0)),"") | H9: =IFERROR(INDEX(_Datos!H:H,MATCH(2,_Datos!$I:$I,0)),"")
A10: =IFERROR(INDEX(_Datos!A:A,MATCH(3,_Datos!$I:$I,0)),"") | B10: =IFERROR(INDEX(_Datos!B:B,MATCH(3,_Datos!$I:$I,0)),"") | C10: =IFERROR(INDEX(_Datos!C:C,MATCH(3,_Datos!$I:$I,0)),"") | D10: =IFERROR(INDEX(_Datos!D:D,MATCH(3,_Datos!$I:$I,0)),"") | E10: =IFERROR(INDEX(_Datos!E:E,MATCH(3,_Datos!$I:$I,0)),"") | F10: =IFERROR(INDEX(_Datos!F:F,MATCH(3,_Datos!$I:$I,0)),"") | G10: =IFERROR(INDEX(_Datos!G:G,MATCH(3,_Datos!$I:$I,0)),"") | H10: =IFERROR(INDEX(_Datos!H:H,MATCH(3,_Datos!$I:$I,0)),"")
A11: =IFERROR(INDEX(_Datos!A:A,MATCH(4,_Datos!$I:$I,0)),"") | B11: =IFERROR(INDEX(_Datos!B:B,MATCH(4,_Datos!$I:$I,0)),"") | C11: =IFERROR(INDEX(_Datos!C:C,MATCH(4,_Datos!$I:$I,0)),"") | D11: =IFERROR(INDEX(_Datos!D:D,MATCH(4,_Datos!$I:$I,0)),"") | E11: =IFERROR(INDEX(_Datos!E:E,MATCH(4,_Datos!$I:$I,0)),"") | F11: =IFERROR(INDEX(_Datos!F:F,MATCH(4,_Datos!$I:$I,0)),"") | G11: =IFERROR(INDEX(_Datos!G:G,MATCH(4,_Datos!$I:$I,0)),"") | H11: =IFERROR(INDEX(_Datos!H:H,MATCH(4,_Datos!$I:$I,0)),"")
A12: =IFERROR(INDEX(_Datos!A:A,MATCH(5,_Datos!$I:$I,0)),"") | B12: =IFERROR(INDEX(_Datos!B:B,MATCH(5,_Datos!$I:$I,0)),"") | C12: =IFERROR(INDEX(_Datos!C:C,MATCH(5,_Datos!$I:$I,0)),"") | D12: =IFERROR(INDEX(_Datos!D:D,MATCH(5,_Datos!$I:$I,0)),"") | E12: =IFERROR(INDEX(_Datos!E:E,MATCH(5,_Datos!$I:$I,0)),"") | F12: =IFERROR(INDEX(_Datos!F:F,MATCH(5,_Datos!$I:$I,0)),"") | G12: =IFERROR(INDEX(_Datos!G:G,MATCH(5,_Datos!$I:$I,0)),"") | H12: =IFERROR(INDEX(_Datos!H:H,MATCH(5,_Datos!$I:$I,0)),"")
A13: =IFERROR(INDEX(_Datos!A:A,MATCH(6,_Datos!$I:$I,0)),"") | B13: =IFERROR(INDEX(_Datos!B:B,MATCH(6,_Datos!$I:$I,0)),"") | C13: =IFERROR(INDEX(_Datos!C:C,MATCH(6,_Datos!$I:$I,0)),"") | D13: =IFERROR(INDEX(_Datos!D:D,MATCH(6,_Datos!$I:$I,0)),"") | E13: =IFERROR(INDEX(_Datos!E:E,MATCH(6,_Datos!$I:$I,0)),"") | F13: =IFERROR(INDEX(_Datos!F:F,MATCH(6,_Datos!$I:$I,0)),"") | G13: =IFERROR(INDEX(_Datos!G:G,MATCH(6,_Datos!$I:$I,0)),"") | H13: =IFERROR(INDEX(_Datos!H:H,MATCH(6,_Datos!$I:$I,0)),"")
A14: =IFERROR(INDEX(_Datos!A:A,MATCH(7,_Datos!$I:$I,0)),"") | B14: =IFERROR(INDEX(_Datos!B:B,MATCH(7,_Datos!$I:$I,0)),"") | C14: =IFERROR(INDEX(_Datos!C:C,MATCH(7,_Datos!$I:$I,0)),"") | D14: =IFERROR(INDEX(_Datos!D:D,MATCH(7,_Datos!$I:$I,0)),"") | E14: =IFERROR(INDEX(_Datos!E:E,MATCH(7,_Datos!$I:$I,0)),"") | F14: =IFERROR(INDEX(_Datos!F:F,MATCH(7,_Datos!$I:$I,0)),"") | G14: =IFERROR(INDEX(_Datos!G:G,MATCH(7,_Datos!$I:$I,0)),"") | H14: =IFERROR(INDEX(_Datos!H:H,MATCH(7,_Datos!$I:$I,0)),"")
A15: =IFERROR(INDEX(_Datos!A:A,MATCH(8,_Datos!$I:$I,0)),"") | B15: =IFERROR(INDEX(_Datos!B:B,MATCH(8,_Datos!$I:$I,0)),"") | C15: =IFERROR(INDEX(_Datos!C:C,MATCH(8,_Datos!$I:$I,0)),"") | D15: =IFERROR(INDEX(_Datos!D:D,MATCH(8,_Datos!$I:$I,0)),"") | E15: =IFERROR(INDEX(_Datos!E:E,MATCH(8,_Datos!$I:$I,0)),"") | F15: =IFERROR(INDEX(_Datos!F:F,MATCH(8,_Datos!$I:$I,0)),"") | G15: =IFERROR(INDEX(_Datos!G:G,MATCH(8,_Datos!$I:$I,0)),"") | H15: =IFERROR(INDEX(_Datos!H:H,MATCH(8,_Datos!$I:$I,0)),"")
A16: =IFERROR(INDEX(_Datos!A:A,MATCH(9,_Datos!$I:$I,0)),"") | B16: =IFERROR(INDEX(_Datos!B:B,MATCH(9,_Datos!$I:$I,0)),"") | C16: =IFERROR(INDEX(_Datos!C:C,MATCH(9,_Datos!$I:$I,0)),"") | D16: =IFERROR(INDEX(_Datos!D:D,MATCH(9,_Datos!$I:$I,0)),"") | E16: =IFERROR(INDEX(_Datos!E:E,MATCH(9,_Datos!$I:$I,0)),"") | F16: =IFERROR(INDEX(_Datos!F:F,MATCH(9,_Datos!$I:$I,0)),"") | G16: =IFERROR(INDEX(_Datos!G:G,MATCH(9,_Datos!$I:$I,0)),"") | H16: =IFERROR(INDEX(_Datos!H:H,MATCH(9,_Datos!$I:$I,0)),"")
A17: =IFERROR(INDEX(_Datos!A:A,MATCH(10,_Datos!$I:$I,0)),"") | B17: =IFERROR(INDEX(_Datos!B:B,MATCH(10,_Datos!$I:$I,0)),"") | C17: =IFERROR(INDEX(_Datos!C:C,MATCH(10,_Datos!$I:$I,0)),"") | D17: =IFERROR(INDEX(_Datos!D:D,MATCH(10,_Datos!$I:$I,0)),"") | E17: =IFERROR(INDEX(_Datos!E:E,MATCH(10,_Datos!$I:$I,0)),"") | F17: =IFERROR(INDEX(_Datos!F:F,MATCH(10,_Datos!$I:$I,0)),"") | G17: =IFERROR(INDEX(_Datos!G:G,MATCH(10,_Datos!$I:$I,0)),"") | H17: =IFERROR(INDEX(_Datos!H:H,MATCH(10,_Datos!$I:$I,0)),"")
A18: =IFERROR(INDEX(_Datos!A:A,MATCH(11,_Datos!$I:$I,0)),"") | B18: =IFERROR(INDEX(_Datos!B:B,MATCH(11,_Datos!$I:$I,0)),"") | C18: =IFERROR(INDEX(_Datos!C:C,MATCH(11,_Datos!$I:$I,0)),"") | D18: =IFERROR(INDEX(_Datos!D:D,MATCH(11,_Datos!$I:$I,0)),"") | E18: =IFERROR(INDEX(_Datos!E:E,MATCH(11,_Datos!$I:$I,0)),"") | F18: =IFERROR(INDEX(_Datos!F:F,MATCH(11,_Datos!$I:$I,0)),"") | G18: =IFERROR(INDEX(_Datos!G:G,MATCH(11,_Datos!$I:$I,0)),"") | H18: =IFERROR(INDEX(_Datos!H:H,MATCH(11,_Datos!$I:$I,0)),"")
A19: =IFERROR(INDEX(_Datos!A:A,MATCH(12,_Datos!$I:$I,0)),"") | B19: =IFERROR(INDEX(_Datos!B:B,MATCH(12,_Datos!$I:$I,0)),"") | C19: =IFERROR(INDEX(_Datos!C:C,MATCH(12,_Datos!$I:$I,0)),"") | D19: =IFERROR(INDEX(_Datos!D:D,MATCH(12,_Datos!$I:$I,0)),"") | E19: =IFERROR(INDEX(_Datos!E:E,MATCH(12,_Datos!$I:$I,0)),"") | F19: =IFERROR(INDEX(_Datos!F:F,MATCH(12,_Datos!$I:$I,0)),"") | G19: =IFERROR(INDEX(_Datos!G:G,MATCH(12,_Datos!$I:$I,0)),"") | H19: =IFERROR(INDEX(_Datos!H:H,MATCH(12,_Datos!$I:$I,0)),"")
A20: =IFERROR(INDEX(_Datos!A:A,MATCH(13,_Datos!$I:$I,0)),"") | B20: =IFERROR(INDEX(_Datos!B:B,MATCH(13,_Datos!$I:$I,0)),"") | C20: =IFERROR(INDEX(_Datos!C:C,MATCH(13,_Datos!$I:$I,0)),"") | D20: =IFERROR(INDEX(_Datos!D:D,MATCH(13,_Datos!$I:$I,0)),"") | E20: =IFERROR(INDEX(_Datos!E:E,MATCH(13,_Datos!$I:$I,0)),"") | F20: =IFERROR(INDEX(_Datos!F:F,MATCH(13,_Datos!$I:$I,0)),"") | G20: =IFERROR(INDEX(_Datos!G:G,MATCH(13,_Datos!$I:$I,0)),"") | H20: =IFERROR(INDEX(_Datos!H:H,MATCH(13,_Datos!$I:$I,0)),"")
A21: =IFERROR(INDEX(_Datos!A:A,MATCH(14,_Datos!$I:$I,0)),"") | B21: =IFERROR(INDEX(_Datos!B:B,MATCH(14,_Datos!$I:$I,0)),"") | C21: =IFERROR(INDEX(_Datos!C:C,MATCH(14,_Datos!$I:$I,0)),"") | D21: =IFERROR(INDEX(_Datos!D:D,MATCH(14,_Datos!$I:$I,0)),"") | E21: =IFERROR(INDEX(_Datos!E:E,MATCH(14,_Datos!$I:$I,0)),"") | F21: =IFERROR(INDEX(_Datos!F:F,MATCH(14,_Datos!$I:$I,0)),"") | G21: =IFERROR(INDEX(_Datos!G:G,MATCH(14,_Datos!$I:$I,0)),"") | H21: =IFERROR(INDEX(_Datos!H:H,MATCH(14,_Datos!$I:$I,0)),"")
A22: =IFERROR(INDEX(_Datos!A:A,MATCH(15,_Datos!$I:$I,0)),"") | B22: =IFERROR(INDEX(_Datos!B:B,MATCH(15,_Datos!$I:$I,0)),"") | C22: =IFERROR(INDEX(_Datos!C:C,MATCH(15,_Datos!$I:$I,0)),"") | D22: =IFERROR(INDEX(_Datos!D:D,MATCH(15,_Datos!$I:$I,0)),"") | E22: =IFERROR(INDEX(_Datos!E:E,MATCH(15,_Datos!$I:$I,0)),"") | F22: =IFERROR(INDEX(_Datos!F:F,MATCH(15,_Datos!$I:$I,0)),"") | G22: =IFERROR(INDEX(_Datos!G:G,MATCH(15,_Datos!$I:$I,0)),"") | H22: =IFERROR(INDEX(_Datos!H:H,MATCH(15,_Datos!$I:$I,0)),"")
A23: =IFERROR(INDEX(_Datos!A:A,MATCH(16,_Datos!$I:$I,0)),"") | B23: =IFERROR(INDEX(_Datos!B:B,MATCH(16,_Datos!$I:$I,0)),"") | C23: =IFERROR(INDEX(_Datos!C:C,MATCH(16,_Datos!$I:$I,0)),"") | D23: =IFERROR(INDEX(_Datos!D:D,MATCH(16,_Datos!$I:$I,0)),"") | E23: =IFERROR(INDEX(_Datos!E:E,MATCH(16,_Datos!$I:$I,0)),"") | F23: =IFERROR(INDEX(_Datos!F:F,MATCH(16,_Datos!$I:$I,0)),"") | G23: =IFERROR(INDEX(_Datos!G:G,MATCH(16,_Datos!$I:$I,0)),"") | H23: =IFERROR(INDEX(_Datos!H:H,MATCH(16,_Datos!$I:$I,0)),"")
A24: =IFERROR(INDEX(_Datos!A:A,MATCH(17,_Datos!$I:$I,0)),"") | B24: =IFERROR(INDEX(_Datos!B:B,MATCH(17,_Datos!$I:$I,0)),"") | C24: =IFERROR(INDEX(_Datos!C:C,MATCH(17,_Datos!$I:$I,0)),"") | D24: =IFERROR(INDEX(_Datos!D:D,MATCH(17,_Datos!$I:$I,0)),"") | E24: =IFERROR(INDEX(_Datos!E:E,MATCH(17,_Datos!$I:$I,0)),"") | F24: =IFERROR(INDEX(_Datos!F:F,MATCH(17,_Datos!$I:$I,0)),"") | G24: =IFERROR(INDEX(_Datos!G:G,MATCH(17,_Datos!$I:$I,0)),"") | H24: =IFERROR(INDEX(_Datos!H:H,MATCH(17,_Datos!$I:$I,0)),"")
A25: =IFERROR(INDEX(_Datos!A:A,MATCH(18,_Datos!$I:$I,0)),"") | B25: =IFERROR(INDEX(_Datos!B:B,MATCH(18,_Datos!$I:$I,0)),"") | C25: =IFERROR(INDEX(_Datos!C:C,MATCH(18,_Datos!$I:$I,0)),"") | D25: =IFERROR(INDEX(_Datos!D:D,MATCH(18,_Datos!$I:$I,0)),"") | E25: =IFERROR(INDEX(_Datos!E:E,MATCH(18,_Datos!$I:$I,0)),"") | F25: =IFERROR(INDEX(_Datos!F:F,MATCH(18,_Datos!$I:$I,0)),"") | G25: =IFERROR(INDEX(_Datos!G:G,MATCH(18,_Datos!$I:$I,0)),"") | H25: =IFERROR(INDEX(_Datos!H:H,MATCH(18,_Datos!$I:$I,0)),"")
A26: =IFERROR(INDEX(_Datos!A:A,MATCH(19,_Datos!$I:$I,0)),"") | B26: =IFERROR(INDEX(_Datos!B:B,MATCH(19,_Datos!$I:$I,0)),"") | C26: =IFERROR(INDEX(_Datos!C:C,MATCH(19,_Datos!$I:$I,0)),"") | D26: =IFERROR(INDEX(_Datos!D:D,MATCH(19,_Datos!$I:$I,0)),"") | E26: =IFERROR(INDEX(_Datos!E:E,MATCH(19,_Datos!$I:$I,0)),"") | F26: =IFERROR(INDEX(_Datos!F:F,MATCH(19,_Datos!$I:$I,0)),"") | G26: =IFERROR(INDEX(_Datos!G:G,MATCH(19,_Datos!$I:$I,0)),"") | H26: =IFERROR(INDEX(_Datos!H:H,MATCH(19,_Datos!$I:$I,0)),"")
A27: =IFERROR(INDEX(_Datos!A:A,MATCH(20,_Datos!$I:$I,0)),"") | B27: =IFERROR(INDEX(_Datos!B:B,MATCH(20,_Datos!$I:$I,0)),"") | C27: =IFERROR(INDEX(_Datos!C:C,MATCH(20,_Datos!$I:$I,0)),"") | D27: =IFERROR(INDEX(_Datos!D:D,MATCH(20,_Datos!$I:$I,0)),"") | E27: =IFERROR(INDEX(_Datos!E:E,MATCH(20,_Datos!$I:$I,0)),"") | F27: =IFERROR(INDEX(_Datos!F:F,MATCH(20,_Datos!$I:$I,0)),"") | G27: =IFERROR(INDEX(_Datos!G:G,MATCH(20,_Datos!$I:$I,0)),"") | H27: =IFERROR(INDEX(_Datos!H:H,MATCH(20,_Datos!$I:$I,0)),"")
A28: =IFERROR(INDEX(_Datos!A:A,MATCH(21,_Datos!$I:$I,0)),"") | B28: =IFERROR(INDEX(_Datos!B:B,MATCH(21,_Datos!$I:$I,0)),"") | C28: =IFERROR(INDEX(_Datos!C:C,MATCH(21,_Datos!$I:$I,0)),"") | D28: =IFERROR(INDEX(_Datos!D:D,MATCH(21,_Datos!$I:$I,0)),"") | E28: =IFERROR(INDEX(_Datos!E:E,MATCH(21,_Datos!$I:$I,0)),"") | F28: =IFERROR(INDEX(_Datos!F:F,MATCH(21,_Datos!$I:$I,0)),"") | G28: =IFERROR(INDEX(_Datos!G:G,MATCH(21,_Datos!$I:$I,0)),"") | H28: =IFERROR(INDEX(_Datos!H:H,MATCH(21,_Datos!$I:$I,0)),"")
A29: =IFERROR(INDEX(_Datos!A:A,MATCH(22,_Datos!$I:$I,0)),"") | B29: =IFERROR(INDEX(_Datos!B:B,MATCH(22,_Datos!$I:$I,0)),"") | C29: =IFERROR(INDEX(_Datos!C:C,MATCH(22,_Datos!$I:$I,0)),"") | D29: =IFERROR(INDEX(_Datos!D:D,MATCH(22,_Datos!$I:$I,0)),"") | E29: =IFERROR(INDEX(_Datos!E:E,MATCH(22,_Datos!$I:$I,0)),"") | F29: =IFERROR(INDEX(_Datos!F:F,MATCH(22,_Datos!$I:$I,0)),"") | G29: =IFERROR(INDEX(_Datos!G:G,MATCH(22,_Datos!$I:$I,0)),"") | H29: =IFERROR(INDEX(_Datos!H:H,MATCH(22,_Datos!$I:$I,0)),"")
A30: =IFERROR(INDEX(_Datos!A:A,MATCH(23,_Datos!$I:$I,0)),"") | B30: =IFERROR(INDEX(_Datos!B:B,MATCH(23,_Datos!$I:$I,0)),"") | C30: =IFERROR(INDEX(_Datos!C:C,MATCH(23,_Datos!$I:$I,0)),"") | D30: =IFERROR(INDEX(_Datos!D:D,MATCH(23,_Datos!$I:$I,0)),"") | E30: =IFERROR(INDEX(_Datos!E:E,MATCH(23,_Datos!$I:$I,0)),"") | F30: =IFERROR(INDEX(_Datos!F:F,MATCH(23,_Datos!$I:$I,0)),"") | G30: =IFERROR(INDEX(_Datos!G:G,MATCH(23,_Datos!$I:$I,0)),"") | H30: =IFERROR(INDEX(_Datos!H:H,MATCH(23,_Datos!$I:$I,0)),"")
A31: =IFERROR(INDEX(_Datos!A:A,MATCH(24,_Datos!$I:$I,0)),"") | B31: =IFERROR(INDEX(_Datos!B:B,MATCH(24,_Datos!$I:$I,0)),"") | C31: =IFERROR(INDEX(_Datos!C:C,MATCH(24,_Datos!$I:$I,0)),"") | D31: =IFERROR(INDEX(_Datos!D:D,MATCH(24,_Datos!$I:$I,0)),"") | E31: =IFERROR(INDEX(_Datos!E:E,MATCH(24,_Datos!$I:$I,0)),"") | F31: =IFERROR(INDEX(_Datos!F:F,MATCH(24,_Datos!$I:$I,0)),"") | G31: =IFERROR(INDEX(_Datos!G:G,MATCH(24,_Datos!$I:$I,0)),"") | H31: =IFERROR(INDEX(_Datos!H:H,MATCH(24,_Datos!$I:$I,0)),"")
A32: =IFERROR(INDEX(_Datos!A:A,MATCH(25,_Datos!$I:$I,0)),"") | B32: =IFERROR(INDEX(_Datos!B:B,MATCH(25,_Datos!$I:$I,0)),"") | C32: =IFERROR(INDEX(_Datos!C:C,MATCH(25,_Datos!$I:$I,0)),"") | D32: =IFERROR(INDEX(_Datos!D:D,MATCH(25,_Datos!$I:$I,0)),"") | E32: =IFERROR(INDEX(_Datos!E:E,MATCH(25,_Datos!$I:$I,0)),"") | F32: =IFERROR(INDEX(_Datos!F:F,MATCH(25,_Datos!$I:$I,0)),"") | G32: =IFERROR(INDEX(_Datos!G:G,MATCH(25,_Datos!$I:$I,0)),"") | H32: =IFERROR(INDEX(_Datos!H:H,MATCH(25,_Datos!$I:$I,0)),"")
A33: =IFERROR(INDEX(_Datos!A:A,MATCH(26,_Datos!$I:$I,0)),"") | B33: =IFERROR(INDEX(_Datos!B:B,MATCH(26,_Datos!$I:$I,0)),"") | C33: =IFERROR(INDEX(_Datos!C:C,MATCH(26,_Datos!$I:$I,0)),"") | D33: =IFERROR(INDEX(_Datos!D:D,MATCH(26,_Datos!$I:$I,0)),"") | E33: =IFERROR(INDEX(_Datos!E:E,MATCH(26,_Datos!$I:$I,0)),"") | F33: =IFERROR(INDEX(_Datos!F:F,MATCH(26,_Datos!$I:$I,0)),"") | G33: =IFERROR(INDEX(_Datos!G:G,MATCH(26,_Datos!$I:$I,0)),"") | H33: =IFERROR(INDEX(_Datos!H:H,MATCH(26,_Datos!$I:$I,0)),"")
A34: =IFERROR(INDEX(_Datos!A:A,MATCH(27,_Datos!$I:$I,0)),"") | B34: =IFERROR(INDEX(_Datos!B:B,MATCH(27,_Datos!$I:$I,0)),"") | C34: =IFERROR(INDEX(_Datos!C:C,MATCH(27,_Datos!$I:$I,0)),"") | D34: =IFERROR(INDEX(_Datos!D:D,MATCH(27,_Datos!$I:$I,0)),"") | E34: =IFERROR(INDEX(_Datos!E:E,MATCH(27,_Datos!$I:$I,0)),"") | F34: =IFERROR(INDEX(_Datos!F:F,MATCH(27,_Datos!$I:$I,0)),"") | G34: =IFERROR(INDEX(_Datos!G:G,MATCH(27,_Datos!$I:$I,0)),"") | H34: =IFERROR(INDEX(_Datos!H:H,MATCH(27,_Datos!$I:$I,0)),"")
A35: =IFERROR(INDEX(_Datos!A:A,MATCH(28,_Datos!$I:$I,0)),"") | B35: =IFERROR(INDEX(_Datos!B:B,MATCH(28,_Datos!$I:$I,0)),"") | C35: =IFERROR(INDEX(_Datos!C:C,MATCH(28,_Datos!$I:$I,0)),"") | D35: =IFERROR(INDEX(_Datos!D:D,MATCH(28,_Datos!$I:$I,0)),"") | E35: =IFERROR(INDEX(_Datos!E:E,MATCH(28,_Datos!$I:$I,0)),"") | F35: =IFERROR(INDEX(_Datos!F:F,MATCH(28,_Datos!$I:$I,0)),"") | G35: =IFERROR(INDEX(_Datos!G:G,MATCH(28,_Datos!$I:$I,0)),"") | H35: =IFERROR(INDEX(_Datos!H:H,MATCH(28,_Datos!$I:$I,0)),"")
A36: =IFERROR(INDEX(_Datos!A:A,MATCH(29,_Datos!$I:$I,0)),"") | B36: =IFERROR(INDEX(_Datos!B:B,MATCH(29,_Datos!$I:$I,0)),"") | C36: =IFERROR(INDEX(_Datos!C:C,MATCH(29,_Datos!$I:$I,0)),"") | D36: =IFERROR(INDEX(_Datos!D:D,MATCH(29,_Datos!$I:$I,0)),"") | E36: =IFERROR(INDEX(_Datos!E:E,MATCH(29,_Datos!$I:$I,0)),"") | F36: =IFERROR(INDEX(_Datos!F:F,MATCH(29,_Datos!$I:$I,0)),"") | G36: =IFERROR(INDEX(_Datos!G:G,MATCH(29,_Datos!$I:$I,0)),"") | H36: =IFERROR(INDEX(_Datos!H:H,MATCH(29,_Datos!$I:$I,0)),"")
A37: =IFERROR(INDEX(_Datos!A:A,MATCH(30,_Datos!$I:$I,0)),"") | B37: =IFERROR(INDEX(_Datos!B:B,MATCH(30,_Datos!$I:$I,0)),"") | C37: =IFERROR(INDEX(_Datos!C:C,MATCH(30,_Datos!$I:$I,0)),"") | D37: =IFERROR(INDEX(_Datos!D:D,MATCH(30,_Datos!$I:$I,0)),"") | E37: =IFERROR(INDEX(_Datos!E:E,MATCH(30,_Datos!$I:$I,0)),"") | F37: =IFERROR(INDEX(_Datos!F:F,MATCH(30,_Datos!$I:$I,0)),"") | G37: =IFERROR(INDEX(_Datos!G:G,MATCH(30,_Datos!$I:$I,0)),"") | H37: =IFERROR(INDEX(_Datos!H:H,MATCH(30,_Datos!$I:$I,0)),"")
A38: =IFERROR(INDEX(_Datos!A:A,MATCH(31,_Datos!$I:$I,0)),"") | B38: =IFERROR(INDEX(_Datos!B:B,MATCH(31,_Datos!$I:$I,0)),"") | C38: =IFERROR(INDEX(_Datos!C:C,MATCH(31,_Datos!$I:$I,0)),"") | D38: =IFERROR(INDEX(_Datos!D:D,MATCH(31,_Datos!$I:$I,0)),"") | E38: =IFERROR(INDEX(_Datos!E:E,MATCH(31,_Datos!$I:$I,0)),"") | F38: =IFERROR(INDEX(_Datos!F:F,MATCH(31,_Datos!$I:$I,0)),"") | G38: =IFERROR(INDEX(_Datos!G:G,MATCH(31,_Datos!$I:$I,0)),"") | H38: =IFERROR(INDEX(_Datos!H:H,MATCH(31,_Datos!$I:$I,0)),"")
A39: =IFERROR(INDEX(_Datos!A:A,MATCH(32,_Datos!$I:$I,0)),"") | B39: =IFERROR(INDEX(_Datos!B:B,MATCH(32,_Datos!$I:$I,0)),"") | C39: =IFERROR(INDEX(_Datos!C:C,MATCH(32,_Datos!$I:$I,0)),"") | D39: =IFERROR(INDEX(_Datos!D:D,MATCH(32,_Datos!$I:$I,0)),"") | E39: =IFERROR(INDEX(_Datos!E:E,MATCH(32,_Datos!$I:$I,0)),"") | F39: =IFERROR(INDEX(_Datos!F:F,MATCH(32,_Datos!$I:$I,0)),"") | G39: =IFERROR(INDEX(_Datos!G:G,MATCH(32,_Datos!$I:$I,0)),"") | H39: =IFERROR(INDEX(_Datos!H:H,MATCH(32,_Datos!$I:$I,0)),"")
A40: =IFERROR(INDEX(_Datos!A:A,MATCH(33,_Datos!$I:$I,0)),"") | B40: =IFERROR(INDEX(_Datos!B:B,MATCH(33,_Datos!$I:$I,0)),"") | C40: =IFERROR(INDEX(_Datos!C:C,MATCH(33,_Datos!$I:$I,0)),"") | D40: =IFERROR(INDEX(_Datos!D:D,MATCH(33,_Datos!$I:$I,0)),"") | E40: =IFERROR(INDEX(_Datos!E:E,MATCH(33,_Datos!$I:$I,0)),"") | F40: =IFERROR(INDEX(_Datos!F:F,MATCH(33,_Datos!$I:$I,0)),"") | G40: =IFERROR(INDEX(_Datos!G:G,MATCH(33,_Datos!$I:$I,0)),"") | H40: =IFERROR(INDEX(_Datos!H:H,MATCH(33,_Datos!$I:$I,0)),"")
A41: =IFERROR(INDEX(_Datos!A:A,MATCH(34,_Datos!$I:$I,0)),"") | B41: =IFERROR(INDEX(_Datos!B:B,MATCH(34,_Datos!$I:$I,0)),"") | C41: =IFERROR(INDEX(_Datos!C:C,MATCH(34,_Datos!$I:$I,0)),"") | D41: =IFERROR(INDEX(_Datos!D:D,MATCH(34,_Datos!$I:$I,0)),"") | E41: =IFERROR(INDEX(_Datos!E:E,MATCH(34,_Datos!$I:$I,0)),"") | F41: =IFERROR(INDEX(_Datos!F:F,MATCH(34,_Datos!$I:$I,0)),"") | G41: =IFERROR(INDEX(_Datos!G:G,MATCH(34,_Datos!$I:$I,0)),"") | H41: =IFERROR(INDEX(_Datos!H:H,MATCH(34,_Datos!$I:$I,0)),"")
A42: =IFERROR(INDEX(_Datos!A:A,MATCH(35,_Datos!$I:$I,0)),"") | B42: =IFERROR(INDEX(_Datos!B:B,MATCH(35,_Datos!$I:$I,0)),"") | C42: =IFERROR(INDEX(_Datos!C:C,MATCH(35,_Datos!$I:$I,0)),"") | D42: =IFERROR(INDEX(_Datos!D:D,MATCH(35,_Datos!$I:$I,0)),"") | E42: =IFERROR(INDEX(_Datos!E:E,MATCH(35,_Datos!$I:$I,0)),"") | F42: =IFERROR(INDEX(_Datos!F:F,MATCH(35,_Datos!$I:$I,0)),"") | G42: =IFERROR(INDEX(_Datos!G:G,MATCH(35,_Datos!$I:$I,0)),"") | H42: =IFERROR(INDEX(_Datos!H:H,MATCH(35,_Datos!$I:$I,0)),"")
A43: =IFERROR(INDEX(_Datos!A:A,MATCH(36,_Datos!$I:$I,0)),"") | B43: =IFERROR(INDEX(_Datos!B:B,MATCH(36,_Datos!$I:$I,0)),"") | C43: =IFERROR(INDEX(_Datos!C:C,MATCH(36,_Datos!$I:$I,0)),"") | D43: =IFERROR(INDEX(_Datos!D:D,MATCH(36,_Datos!$I:$I,0)),"") | E43: =IFERROR(INDEX(_Datos!E:E,MATCH(36,_Datos!$I:$I,0)),"") | F43: =IFERROR(INDEX(_Datos!F:F,MATCH(36,_Datos!$I:$I,0)),"") | G43: =IFERROR(INDEX(_Datos!G:G,MATCH(36,_Datos!$I:$I,0)),"") | H43: =IFERROR(INDEX(_Datos!H:H,MATCH(36,_Datos!$I:$I,0)),"")
A44: =IFERROR(INDEX(_Datos!A:A,MATCH(37,_Datos!$I:$I,0)),"") | B44: =IFERROR(INDEX(_Datos!B:B,MATCH(37,_Datos!$I:$I,0)),"") | C44: =IFERROR(INDEX(_Datos!C:C,MATCH(37,_Datos!$I:$I,0)),"") | D44: =IFERROR(INDEX(_Datos!D:D,MATCH(37,_Datos!$I:$I,0)),"") | E44: =IFERROR(INDEX(_Datos!E:E,MATCH(37,_Datos!$I:$I,0)),"") | F44: =IFERROR(INDEX(_Datos!F:F,MATCH(37,_Datos!$I:$I,0)),"") | G44: =IFERROR(INDEX(_Datos!G:G,MATCH(37,_Datos!$I:$I,0)),"") | H44: =IFERROR(INDEX(_Datos!H:H,MATCH(37,_Datos!$I:$I,0)),"")
A45: =IFERROR(INDEX(_Datos!A:A,MATCH(38,_Datos!$I:$I,0)),"") | B45: =IFERROR(INDEX(_Datos!B:B,MATCH(38,_Datos!$I:$I,0)),"") | C45: =IFERROR(INDEX(_Datos!C:C,MATCH(38,_Datos!$I:$I,0)),"") | D45: =IFERROR(INDEX(_Datos!D:D,MATCH(38,_Datos!$I:$I,0)),"") | E45: =IFERROR(INDEX(_Datos!E:E,MATCH(38,_Datos!$I:$I,0)),"") | F45: =IFERROR(INDEX(_Datos!F:F,MATCH(38,_Datos!$I:$I,0)),"") | G45: =IFERROR(INDEX(_Datos!G:G,MATCH(38,_Datos!$I:$I,0)),"") | H45: =IFERROR(INDEX(_Datos!H:H,MATCH(38,_Datos!$I:$I,0)),"")
A46: =IFERROR(INDEX(_Datos!A:A,MATCH(39,_Datos!$I:$I,0)),"") | B46: =IFERROR(INDEX(_Datos!B:B,MATCH(39,_Datos!$I:$I,0)),"") | C46: =IFERROR(INDEX(_Datos!C:C,MATCH(39,_Datos!$I:$I,0)),"") | D46: =IFERROR(INDEX(_Datos!D:D,MATCH(39,_Datos!$I:$I,0)),"") | E46: =IFERROR(INDEX(_Datos!E:E,MATCH(39,_Datos!$I:$I,0)),"") | F46: =IFERROR(INDEX(_Datos!F:F,MATCH(39,_Datos!$I:$I,0)),"") | G46: =IFERROR(INDEX(_Datos!G:G,MATCH(39,_Datos!$I:$I,0)),"") | H46: =IFERROR(INDEX(_Datos!H:H,MATCH(39,_Datos!$I:$I,0)),"")
A47: =IFERROR(INDEX(_Datos!A:A,MATCH(40,_Datos!$I:$I,0)),"") | B47: =IFERROR(INDEX(_Datos!B:B,MATCH(40,_Datos!$I:$I,0)),"") | C47: =IFERROR(INDEX(_Datos!C:C,MATCH(40,_Datos!$I:$I,0)),"") | D47: =IFERROR(INDEX(_Datos!D:D,MATCH(40,_Datos!$I:$I,0)),"") | E47: =IFERROR(INDEX(_Datos!E:E,MATCH(40,_Datos!$I:$I,0)),"") | F47: =IFERROR(INDEX(_Datos!F:F,MATCH(40,_Datos!$I:$I,0)),"") | G47: =IFERROR(INDEX(_Datos!G:G,MATCH(40,_Datos!$I:$I,0)),"") | H47: =IFERROR(INDEX(_Datos!H:H,MATCH(40,_Datos!$I:$I,0)),"")
A48: =IFERROR(INDEX(_Datos!A:A,MATCH(41,_Datos!$I:$I,0)),"") | B48: =IFERROR(INDEX(_Datos!B:B,MATCH(41,_Datos!$I:$I,0)),"") | C48: =IFERROR(INDEX(_Datos!C:C,MATCH(41,_Datos!$I:$I,0)),"") | D48: =IFERROR(INDEX(_Datos!D:D,MATCH(41,_Datos!$I:$I,0)),"") | E48: =IFERROR(INDEX(_Datos!E:E,MATCH(41,_Datos!$I:$I,0)),"") | F48: =IFERROR(INDEX(_Datos!F:F,MATCH(41,_Datos!$I:$I,0)),"") | G48: =IFERROR(INDEX(_Datos!G:G,MATCH(41,_Datos!$I:$I,0)),"") | H48: =IFERROR(INDEX(_Datos!H:H,MATCH(41,_Datos!$I:$I,0)),"")
A49: =IFERROR(INDEX(_Datos!A:A,MATCH(42,_Datos!$I:$I,0)),"") | B49: =IFERROR(INDEX(_Datos!B:B,MATCH(42,_Datos!$I:$I,0)),"") | C49: =IFERROR(INDEX(_Datos!C:C,MATCH(42,_Datos!$I:$I,0)),"") | D49: =IFERROR(INDEX(_Datos!D:D,MATCH(42,_Datos!$I:$I,0)),"") | E49: =IFERROR(INDEX(_Datos!E:E,MATCH(42,_Datos!$I:$I,0)),"") | F49: =IFERROR(INDEX(_Datos!F:F,MATCH(42,_Datos!$I:$I,0)),"") | G49: =IFERROR(INDEX(_Datos!G:G,MATCH(42,_Datos!$I:$I,0)),"") | H49: =IFERROR(INDEX(_Datos!H:H,MATCH(42,_Datos!$I:$I,0)),"")
A50: =IFERROR(INDEX(_Datos!A:A,MATCH(43,_Datos!$I:$I,0)),"") | B50: =IFERROR(INDEX(_Datos!B:B,MATCH(43,_Datos!$I:$I,0)),"") | C50: =IFERROR(INDEX(_Datos!C:C,MATCH(43,_Datos!$I:$I,0)),"") | D50: =IFERROR(INDEX(_Datos!D:D,MATCH(43,_Datos!$I:$I,0)),"") | E50: =IFERROR(INDEX(_Datos!E:E,MATCH(43,_Datos!$I:$I,0)),"") | F50: =IFERROR(INDEX(_Datos!F:F,MATCH(43,_Datos!$I:$I,0)),"") | G50: =IFERROR(INDEX(_Datos!G:G,MATCH(43,_Datos!$I:$I,0)),"") | H50: =IFERROR(INDEX(_Datos!H:H,MATCH(43,_Datos!$I:$I,0)),"")
A51: =IFERROR(INDEX(_Datos!A:A,MATCH(44,_Datos!$I:$I,0)),"") | B51: =IFERROR(INDEX(_Datos!B:B,MATCH(44,_Datos!$I:$I,0)),"") | C51: =IFERROR(INDEX(_Datos!C:C,MATCH(44,_Datos!$I:$I,0)),"") | D51: =IFERROR(INDEX(_Datos!D:D,MATCH(44,_Datos!$I:$I,0)),"") | E51: =IFERROR(INDEX(_Datos!E:E,MATCH(44,_Datos!$I:$I,0)),"") | F51: =IFERROR(INDEX(_Datos!F:F,MATCH(44,_Datos!$I:$I,0)),"") | G51: =IFERROR(INDEX(_Datos!G:G,MATCH(44,_Datos!$I:$I,0)),"") | H51: =IFERROR(INDEX(_Datos!H:H,MATCH(44,_Datos!$I:$I,0)),"")
A52: =IFERROR(INDEX(_Datos!A:A,MATCH(45,_Datos!$I:$I,0)),"") | B52: =IFERROR(INDEX(_Datos!B:B,MATCH(45,_Datos!$I:$I,0)),"") | C52: =IFERROR(INDEX(_Datos!C:C,MATCH(45,_Datos!$I:$I,0)),"") | D52: =IFERROR(INDEX(_Datos!D:D,MATCH(45,_Datos!$I:$I,0)),"") | E52: =IFERROR(INDEX(_Datos!E:E,MATCH(45,_Datos!$I:$I,0)),"") | F52: =IFERROR(INDEX(_Datos!F:F,MATCH(45,_Datos!$I:$I,0)),"") | G52: =IFERROR(INDEX(_Datos!G:G,MATCH(45,_Datos!$I:$I,0)),"") | H52: =IFERROR(INDEX(_Datos!H:H,MATCH(45,_Datos!$I:$I,0)),"")
A53: =IFERROR(INDEX(_Datos!A:A,MATCH(46,_Datos!$I:$I,0)),"") | B53: =IFERROR(INDEX(_Datos!B:B,MATCH(46,_Datos!$I:$I,0)),"") | C53: =IFERROR(INDEX(_Datos!C:C,MATCH(46,_Datos!$I:$I,0)),"") | D53: =IFERROR(INDEX(_Datos!D:D,MATCH(46,_Datos!$I:$I,0)),"") | E53: =IFERROR(INDEX(_Datos!E:E,MATCH(46,_Datos!$I:$I,0)),"") | F53: =IFERROR(INDEX(_Datos!F:F,MATCH(46,_Datos!$I:$I,0)),"") | G53: =IFERROR(INDEX(_Datos!G:G,MATCH(46,_Datos!$I:$I,0)),"") | H53: =IFERROR(INDEX(_Datos!H:H,MATCH(46,_Datos!$I:$I,0)),"")
A54: =IFERROR(INDEX(_Datos!A:A,MATCH(47,_Datos!$I:$I,0)),"") | B54: =IFERROR(INDEX(_Datos!B:B,MATCH(47,_Datos!$I:$I,0)),"") | C54: =IFERROR(INDEX(_Datos!C:C,MATCH(47,_Datos!$I:$I,0)),"") | D54: =IFERROR(INDEX(_Datos!D:D,MATCH(47,_Datos!$I:$I,0)),"") | E54: =IFERROR(INDEX(_Datos!E:E,MATCH(47,_Datos!$I:$I,0)),"") | F54: =IFERROR(INDEX(_Datos!F:F,MATCH(47,_Datos!$I:$I,0)),"") | G54: =IFERROR(INDEX(_Datos!G:G,MATCH(47,_Datos!$I:$I,0)),"") | H54: =IFERROR(INDEX(_Datos!H:H,MATCH(47,_Datos!$I:$I,0)),"")
A55: =IFERROR(INDEX(_Datos!A:A,MATCH(48,_Datos!$I:$I,0)),"") | B55: =IFERROR(INDEX(_Datos!B:B,MATCH(48,_Datos!$I:$I,0)),"") | C55: =IFERROR(INDEX(_Datos!C:C,MATCH(48,_Datos!$I:$I,0)),"") | D55: =IFERROR(INDEX(_Datos!D:D,MATCH(48,_Datos!$I:$I,0)),"") | E55: =IFERROR(INDEX(_Datos!E:E,MATCH(48,_Datos!$I:$I,0)),"") | F55: =IFERROR(INDEX(_Datos!F:F,MATCH(48,_Datos!$I:$I,0)),"") | G55: =IFERROR(INDEX(_Datos!G:G,MATCH(48,_Datos!$I:$I,0)),"") | H55: =IFERROR(INDEX(_Datos!H:H,MATCH(48,_Datos!$I:$I,0)),"")
A56: =IFERROR(INDEX(_Datos!A:A,MATCH(49,_Datos!$I:$I,0)),"") | B56: =IFERROR(INDEX(_Datos!B:B,MATCH(49,_Datos!$I:$I,0)),"") | C56: =IFERROR(INDEX(_Datos!C:C,MATCH(49,_Datos!$I:$I,0)),"") | D56: =IFERROR(INDEX(_Datos!D:D,MATCH(49,_Datos!$I:$I,0)),"") | E56: =IFERROR(INDEX(_Datos!E:E,MATCH(49,_Datos!$I:$I,0)),"") | F56: =IFERROR(INDEX(_Datos!F:F,MATCH(49,_Datos!$I:$I,0)),"") | G56: =IFERROR(INDEX(_Datos!G:G,MATCH(49,_Datos!$I:$I,0)),"") | H56: =IFERROR(INDEX(_Datos!H:H,MATCH(49,_Datos!$I:$I,0)),"")
A57: =IFERROR(INDEX(_Datos!A:A,MATCH(50,_Datos!$I:$I,0)),"") | B57: =IFERROR(INDEX(_Datos!B:B,MATCH(50,_Datos!$I:$I,0)),"") | C57: =IFERROR(INDEX(_Datos!C:C,MATCH(50,_Datos!$I:$I,0)),"") | D57: =IFERROR(INDEX(_Datos!D:D,MATCH(50,_Datos!$I:$I,0)),"") | E57: =IFERROR(INDEX(_Datos!E:E,MATCH(50,_Datos!$I:$I,0)),"") | F57: =IFERROR(INDEX(_Datos!F:F,MATCH(50,_Datos!$I:$I,0)),"") | G57: =IFERROR(INDEX(_Datos!G:G,MATCH(50,_Datos!$I:$I,0)),"") | H57: =IFERROR(INDEX(_Datos!H:H,MATCH(50,_Datos!$I:$I,0)),"")
A58: =IFERROR(INDEX(_Datos!A:A,MATCH(51,_Datos!$I:$I,0)),"") | B58: =IFERROR(INDEX(_Datos!B:B,MATCH(51,_Datos!$I:$I,0)),"") | C58: =IFERROR(INDEX(_Datos!C:C,MATCH(51,_Datos!$I:$I,0)),"") | D58: =IFERROR(INDEX(_Datos!D:D,MATCH(51,_Datos!$I:$I,0)),"") | E58: =IFERROR(INDEX(_Datos!E:E,MATCH(51,_Datos!$I:$I,0)),"") | F58: =IFERROR(INDEX(_Datos!F:F,MATCH(51,_Datos!$I:$I,0)),"") | G58: =IFERROR(INDEX(_Datos!G:G,MATCH(51,_Datos!$I:$I,0)),"") | H58: =IFERROR(INDEX(_Datos!H:H,MATCH(51,_Datos!$I:$I,0)),"")
A59: =IFERROR(INDEX(_Datos!A:A,MATCH(52,_Datos!$I:$I,0)),"") | B59: =IFERROR(INDEX(_Datos!B:B,MATCH(52,_Datos!$I:$I,0)),"") | C59: =IFERROR(INDEX(_Datos!C:C,MATCH(52,_Datos!$I:$I,0)),"") | D59: =IFERROR(INDEX(_Datos!D:D,MATCH(52,_Datos!$I:$I,0)),"") | E59: =IFERROR(INDEX(_Datos!E:E,MATCH(52,_Datos!$I:$I,0)),"") | F59: =IFERROR(INDEX(_Datos!F:F,MATCH(52,_Datos!$I:$I,0)),"") | G59: =IFERROR(INDEX(_Datos!G:G,MATCH(52,_Datos!$I:$I,0)),"") | H59: =IFERROR(INDEX(_Datos!H:H,MATCH(52,_Datos!$I:$I,0)),"")
A60: =IFERROR(INDEX(_Datos!A:A,MATCH(53,_Datos!$I:$I,0)),"") | B60: =IFERROR(INDEX(_Datos!B:B,MATCH(53,_Datos!$I:$I,0)),"") | C60: =IFERROR(INDEX(_Datos!C:C,MATCH(53,_Datos!$I:$I,0)),"") | D60: =IFERROR(INDEX(_Datos!D:D,MATCH(53,_Datos!$I:$I,0)),"") | E60: =IFERROR(INDEX(_Datos!E:E,MATCH(53,_Datos!$I:$I,0)),"") | F60: =IFERROR(INDEX(_Datos!F:F,MATCH(53,_Datos!$I:$I,0)),"") | G60: =IFERROR(INDEX(_Datos!G:G,MATCH(53,_Datos!$I:$I,0)),"") | H60: =IFERROR(INDEX(_Datos!H:H,MATCH(53,_Datos!$I:$I,0)),"")
A61: =IFERROR(INDEX(_Datos!A:A,MATCH(54,_Datos!$I:$I,0)),"") | B61: =IFERROR(INDEX(_Datos!B:B,MATCH(54,_Datos!$I:$I,0)),"") | C61: =IFERROR(INDEX(_Datos!C:C,MATCH(54,_Datos!$I:$I,0)),"") | D61: =IFERROR(INDEX(_Datos!D:D,MATCH(54,_Datos!$I:$I,0)),"") | E61: =IFERROR(INDEX(_Datos!E:E,MATCH(54,_Datos!$I:$I,0)),"") | F61: =IFERROR(INDEX(_Datos!F:F,MATCH(54,_Datos!$I:$I,0)),"") | G61: =IFERROR(INDEX(_Datos!G:G,MATCH(54,_Datos!$I:$I,0)),"") | H61: =IFERROR(INDEX(_Datos!H:H,MATCH(54,_Datos!$I:$I,0)),"")
A62: =IFERROR(INDEX(_Datos!A:A,MATCH(55,_Datos!$I:$I,0)),"") | B62: =IFERROR(INDEX(_Datos!B:B,MATCH(55,_Datos!$I:$I,0)),"") | C62: =IFERROR(INDEX(_Datos!C:C,MATCH(55,_Datos!$I:$I,0)),"") | D62: =IFERROR(INDEX(_Datos!D:D,MATCH(55,_Datos!$I:$I,0)),"") | E62: =IFERROR(INDEX(_Datos!E:E,MATCH(55,_Datos!$I:$I,0)),"") | F62: =IFERROR(INDEX(_Datos!F:F,MATCH(55,_Datos!$I:$I,0)),"") | G62: =IFERROR(INDEX(_Datos!G:G,MATCH(55,_Datos!$I:$I,0)),"") | H62: =IFERROR(INDEX(_Datos!H:H,MATCH(55,_Datos!$I:$I,0)),"")
A63: =IFERROR(INDEX(_Datos!A:A,MATCH(56,_Datos!$I:$I,0)),"") | B63: =IFERROR(INDEX(_Datos!B:B,MATCH(56,_Datos!$I:$I,0)),"") | C63: =IFERROR(INDEX(_Datos!C:C,MATCH(56,_Datos!$I:$I,0)),"") | D63: =IFERROR(INDEX(_Datos!D:D,MATCH(56,_Datos!$I:$I,0)),"") | E63: =IFERROR(INDEX(_Datos!E:E,MATCH(56,_Datos!$I:$I,0)),"") | F63: =IFERROR(INDEX(_Datos!F:F,MATCH(56,_Datos!$I:$I,0)),"") | G63: =IFERROR(INDEX(_Datos!G:G,MATCH(56,_Datos!$I:$I,0)),"") | H63: =IFERROR(INDEX(_Datos!H:H,MATCH(56,_Datos!$I:$I,0)),"")
A64: =IFERROR(INDEX(_Datos!A:A,MATCH(57,_Datos!$I:$I,0)),"") | B64: =IFERROR(INDEX(_Datos!B:B,MATCH(57,_Datos!$I:$I,0)),"") | C64: =IFERROR(INDEX(_Datos!C:C,MATCH(57,_Datos!$I:$I,0)),"") | D64: =IFERROR(INDEX(_Datos!D:D,MATCH(57,_Datos!$I:$I,0)),"") | E64: =IFERROR(INDEX(_Datos!E:E,MATCH(57,_Datos!$I:$I,0)),"") | F64: =IFERROR(INDEX(_Datos!F:F,MATCH(57,_Datos!$I:$I,0)),"") | G64: =IFERROR(INDEX(_Datos!G:G,MATCH(57,_Datos!$I:$I,0)),"") | H64: =IFERROR(INDEX(_Datos!H:H,MATCH(57,_Datos!$I:$I,0)),"")
A65: =IFERROR(INDEX(_Datos!A:A,MATCH(58,_Datos!$I:$I,0)),"") | B65: =IFERROR(INDEX(_Datos!B:B,MATCH(58,_Datos!$I:$I,0)),"") | C65: =IFERROR(INDEX(_Datos!C:C,MATCH(58,_Datos!$I:$I,0)),"") | D65: =IFERROR(INDEX(_Datos!D:D,MATCH(58,_Datos!$I:$I,0)),"") | E65: =IFERROR(INDEX(_Datos!E:E,MATCH(58,_Datos!$I:$I,0)),"") | F65: =IFERROR(INDEX(_Datos!F:F,MATCH(58,_Datos!$I:$I,0)),"") | G65: =IFERROR(INDEX(_Datos!G:G,MATCH(58,_Datos!$I:$I,0)),"") | H65: =IFERROR(INDEX(_Datos!H:H,MATCH(58,_Datos!$I:$I,0)),"")
A66: =IFERROR(INDEX(_Datos!A:A,MATCH(59,_Datos!$I:$I,0)),"") | B66: =IFERROR(INDEX(_Datos!B:B,MATCH(59,_Datos!$I:$I,0)),"") | C66: =IFERROR(INDEX(_Datos!C:C,MATCH(59,_Datos!$I:$I,0)),"") | D66: =IFERROR(INDEX(_Datos!D:D,MATCH(59,_Datos!$I:$I,0)),"") | E66: =IFERROR(INDEX(_Datos!E:E,MATCH(59,_Datos!$I:$I,0)),"") | F66: =IFERROR(INDEX(_Datos!F:F,MATCH(59,_Datos!$I:$I,0)),"") | G66: =IFERROR(INDEX(_Datos!G:G,MATCH(59,_Datos!$I:$I,0)),"") | H66: =IFERROR(INDEX(_Datos!H:H,MATCH(59,_Datos!$I:$I,0)),"")
A67: =IFERROR(INDEX(_Datos!A:A,MATCH(60,_Datos!$I:$I,0)),"") | B67: =IFERROR(INDEX(_Datos!B:B,MATCH(60,_Datos!$I:$I,0)),"") | C67: =IFERROR(INDEX(_Datos!C:C,MATCH(60,_Datos!$I:$I,0)),"") | D67: =IFERROR(INDEX(_Datos!D:D,MATCH(60,_Datos!$I:$I,0)),"") | E67: =IFERROR(INDEX(_Datos!E:E,MATCH(60,_Datos!$I:$I,0)),"") | F67: =IFERROR(INDEX(_Datos!F:F,MATCH(60,_Datos!$I:$I,0)),"") | G67: =IFERROR(INDEX(_Datos!G:G,MATCH(60,_Datos!$I:$I,0)),"") | H67: =IFERROR(INDEX(_Datos!H:H,MATCH(60,_Datos!$I:$I,0)),"")
A68: =IFERROR(INDEX(_Datos!A:A,MATCH(61,_Datos!$I:$I,0)),"") | B68: =IFERROR(INDEX(_Datos!B:B,MATCH(61,_Datos!$I:$I,0)),"") | C68: =IFERROR(INDEX(_Datos!C:C,MATCH(61,_Datos!$I:$I,0)),"") | D68: =IFERROR(INDEX(_Datos!D:D,MATCH(61,_Datos!$I:$I,0)),"") | E68: =IFERROR(INDEX(_Datos!E:E,MATCH(61,_Datos!$I:$I,0)),"") | F68: =IFERROR(INDEX(_Datos!F:F,MATCH(61,_Datos!$I:$I,0)),"") | G68: =IFERROR(INDEX(_Datos!G:G,MATCH(61,_Datos!$I:$I,0)),"") | H68: =IFERROR(INDEX(_Datos!H:H,MATCH(61,_Datos!$I:$I,0)),"")
A69: =IFERROR(INDEX(_Datos!A:A,MATCH(62,_Datos!$I:$I,0)),"") | B69: =IFERROR(INDEX(_Datos!B:B,MATCH(62,_Datos!$I:$I,0)),"") | C69: =IFERROR(INDEX(_Datos!C:C,MATCH(62,_Datos!$I:$I,0)),"") | D69: =IFERROR(INDEX(_Datos!D:D,MATCH(62,_Datos!$I:$I,0)),"") | E69: =IFERROR(INDEX(_Datos!E:E,MATCH(62,_Datos!$I:$I,0)),"") | F69: =IFERROR(INDEX(_Datos!F:F,MATCH(62,_Datos!$I:$I,0)),"") | G69: =IFERROR(INDEX(_Datos!G:G,MATCH(62,_Datos!$I:$I,0)),"") | H69: =IFERROR(INDEX(_Datos!H:H,MATCH(62,_Datos!$I:$I,0)),"")
A70: =IFERROR(INDEX(_Datos!A:A,MATCH(63,_Datos!$I:$I,0)),"") | B70: =IFERROR(INDEX(_Datos!B:B,MATCH(63,_Datos!$I:$I,0)),"") | C70: =IFERROR(INDEX(_Datos!C:C,MATCH(63,_Datos!$I:$I,0)),"") | D70: =IFERROR(INDEX(_Datos!D:D,MATCH(63,_Datos!$I:$I,0)),"") | E70: =IFERROR(INDEX(_Datos!E:E,MATCH(63,_Datos!$I:$I,0)),"") | F70: =IFERROR(INDEX(_Datos!F:F,MATCH(63,_Datos!$I:$I,0)),"") | G70: =IFERROR(INDEX(_Datos!G:G,MATCH(63,_Datos!$I:$I,0)),"") | H70: =IFERROR(INDEX(_Datos!H:H,MATCH(63,_Datos!$I:$I,0)),"")
A71: =IFERROR(INDEX(_Datos!A:A,MATCH(64,_Datos!$I:$I,0)),"") | B71: =IFERROR(INDEX(_Datos!B:B,MATCH(64,_Datos!$I:$I,0)),"") | C71: =IFERROR(INDEX(_Datos!C:C,MATCH(64,_Datos!$I:$I,0)),"") | D71: =IFERROR(INDEX(_Datos!D:D,MATCH(64,_Datos!$I:$I,0)),"") | E71: =IFERROR(INDEX(_Datos!E:E,MATCH(64,_Datos!$I:$I,0)),"") | F71: =IFERROR(INDEX(_Datos!F:F,MATCH(64,_Datos!$I:$I,0)),"") | G71: =IFERROR(INDEX(_Datos!G:G,MATCH(64,_Datos!$I:$I,0)),"") | H71: =IFERROR(INDEX(_Datos!H:H,MATCH(64,_Datos!$I:$I,0)),"")
A72: =IFERROR(INDEX(_Datos!A:A,MATCH(65,_Datos!$I:$I,0)),"") | B72: =IFERROR(INDEX(_Datos!B:B,MATCH(65,_Datos!$I:$I,0)),"") | C72: =IFERROR(INDEX(_Datos!C:C,MATCH(65,_Datos!$I:$I,0)),"") | D72: =IFERROR(INDEX(_Datos!D:D,MATCH(65,_Datos!$I:$I,0)),"") | E72: =IFERROR(INDEX(_Datos!E:E,MATCH(65,_Datos!$I:$I,0)),"") | F72: =IFERROR(INDEX(_Datos!F:F,MATCH(65,_Datos!$I:$I,0)),"") | G72: =IFERROR(INDEX(_Datos!G:G,MATCH(65,_Datos!$I:$I,0)),"") | H72: =IFERROR(INDEX(_Datos!H:H,MATCH(65,_Datos!$I:$I,0)),"")
A73: =IFERROR(INDEX(_Datos!A:A,MATCH(66,_Datos!$I:$I,0)),"") | B73: =IFERROR(INDEX(_Datos!B:B,MATCH(66,_Datos!$I:$I,0)),"") | C73: =IFERROR(INDEX(_Datos!C:C,MATCH(66,_Datos!$I:$I,0)),"") | D73: =IFERROR(INDEX(_Datos!D:D,MATCH(66,_Datos!$I:$I,0)),"") | E73: =IFERROR(INDEX(_Datos!E:E,MATCH(66,_Datos!$I:$I,0)),"") | F73: =IFERROR(INDEX(_Datos!F:F,MATCH(66,_Datos!$I:$I,0)),"") | G73: =IFERROR(INDEX(_Datos!G:G,MATCH(66,_Datos!$I:$I,0)),"") | H73: =IFERROR(INDEX(_Datos!H:H,MATCH(66,_Datos!$I:$I,0)),"")
A74: =IFERROR(INDEX(_Datos!A:A,MATCH(67,_Datos!$I:$I,0)),"") | B74: =IFERROR(INDEX(_Datos!B:B,MATCH(67,_Datos!$I:$I,0)),"") | C74: =IFERROR(INDEX(_Datos!C:C,MATCH(67,_Datos!$I:$I,0)),"") | D74: =IFERROR(INDEX(_Datos!D:D,MATCH(67,_Datos!$I:$I,0)),"") | E74: =IFERROR(INDEX(_Datos!E:E,MATCH(67,_Datos!$I:$I,0)),"") | F74: =IFERROR(INDEX(_Datos!F:F,MATCH(67,_Datos!$I:$I,0)),"") | G74: =IFERROR(INDEX(_Datos!G:G,MATCH(67,_Datos!$I:$I,0)),"") | H74: =IFERROR(INDEX(_Datos!H:H,MATCH(67,_Datos!$I:$I,0)),"")
A75: =IFERROR(INDEX(_Datos!A:A,MATCH(68,_Datos!$I:$I,0)),"") | B75: =IFERROR(INDEX(_Datos!B:B,MATCH(68,_Datos!$I:$I,0)),"") | C75: =IFERROR(INDEX(_Datos!C:C,MATCH(68,_Datos!$I:$I,0)),"") | D75: =IFERROR(INDEX(_Datos!D:D,MATCH(68,_Datos!$I:$I,0)),"") | E75: =IFERROR(INDEX(_Datos!E:E,MATCH(68,_Datos!$I:$I,0)),"") | F75: =IFERROR(INDEX(_Datos!F:F,MATCH(68,_Datos!$I:$I,0)),"") | G75: =IFERROR(INDEX(_Datos!G:G,MATCH(68,_Datos!$I:$I,0)),"") | H75: =IFERROR(INDEX(_Datos!H:H,MATCH(68,_Datos!$I:$I,0)),"")
A76: =IFERROR(INDEX(_Datos!A:A,MATCH(69,_Datos!$I:$I,0)),"") | B76: =IFERROR(INDEX(_Datos!B:B,MATCH(69,_Datos!$I:$I,0)),"") | C76: =IFERROR(INDEX(_Datos!C:C,MATCH(69,_Datos!$I:$I,0)),"") | D76: =IFERROR(INDEX(_Datos!D:D,MATCH(69,_Datos!$I:$I,0)),"") | E76: =IFERROR(INDEX(_Datos!E:E,MATCH(69,_Datos!$I:$I,0)),"") | F76: =IFERROR(INDEX(_Datos!F:F,MATCH(69,_Datos!$I:$I,0)),"") | G76: =IFERROR(INDEX(_Datos!G:G,MATCH(69,_Datos!$I:$I,0)),"") | H76: =IFERROR(INDEX(_Datos!H:H,MATCH(69,_Datos!$I:$I,0)),"")
A77: =IFERROR(INDEX(_Datos!A:A,MATCH(70,_Datos!$I:$I,0)),"") | B77: =IFERROR(INDEX(_Datos!B:B,MATCH(70,_Datos!$I:$I,0)),"") | C77: =IFERROR(INDEX(_Datos!C:C,MATCH(70,_Datos!$I:$I,0)),"") | D77: =IFERROR(INDEX(_Datos!D:D,MATCH(70,_Datos!$I:$I,0)),"") | E77: =IFERROR(INDEX(_Datos!E:E,MATCH(70,_Datos!$I:$I,0)),"") | F77: =IFERROR(INDEX(_Datos!F:F,MATCH(70,_Datos!$I:$I,0)),"") | G77: =IFERROR(INDEX(_Datos!G:G,MATCH(70,_Datos!$I:$I,0)),"") | H77: =IFERROR(INDEX(_Datos!H:H,MATCH(70,_Datos!$I:$I,0)),"")
A78: =IFERROR(INDEX(_Datos!A:A,MATCH(71,_Datos!$I:$I,0)),"") | B78: =IFERROR(INDEX(_Datos!B:B,MATCH(71,_Datos!$I:$I,0)),"") | C78: =IFERROR(INDEX(_Datos!C:C,MATCH(71,_Datos!$I:$I,0)),"") | D78: =IFERROR(INDEX(_Datos!D:D,MATCH(71,_Datos!$I:$I,0)),"") | E78: =IFERROR(INDEX(_Datos!E:E,MATCH(71,_Datos!$I:$I,0)),"") | F78: =IFERROR(INDEX(_Datos!F:F,MATCH(71,_Datos!$I:$I,0)),"") | G78: =IFERROR(INDEX(_Datos!G:G,MATCH(71,_Datos!$I:$I,0)),"") | H78: =IFERROR(INDEX(_Datos!H:H,MATCH(71,_Datos!$I:$I,0)),"")
A79: =IFERROR(INDEX(_Datos!A:A,MATCH(72,_Datos!$I:$I,0)),"") | B79: =IFERROR(INDEX(_Datos!B:B,MATCH(72,_Datos!$I:$I,0)),"") | C79: =IFERROR(INDEX(_Datos!C:C,MATCH(72,_Datos!$I:$I,0)),"") | D79: =IFERROR(INDEX(_Datos!D:D,MATCH(72,_Datos!$I:$I,0)),"") | E79: =IFERROR(INDEX(_Datos!E:E,MATCH(72,_Datos!$I:$I,0)),"") | F79: =IFERROR(INDEX(_Datos!F:F,MATCH(72,_Datos!$I:$I,0)),"") | G79: =IFERROR(INDEX(_Datos!G:G,MATCH(72,_Datos!$I:$I,0)),"") | H79: =IFERROR(INDEX(_Datos!H:H,MATCH(72,_Datos!$I:$I,0)),"")
A80: =IFERROR(INDEX(_Datos!A:A,MATCH(73,_Datos!$I:$I,0)),"") | B80: =IFERROR(INDEX(_Datos!B:B,MATCH(73,_Datos!$I:$I,0)),"") | C80: =IFERROR(INDEX(_Datos!C:C,MATCH(73,_Datos!$I:$I,0)),"") | D80: =IFERROR(INDEX(_Datos!D:D,MATCH(73,_Datos!$I:$I,0)),"") | E80: =IFERROR(INDEX(_Datos!E:E,MATCH(73,_Datos!$I:$I,0)),"") | F80: =IFERROR(INDEX(_Datos!F:F,MATCH(73,_Datos!$I:$I,0)),"") | G80: =IFERROR(INDEX(_Datos!G:G,MATCH(73,_Datos!$I:$I,0)),"") | H80: =IFERROR(INDEX(_Datos!H:H,MATCH(73,_Datos!$I:$I,0)),"")
A81: =IFERROR(INDEX(_Datos!A:A,MATCH(74,_Datos!$I:$I,0)),"") | B81: =IFERROR(INDEX(_Datos!B:B,MATCH(74,_Datos!$I:$I,0)),"") | C81: =IFERROR(INDEX(_Datos!C:C,MATCH(74,_Datos!$I:$I,0)),"") | D81: =IFERROR(INDEX(_Datos!D:D,MATCH(74,_Datos!$I:$I,0)),"") | E81: =IFERROR(INDEX(_Datos!E:E,MATCH(74,_Datos!$I:$I,0)),"") | F81: =IFERROR(INDEX(_Datos!F:F,MATCH(74,_Datos!$I:$I,0)),"") | G81: =IFERROR(INDEX(_Datos!G:G,MATCH(74,_Datos!$I:$I,0)),"") | H81: =IFERROR(INDEX(_Datos!H:H,MATCH(74,_Datos!$I:$I,0)),"")
A82: =IFERROR(INDEX(_Datos!A:A,MATCH(75,_Datos!$I:$I,0)),"") | B82: =IFERROR(INDEX(_Datos!B:B,MATCH(75,_Datos!$I:$I,0)),"") | C82: =IFERROR(INDEX(_Datos!C:C,MATCH(75,_Datos!$I:$I,0)),"") | D82: =IFERROR(INDEX(_Datos!D:D,MATCH(75,_Datos!$I:$I,0)),"") | E82: =IFERROR(INDEX(_Datos!E:E,MATCH(75,_Datos!$I:$I,0)),"") | F82: =IFERROR(INDEX(_Datos!F:F,MATCH(75,_Datos!$I:$I,0)),"") | G82: =IFERROR(INDEX(_Datos!G:G,MATCH(75,_Datos!$I:$I,0)),"") | H82: =IFERROR(INDEX(_Datos!H:H,MATCH(75,_Datos!$I:$I,0)),"")
A83: =IFERROR(INDEX(_Datos!A:A,MATCH(76,_Datos!$I:$I,0)),"") | B83: =IFERROR(INDEX(_Datos!B:B,MATCH(76,_Datos!$I:$I,0)),"") | C83: =IFERROR(INDEX(_Datos!C:C,MATCH(76,_Datos!$I:$I,0)),"") | D83: =IFERROR(INDEX(_Datos!D:D,MATCH(76,_Datos!$I:$I,0)),"") | E83: =IFERROR(INDEX(_Datos!E:E,MATCH(76,_Datos!$I:$I,0)),"") | F83: =IFERROR(INDEX(_Datos!F:F,MATCH(76,_Datos!$I:$I,0)),"") | G83: =IFERROR(INDEX(_Datos!G:G,MATCH(76,_Datos!$I:$I,0)),"") | H83: =IFERROR(INDEX(_Datos!H:H,MATCH(76,_Datos!$I:$I,0)),"")
A84: =IFERROR(INDEX(_Datos!A:A,MATCH(77,_Datos!$I:$I,0)),"") | B84: =IFERROR(INDEX(_Datos!B:B,MATCH(77,_Datos!$I:$I,0)),"") | C84: =IFERROR(INDEX(_Datos!C:C,MATCH(77,_Datos!$I:$I,0)),"") | D84: =IFERROR(INDEX(_Datos!D:D,MATCH(77,_Datos!$I:$I,0)),"") | E84: =IFERROR(INDEX(_Datos!E:E,MATCH(77,_Datos!$I:$I,0)),"") | F84: =IFERROR(INDEX(_Datos!F:F,MATCH(77,_Datos!$I:$I,0)),"") | G84: =IFERROR(INDEX(_Datos!G:G,MATCH(77,_Datos!$I:$I,0)),"") | H84: =IFERROR(INDEX(_Datos!H:H,MATCH(77,_Datos!$I:$I,0)),"")
A85: =IFERROR(INDEX(_Datos!A:A,MATCH(78,_Datos!$I:$I,0)),"") | B85: =IFERROR(INDEX(_Datos!B:B,MATCH(78,_Datos!$I:$I,0)),"") | C85: =IFERROR(INDEX(_Datos!C:C,MATCH(78,_Datos!$I:$I,0)),"") | D85: =IFERROR(INDEX(_Datos!D:D,MATCH(78,_Datos!$I:$I,0)),"") | E85: =IFERROR(INDEX(_Datos!E:E,MATCH(78,_Datos!$I:$I,0)),"") | F85: =IFERROR(INDEX(_Datos!F:F,MATCH(78,_Datos!$I:$I,0)),"") | G85: =IFERROR(INDEX(_Datos!G:G,MATCH(78,_Datos!$I:$I,0)),"") | H85: =IFERROR(INDEX(_Datos!H:H,MATCH(78,_Datos!$I:$I,0)),"")
A86: =IFERROR(INDEX(_Datos!A:A,MATCH(79,_Datos!$I:$I,0)),"") | B86: =IFERROR(INDEX(_Datos!B:B,MATCH(79,_Datos!$I:$I,0)),"") | C86: =IFERROR(INDEX(_Datos!C:C,MATCH(79,_Datos!$I:$I,0)),"") | D86: =IFERROR(INDEX(_Datos!D:D,MATCH(79,_Datos!$I:$I,0)),"") | E86: =IFERROR(INDEX(_Datos!E:E,MATCH(79,_Datos!$I:$I,0)),"") | F86: =IFERROR(INDEX(_Datos!F:F,MATCH(79,_Datos!$I:$I,0)),"") | G86: =IFERROR(INDEX(_Datos!G:G,MATCH(79,_Datos!$I:$I,0)),"") | H86: =IFERROR(INDEX(_Datos!H:H,MATCH(79,_Datos!$I:$I,0)),"")
A87: =IFERROR(INDEX(_Datos!A:A,MATCH(80,_Datos!$I:$I,0)),"") | B87: =IFERROR(INDEX(_Datos!B:B,MATCH(80,_Datos!$I:$I,0)),"") | C87: =IFERROR(INDEX(_Datos!C:C,MATCH(80,_Datos!$I:$I,0)),"") | D87: =IFERROR(INDEX(_Datos!D:D,MATCH(80,_Datos!$I:$I,0)),"") | E87: =IFERROR(INDEX(_Datos!E:E,MATCH(80,_Datos!$I:$I,0)),"") | F87: =IFERROR(INDEX(_Datos!F:F,MATCH(80,_Datos!$I:$I,0)),"") | G87: =IFERROR(INDEX(_Datos!G:G,MATCH(80,_Datos!$I:$I,0)),"") | H87: =IFERROR(INDEX(_Datos!H:H,MATCH(80,_Datos!$I:$I,0)),"")
A88: =IFERROR(INDEX(_Datos!A:A,MATCH(81,_Datos!$I:$I,0)),"") | B88: =IFERROR(INDEX(_Datos!B:B,MATCH(81,_Datos!$I:$I,0)),"") | C88: =IFERROR(INDEX(_Datos!C:C,MATCH(81,_Datos!$I:$I,0)),"") | D88: =IFERROR(INDEX(_Datos!D:D,MATCH(81,_Datos!$I:$I,0)),"") | E88: =IFERROR(INDEX(_Datos!E:E,MATCH(81,_Datos!$I:$I,0)),"") | F88: =IFERROR(INDEX(_Datos!F:F,MATCH(81,_Datos!$I:$I,0)),"") | G88: =IFERROR(INDEX(_Datos!G:G,MATCH(81,_Datos!$I:$I,0)),"") | H88: =IFERROR(INDEX(_Datos!H:H,MATCH(81,_Datos!$I:$I,0)),"")
A89: =IFERROR(INDEX(_Datos!A:A,MATCH(82,_Datos!$I:$I,0)),"") | B89: =IFERROR(INDEX(_Datos!B:B,MATCH(82,_Datos!$I:$I,0)),"") | C89: =IFERROR(INDEX(_Datos!C:C,MATCH(82,_Datos!$I:$I,0)),"") | D89: =IFERROR(INDEX(_Datos!D:D,MATCH(82,_Datos!$I:$I,0)),"") | E89: =IFERROR(INDEX(_Datos!E:E,MATCH(82,_Datos!$I:$I,0)),"") | F89: =IFERROR(INDEX(_Datos!F:F,MATCH(82,_Datos!$I:$I,0)),"") | G89: =IFERROR(INDEX(_Datos!G:G,MATCH(82,_Datos!$I:$I,0)),"") | H89: =IFERROR(INDEX(_Datos!H:H,MATCH(82,_Datos!$I:$I,0)),"")
A90: =IFERROR(INDEX(_Datos!A:A,MATCH(83,_Datos!$I:$I,0)),"") | B90: =IFERROR(INDEX(_Datos!B:B,MATCH(83,_Datos!$I:$I,0)),"") | C90: =IFERROR(INDEX(_Datos!C:C,MATCH(83,_Datos!$I:$I,0)),"") | D90: =IFERROR(INDEX(_Datos!D:D,MATCH(83,_Datos!$I:$I,0)),"") | E90: =IFERROR(INDEX(_Datos!E:E,MATCH(83,_Datos!$I:$I,0)),"") | F90: =IFERROR(INDEX(_Datos!F:F,MATCH(83,_Datos!$I:$I,0)),"") | G90: =IFERROR(INDEX(_Datos!G:G,MATCH(83,_Datos!$I:$I,0)),"") | H90: =IFERROR(INDEX(_Datos!H:H,MATCH(83,_Datos!$I:$I,0)),"")
A91: =IFERROR(INDEX(_Datos!A:A,MATCH(84,_Datos!$I:$I,0)),"") | B91: =IFERROR(INDEX(_Datos!B:B,MATCH(84,_Datos!$I:$I,0)),"") | C91: =IFERROR(INDEX(_Datos!C:C,MATCH(84,_Datos!$I:$I,0)),"") | D91: =IFERROR(INDEX(_Datos!D:D,MATCH(84,_Datos!$I:$I,0)),"") | E91: =IFERROR(INDEX(_Datos!E:E,MATCH(84,_Datos!$I:$I,0)),"") | F91: =IFERROR(INDEX(_Datos!F:F,MATCH(84,_Datos!$I:$I,0)),"") | G91: =IFERROR(INDEX(_Datos!G:G,MATCH(84,_Datos!$I:$I,0)),"") | H91: =IFERROR(INDEX(_Datos!H:H,MATCH(84,_Datos!$I:$I,0)),"")
A92: =IFERROR(INDEX(_Datos!A:A,MATCH(85,_Datos!$I:$I,0)),"") | B92: =IFERROR(INDEX(_Datos!B:B,MATCH(85,_Datos!$I:$I,0)),"") | C92: =IFERROR(INDEX(_Datos!C:C,MATCH(85,_Datos!$I:$I,0)),"") | D92: =IFERROR(INDEX(_Datos!D:D,MATCH(85,_Datos!$I:$I,0)),"") | E92: =IFERROR(INDEX(_Datos!E:E,MATCH(85,_Datos!$I:$I,0)),"") | F92: =IFERROR(INDEX(_Datos!F:F,MATCH(85,_Datos!$I:$I,0)),"") | G92: =IFERROR(INDEX(_Datos!G:G,MATCH(85,_Datos!$I:$I,0)),"") | H92: =IFERROR(INDEX(_Datos!H:H,MATCH(85,_Datos!$I:$I,0)),"")
A93: =IFERROR(INDEX(_Datos!A:A,MATCH(86,_Datos!$I:$I,0)),"") | B93: =IFERROR(INDEX(_Datos!B:B,MATCH(86,_Datos!$I:$I,0)),"") | C93: =IFERROR(INDEX(_Datos!C:C,MATCH(86,_Datos!$I:$I,0)),"") | D93: =IFERROR(INDEX(_Datos!D:D,MATCH(86,_Datos!$I:$I,0)),"") | E93: =IFERROR(INDEX(_Datos!E:E,MATCH(86,_Datos!$I:$I,0)),"") | F93: =IFERROR(INDEX(_Datos!F:F,MATCH(86,_Datos!$I:$I,0)),"") | G93: =IFERROR(INDEX(_Datos!G:G,MATCH(86,_Datos!$I:$I,0)),"") | H93: =IFERROR(INDEX(_Datos!H:H,MATCH(86,_Datos!$I:$I,0)),"")
A94: =IFERROR(INDEX(_Datos!A:A,MATCH(87,_Datos!$I:$I,0)),"") | B94: =IFERROR(INDEX(_Datos!B:B,MATCH(87,_Datos!$I:$I,0)),"") | C94: =IFERROR(INDEX(_Datos!C:C,MATCH(87,_Datos!$I:$I,0)),"") | D94: =IFERROR(INDEX(_Datos!D:D,MATCH(87,_Datos!$I:$I,0)),"") | E94: =IFERROR(INDEX(_Datos!E:E,MATCH(87,_Datos!$I:$I,0)),"") | F94: =IFERROR(INDEX(_Datos!F:F,MATCH(87,_Datos!$I:$I,0)),"") | G94: =IFERROR(INDEX(_Datos!G:G,MATCH(87,_Datos!$I:$I,0)),"") | H94: =IFERROR(INDEX(_Datos!H:H,MATCH(87,_Datos!$I:$I,0)),"")
A95: =IFERROR(INDEX(_Datos!A:A,MATCH(88,_Datos!$I:$I,0)),"") | B95: =IFERROR(INDEX(_Datos!B:B,MATCH(88,_Datos!$I:$I,0)),"") | C95: =IFERROR(INDEX(_Datos!C:C,MATCH(88,_Datos!$I:$I,0)),"") | D95: =IFERROR(INDEX(_Datos!D:D,MATCH(88,_Datos!$I:$I,0)),"") | E95: =IFERROR(INDEX(_Datos!E:E,MATCH(88,_Datos!$I:$I,0)),"") | F95: =IFERROR(INDEX(_Datos!F:F,MATCH(88,_Datos!$I:$I,0)),"") | G95: =IFERROR(INDEX(_Datos!G:G,MATCH(88,_Datos!$I:$I,0)),"") | H95: =IFERROR(INDEX(_Datos!H:H,MATCH(88,_Datos!$I:$I,0)),"")
A96: =IFERROR(INDEX(_Datos!A:A,MATCH(89,_Datos!$I:$I,0)),"") | B96: =IFERROR(INDEX(_Datos!B:B,MATCH(89,_Datos!$I:$I,0)),"") | C96: =IFERROR(INDEX(_Datos!C:C,MATCH(89,_Datos!$I:$I,0)),"") | D96: =IFERROR(INDEX(_Datos!D:D,MATCH(89,_Datos!$I:$I,0)),"") | E96: =IFERROR(INDEX(_Datos!E:E,MATCH(89,_Datos!$I:$I,0)),"") | F96: =IFERROR(INDEX(_Datos!F:F,MATCH(89,_Datos!$I:$I,0)),"") | G96: =IFERROR(INDEX(_Datos!G:G,MATCH(89,_Datos!$I:$I,0)),"") | H96: =IFERROR(INDEX(_Datos!H:H,MATCH(89,_Datos!$I:$I,0)),"")
A97: =IFERROR(INDEX(_Datos!A:A,MATCH(90,_Datos!$I:$I,0)),"") | B97: =IFERROR(INDEX(_Datos!B:B,MATCH(90,_Datos!$I:$I,0)),"") | C97: =IFERROR(INDEX(_Datos!C:C,MATCH(90,_Datos!$I:$I,0)),"") | D97: =IFERROR(INDEX(_Datos!D:D,MATCH(90,_Datos!$I:$I,0)),"") | E97: =IFERROR(INDEX(_Datos!E:E,MATCH(90,_Datos!$I:$I,0)),"") | F97: =IFERROR(INDEX(_Datos!F:F,MATCH(90,_Datos!$I:$I,0)),"") | G97: =IFERROR(INDEX(_Datos!G:G,MATCH(90,_Datos!$I:$I,0)),"") | H97: =IFERROR(INDEX(_Datos!H:H,MATCH(90,_Datos!$I:$I,0)),"")
A98: =IFERROR(INDEX(_Datos!A:A,MATCH(91,_Datos!$I:$I,0)),"") | B98: =IFERROR(INDEX(_Datos!B:B,MATCH(91,_Datos!$I:$I,0)),"") | C98: =IFERROR(INDEX(_Datos!C:C,MATCH(91,_Datos!$I:$I,0)),"") | D98: =IFERROR(INDEX(_Datos!D:D,MATCH(91,_Datos!$I:$I,0)),"") | E98: =IFERROR(INDEX(_Datos!E:E,MATCH(91,_Datos!$I:$I,0)),"") | F98: =IFERROR(INDEX(_Datos!F:F,MATCH(91,_Datos!$I:$I,0)),"") | G98: =IFERROR(INDEX(_Datos!G:G,MATCH(91,_Datos!$I:$I,0)),"") | H98: =IFERROR(INDEX(_Datos!H:H,MATCH(91,_Datos!$I:$I,0)),"")
A99: =IFERROR(INDEX(_Datos!A:A,MATCH(92,_Datos!$I:$I,0)),"") | B99: =IFERROR(INDEX(_Datos!B:B,MATCH(92,_Datos!$I:$I,0)),"") | C99: =IFERROR(INDEX(_Datos!C:C,MATCH(92,_Datos!$I:$I,0)),"") | D99: =IFERROR(INDEX(_Datos!D:D,MATCH(92,_Datos!$I:$I,0)),"") | E99: =IFERROR(INDEX(_Datos!E:E,MATCH(92,_Datos!$I:$I,0)),"") | F99: =IFERROR(INDEX(_Datos!F:F,MATCH(92,_Datos!$I:$I,0)),"") | G99: =IFERROR(INDEX(_Datos!G:G,MATCH(92,_Datos!$I:$I,0)),"") | H99: =IFERROR(INDEX(_Datos!H:H,MATCH(92,_Datos!$I:$I,0)),"")
A100: =IFERROR(INDEX(_Datos!A:A,MATCH(93,_Datos!$I:$I,0)),"") | B100: =IFERROR(INDEX(_Datos!B:B,MATCH(93,_Datos!$I:$I,0)),"") | C100: =IFERROR(INDEX(_Datos!C:C,MATCH(93,_Datos!$I:$I,0)),"") | D100: =IFERROR(INDEX(_Datos!D:D,MATCH(93,_Datos!$I:$I,0)),"") | E100: =IFERROR(INDEX(_Datos!E:E,MATCH(93,_Datos!$I:$I,0)),"") | F100: =IFERROR(INDEX(_Datos!F:F,MATCH(93,_Datos!$I:$I,0)),"") | G100: =IFERROR(INDEX(_Datos!G:G,MATCH(93,_Datos!$I:$I,0)),"") | H100: =IFERROR(INDEX(_Datos!H:H,MATCH(93,_Datos!$I:$I,0)),"")
A101: =IFERROR(INDEX(_Datos!A:A,MATCH(94,_Datos!$I:$I,0)),"") | B101: =IFERROR(INDEX(_Datos!B:B,MATCH(94,_Datos!$I:$I,0)),"") | C101: =IFERROR(INDEX(_Datos!C:C,MATCH(94,_Datos!$I:$I,0)),"") | D101: =IFERROR(INDEX(_Datos!D:D,MATCH(94,_Datos!$I:$I,0)),"") | E101: =IFERROR(INDEX(_Datos!E:E,MATCH(94,_Datos!$I:$I,0)),"") | F101: =IFERROR(INDEX(_Datos!F:F,MATCH(94,_Datos!$I:$I,0)),"") | G101: =IFERROR(INDEX(_Datos!G:G,MATCH(94,_Datos!$I:$I,0)),"") | H101: =IFERROR(INDEX(_Datos!H:H,MATCH(94,_Datos!$I:$I,0)),"")
...

Sheet Menú por Categoría
A1: Menú principal - Lista de precios Abril 2026
E2: Roberto
E3: Russell
C5: ➤ IR A RESUMEN COTIZACIÓN
B7: Categoría Madre | C7: Categoría
B8: Conducción de fluidos | C8: PP-RCT | D8: Para acceder al detalle de productos por categoría favor hacer clic sobre el nombre de la categoría.
C9: PP-R
C10: Adhesivos, lubricantes y teflón
C11: PVC Sanitario Gris
C12: PVC Gris Oscuro No Certificado
C13: PVC Colector
C14: PVC Sanitario Blanco
C15: PVC Presión
C16: Instalación Baño y Cocina
C17: PVC Canaletas Techo
C18: Riego
C19: Mangueras
C20: Bombas
B21: Canalización Eléctrica | C21: PVC Conduit
C22: Conduit Libre de Halógeno
C25: Lista Completa (todas las categorías)

Sheet Lista Cliente TOP todos prod.
A1: Volver al menú principal | B1: SISTEMAS HIDRÁULICOS FEBRERO 2026 - LISTA PRECIOS COMPLETA
A2: Categoría Madre | B2: Categoría | C2: Nuevo Grupo SAP | D2: Formato | E2: FOTO | F2: SKU-SH | G2: Descripción SAP 01.26 | H2: UNIDAD MÍNIMA DE VENTA (UNIDADES) | I2: UNIDAD MÍNIMA DE VENTA (FORMATO)
A3: Conducción Fluidos | B3: PP-RCT | C3: TUBO BETA | D3: TB | E3: #VALUE! | F3: 11402 | G3: PP-RCT TUBO 6M 20 PN16 N | H3: 25 | I3: Bolsa
A4: Conducción Fluidos | B4: PP-RCT | C4: TUBO BETA | D4: TB | F4: 11403 | G4: PP-RCT TUBO 6M 25 PN16 N | H4: 20 | I4: Bolsa
A5: Conducción Fluidos | B5: PP-RCT | C5: TUBO BETA | D5: TB | F5: 11404 | G5: PP-RCT TUBO 6M 32 PN16 N | H5: 10 | I5: Bolsa
A6: Conducción Fluidos | B6: PP-RCT | C6: TUBO BETA | D6: TB | F6: 11405 | G6: PP-RCT TUBO 6M 40 PN16 N | H6: 1 | I6: Bolsa
A7: Conducción Fluidos | B7: PP-RCT | C7: TUBO BETA | D7: TB | F7: 11406 | G7: PP-RCT TUBO 6M 50 PN16 N | H7: 1 | I7: Bolsa
A8: Conducción Fluidos | B8: PP-RCT | C8: TUBO BETA | D8: TB | F8: 11407 | G8: PP-RCT TUBO 6M 63 PN16 N | H8: 1 | I8: Bolsa
A9: Conducción Fluidos | B9: PP-RCT | C9: TUBO BETA | D9: TB | F9: 11408 | G9: PP-RCT TUBO 6M 75 PN16 N | H9: 1 | I9: Bolsa
A10: Conducción Fluidos | B10: PP-RCT | C10: TUBO BETA | D10: TB | F10: 11409 | G10: PP-RCT TUBO 6M 90 PN16 N | H10: 1 | I10: Bolsa
A11: Conducción Fluidos | B11: PP-RCT | C11: TUBO BETA | D11: TB | F11: 11410 | G11: PP-RCT TUBO 6M 110 PN16 N | H11: 1 | I11: Bolsa
A12: Conducción Fluidos | B12: PP-R | C12: TUBOS PPR DG | D12: TB | E12: #VALUE! | F12: 12002 | G12: PPR TUBO 6M 20 PN16 N | H12: 25 | I12: Bolsa
A13: Conducción Fluidos | B13: PP-R | C13: TUBOS PPR DG | D13: TB | F13: 12003 | G13: PPR TUBO 6M 25 PN16 N | H13: 20 | I13: Bolsa
A14: Conducción Fluidos | B14: PP-R | C14: TUBOS PPR DG | D14: TB | F14: 12004 | G14: PPR TUBO 6M 32 PN16 N | H14: 10 | I14: Bolsa
A15: Conducción Fluidos | B15: PP-R | C15: TUBOS PPR DG | D15: TB | F15: 12005 | G15: PPR TUBO 6M 40 PN16 N | H15: 1 | I15: Bolsa
A16: Conducción Fluidos | B16: PP-R | C16: TUBOS PPR DG | D16: TB | F16: 12006 | G16: PPR TUBO 6M 50 PN16 N | H16: 1 | I16: Bolsa
A17: Conducción Fluidos | B17: PP-R | C17: TUBOS PPR DG | D17: TB | F17: 12007 | G17: PPR TUBO 6M 63 PN16 N | H17: 1 | I17: Bolsa
A18: Conducción Fluidos | B18: PP-R | C18: TUBOS PPR DG | D18: TB | F18: 12008 | G18: PPR TUBO 6M 75 PN16 N | H18: 1 | I18: Bolsa
A19: Conducción Fluidos | B19: PP-R | C19: TUBOS PPR DG | D19: TB | F19: 12009 | G19: PPR TUBO 6M 90 PN16 N | H19: 1 | I19: Bolsa
A20: Conducción Fluidos | B20: PP-R | C20: TUBOS PPR DG | D20: TB | F20: 12010 | G20: PPR TUBO 6M 110 PN16 N | H20: 1 | I20: Bolsa
A21: Conducción Fluidos | B21: PP-R | C21: TUBOS PPR DG | D21: TB | E21: #VALUE! | F21: 12102 | G21: PPR TUBO 6M 20 PN20 N | H21: 25 | I21: Bolsa
A22: Conducción Fluidos | B22: PP-R | C22: TUBOS PPR DG | D22: TB | F22: 12103 | G22: PPR TUBO 6M 25 PN20 N | H22: 20 | I22: Bolsa
A23: Conducción Fluidos | B23: PP-R | C23: TUBOS PPR DG | D23: TB | F23: 12104 | G23: PPR TUBO 6M 32 PN20 N | H23: 10 | I23: Bolsa
A24: Conducción Fluidos | B24: PP-R | C24: TUBOS PPR DG | D24: TB | F24: 12105 | G24: PPR TUBO 6M 40 PN20 N | H24: 1 | I24: Bolsa
A25: Conducción Fluidos | B25: PP-R | C25: TUBOS PPR DG | D25: TB | F25: 12106 | G25: PPR TUBO 6M 50 PN20 N | H25: 1 | I25: Bolsa
A26: Conducción Fluidos | B26: PP-R | C26: TUBOS PPR DG | D26: TB | F26: 12107 | G26: PPR TUBO 6M 63 PN20 N | H26: 1 | I26: Bolsa
A27: Conducción Fluidos | B27: PP-R | C27: TUBOS PPR DG | D27: TB | F27: 12108 | G27: PPR TUBO 6M 75 PN20 N | H27: 1 | I27: Bolsa
A28: Conducción Fluidos | B28: PP-R | C28: TUBOS PPR DG | D28: TB | F28: 12109 | G28: PPR TUBO 6M 90 PN20 N | H28: 1 | I28: Bolsa
A29: Conducción Fluidos | B29: PP-R | C29: TUBOS PPR DG | D29: TB | F29: 12110 | G29: PPR TUBO 6M 110 PN20 N | H29: 1 | I29: Bolsa
A30: Conducción Fluidos | B30: PP-R | C30: FITTING PPR IMPORTAD | D30: FT | E30: #VALUE! | F30: 331202 | G30: PPR FT CODO 45° 20 I | H30: 40 | I30: Bolsa
A31: Conducción Fluidos | B31: PP-R | C31: FITTING PPR IMPORTAD | D31: FT | F31: 331203 | G31: PPR FT CODO 45° 25 I | H31: 25 | I31: Bolsa
A32: Conducción Fluidos | B32: PP-R | C32: FITTING PPR IMPORTAD | D32: FT | F32: 331204 | G32: PPR FT CODO 45° 32 I | H32: 10 | I32: Bolsa
A33: Conducción Fluidos | B33: PP-R | C33: FITTING PPR IMPORTAD | D33: FT | F33: 331205 | G33: PPR FT CODO 45° 40 I | H33: 10 | I33: Bolsa
A34: Conducción Fluidos | B34: PP-R | C34: FITTING PPR IMPORTAD | D34: FT | F34: 331206 | G34: PPR FT CODO 45° 50 I | H34: 9 | I34: Bolsa
A35: Conducción Fluidos | B35: PP-R | C35: FITTING PPR IMPORTAD | D35: FT | F35: 331207 | G35: PPR FT CODO 45° 63 I | H35: 9 | I35: Bolsa
A36: Conducción Fluidos | B36: PP-R | C36: FITTING PPR IMPORTAD | D36: FT | F36: 331208 | G36: PPR FT CODO 45° 75 I | H36: 6 | I36: Bolsa
A37: Conducción Fluidos | B37: PP-R | C37: FITTING PPR IMPORTAD | D37: FT | F37: 331209 | G37: PPR FT CODO 45° 90 I | H37: 1 | I37: Bolsa
A38: Conducción Fluidos | B38: PP-R | C38: FITTING PPR IMPORTAD | D38: FT | F38: 331210 | G38: PPR FT CODO 45° 110 I | H38: 1 | I38: Bolsa
A39: Conducción Fluidos | B39: PP-R | C39: FITTING PPR IMPORTAD | D39: FT | E39: #VALUE! | F39: 331102 | G39: PPR FT CODO 90° 20 I | H39: 60 | I39: Bolsa
A40: Conducción Fluidos | B40: PP-R | C40: FITTING PPR IMPORTAD | D40: FT | F40: 331103 | G40: PPR FT CODO 90° 25 I | H40: 20 | I40: Bolsa
A41: Conducción Fluidos | B41: PP-R | C41: FITTING PPR IMPORTAD | D41: FT | F41: 331104 | G41: PPR FT CODO 90° 32 I | H41: 20 | I41: Bolsa
A42: Conducción Fluidos | B42: PP-R | C42: FITTING PPR IMPORTAD | D42: FT | F42: 331105 | G42: PPR FT CODO 90° 40 I | H42: 10 | I42: Bolsa
A43: Conducción Fluidos | B43: PP-R | C43: FITTING PPR IMPORTAD | D43: FT | F43: 331106 | G43: PPR FT CODO 90° 50 I | H43: 9 | I43: Bolsa
A44: Conducción Fluidos | B44: PP-R | C44: FITTING PPR IMPORTAD | D44: FT | F44: 331107 | G44: PPR FT CODO 90° 63 I | H44: 6 | I44: Bolsa
A45: Conducción Fluidos | B45: PP-R | C45: FITTING PPR IMPORTAD | D45: FT | F45: 331108 | G45: PPR FT CODO 90° 75 I | H45: 4 | I45: Bolsa
A46: Conducción Fluidos | B46: PP-R | C46: FITTING PPR IMPORTAD | D46: FT | F46: 331109 | G46: PPR FT CODO 90° 90 I | H46: 2 | I46: Bolsa
A47: Conducción Fluidos | B47: PP-R | C47: FITTING PPR IMPORTAD | D47: FT | F47: 331110 | G47: PPR FT CODO 90° 110 I | H47: 1 | I47: Bolsa
A48: Conducción Fluidos | B48: PP-R | C48: FITTING PPR IMPORTAD | D48: FT | E48: #VALUE! | F48: 332302 | G48: PPR FT CODO 90° HE MET 20 1/2' I | H48: 10 | I48: Bolsa
A49: Conducción Fluidos | B49: PP-R | C49: FITTING PPR IMPORTAD | D49: FT | F49: 332308 | G49: PPR FT CODO 90° HE MET 20 3/4' I | H49: 10 | I49: Bolsa
A50: Conducción Fluidos | B50: PP-R | C50: FITTING PPR IMPORTAD | D50: FT | F50: 332303 | G50: PPR FT CODO 90° HE MET 25 1/2' I | H50: 10 | I50: Bolsa
A51: Conducción Fluidos | B51: PP-R | C51: FITTING PPR IMPORTAD | D51: FT | F51: 332304 | G51: PPR FT CODO 90° HE MET 25 3/4' I | H51: 10 | I51: Bolsa
A52: Conducción Fluidos | B52: PP-R | C52: FITTING PPR IMPORTAD | D52: FT | F52: 332306 | G52: PPR FT CODO 90° HE MET 32 1/2' I | H52: 10 | I52: Bolsa
A53: Conducción Fluidos | B53: PP-R | C53: FITTING PPR IMPORTAD | D53: FT | F53: 332307 | G53: PPR FT CODO 90° HE MET 32 3/4' I | H53: 10 | I53: Bolsa
A54: Conducción Fluidos | B54: PP-R | C54: FITTING PPR IMPORTAD | D54: FT | F54: 332305 | G54: PPR FT CODO 90° HE MET 32 1' I | H54: 10 | I54: Bolsa
A55: Conducción Fluidos | B55: PP-R | C55: FITTING PPR IMPORTAD | D55: FT | E55: #VALUE! | F55: 331902 | G55: PPR FT CODO 90° HI MET 20 1/2' I | H55: 10 | I55: Bolsa
A56: Conducción Fluidos | B56: PP-R | C56: FITTING PPR IMPORTAD | D56: FT | F56: 331908 | G56: PPR FT CODO 90° HI MET 20 3/4' I | H56: 10 | I56: Bolsa
A57: Conducción Fluidos | B57: PP-R | C57: FITTING PPR IMPORTAD | D57: FT | F57: 331903 | G57: PPR FT CODO 90° HI MET 25 1/2' I | H57: 10 | I57: Bolsa
A58: Conducción Fluidos | B58: PP-R | C58: FITTING PPR IMPORTAD | D58: FT | F58: 331904 | G58: PPR FT CODO 90° HI MET 25 3/4' I | H58: 10 | I58: Bolsa
A59: Conducción Fluidos | B59: PP-R | C59: FITTING PPR IMPORTAD | D59: FT | F59: 331906 | G59: PPR FT CODO 90° HI MET 32 1/2' I | H59: 10 | I59: Bolsa
A60: Conducción Fluidos | B60: PP-R | C60: FITTING PPR IMPORTAD | D60: FT | F60: 331907 | G60: PPR FT CODO 90° HI MET 32 3/4' I | H60: 10 | I60: Bolsa
A61: Conducción Fluidos | B61: PP-R | C61: FITTING PPR IMPORTAD | D61: FT | F61: 331905 | G61: PPR FT CODO 90° HI MET 32 1' I | H61: 10 | I61: Bolsa
A62: Conducción Fluidos | B62: PP-R | C62: FITTING PPR IMPORTAD | D62: FT | E62: #VALUE! | F62: 331702 | G62: PPR FT CODO RED 25 20 I | H62: 25 | I62: Bolsa
A63: Conducción Fluidos | B63: PP-R | C63: FITTING PPR IMPORTAD | D63: FT | F63: 331703 | G63: PPR FT CODO RED 32 20 I | H63: 20 | I63: Bolsa
A64: Conducción Fluidos | B64: PP-R | C64: FITTING PPR IMPORTAD | D64: FT | F64: 331704 | G64: PPR FT CODO RED 32 25 I | H64: 20 | I64: Bolsa
A65: Conducción Fluidos | B65: PP-R | C65: FITTING PPR IMPORTAD | D65: FT | E65: #VALUE! | F65: 332202 | G65: PPR FT CODO 90° HE MET C/SOP 20 1/2' I | H65: 9 | I65: Bolsa
A66: Conducción Fluidos | B66: PP-R | C66: FITTING PPR IMPORTAD | D66: FT | F66: 332203 | G66: PPR FT CODO 90° HE MET C/SOP 25 1/2' I | H66: 9 | I66: Bolsa
A67: Conducción Fluidos | B67: PP-R | C67: FITTING PPR IMPORTAD | D67: FT | F67: 332204 | G67: PPR FT CODO 90° HE MET C/SOP 25 3/4' I | H67: 9 | I67: Bolsa
A68: Conducción Fluidos | B68: PP-R | C68: FITTING PPR IMPORTAD | D68: FT | E68: #VALUE! | F68: 332002 | G68: PPR FT CODO 90° HI MET C/SOP 20 1/2' I | H68: 10 | I68: Bolsa
A69: Conducción Fluidos | B69: PP-R | C69: FITTING PPR IMPORTAD | D69: FT | F69: 332003 | G69: PPR FT CODO 90° HI MET C/SOP 25 1/2' I | H69: 10 | I69: Bolsa
A70: Conducción Fluidos | B70: PP-R | C70: FITTING PPR IMPORTAD | D70: FT | F70: 332004 | G70: PPR FT CODO 90° HI MET C/SOP 25 3/4' I | H70: 10 | I70: Bolsa
A71: Conducción Fluidos | B71: PP-R | C71: FITTING PPR IMPORTAD | D71: FT | E71: #VALUE! | F71: 332101 | G71: PPR FT CODO 90 HI MET S/DOB 20 1/2' I | H71: 5 | I71: Bolsa
A72: Conducción Fluidos | B72: PP-R | C72: FITTING PPR IMPORTAD | D72: FT | F72: 332102 | G72: PPR FT CODO 90 HI MET S/DOB 25 1/2' I | H72: 5 | I72: Bolsa
A73: Conducción Fluidos | B73: PP-R | C73: FITTING PPR IMPORTAD | D73: FT | E73: #VALUE! | F73: 331402 | G73: PPR FT COPLA 20 I | H73: 50 | I73: Bolsa
A74: Conducción Fluidos | B74: PP-R | C74: FITTING PPR IMPORTAD | D74: FT | F74: 331403 | G74: PPR FT COPLA 25 I | H74: 30 | I74: Bolsa
A75: Conducción Fluidos | B75: PP-R | C75: FITTING PPR IMPORTAD | D75: FT | F75: 331404 | G75: PPR FT COPLA 32 I | H75: 20 | I75: Bolsa
A76: Conducción Fluidos | B76: PP-R | C76: FITTING PPR IMPORTAD | D76: FT | F76: 331405 | G76: PPR FT COPLA 40 I | H76: 10 | I76: Bolsa
A77: Conducción Fluidos | B77: PP-R | C77: FITTING PPR IMPORTAD | D77: FT | F77: 331406 | G77: PPR FT COPLA 50 I | H77: 10 | I77: Bolsa
A78: Conducción Fluidos | B78: PP-R | C78: FITTING PPR IMPORTAD | D78: FT | F78: 331407 | G78: PPR FT COPLA 63 I | H78: 12 | I78: Bolsa
A79: Conducción Fluidos | B79: PP-R | C79: FITTING PPR IMPORTAD | D79: FT | F79: 331408 | G79: PPR FT COPLA 75 I | H79: 5 | I79: Bolsa
A80: Conducción Fluidos | B80: PP-R | C80: FITTING PPR IMPORTAD | D80: FT | F80: 331409 | G80: PPR FT COPLA 90 I | H80: 4 | I80: Bolsa
A81: Conducción Fluidos | B81: PP-R | C81: FITTING PPR IMPORTAD | D81: FT | F81: 331410 | G81: PPR FT COPLA 110 I | H81: 3 | I81: Bolsa
A82: Conducción Fluidos | B82: PP-R | C82: FITTING PPR IMPORTAD | D82: FT | E82: #VALUE! | F82: 338001 | G82: PPR FT COPLA RED 25 x 20 I | H82: 20 | I82: Bolsa
A83: Conducción Fluidos | B83: PP-R | C83: FITTING PPR IMPORTAD | D83: FT | F83: 338002 | G83: PPR FT COPLA RED 32 x 20 I | H83: 20 | I83: Bolsa
A84: Conducción Fluidos | B84: PP-R | C84: FITTING PPR IMPORTAD | D84: FT | F84: 338003 | G84: PPR FT COPLA RED 32 x 25 I | H84: 20 | I84: Bolsa
A85: Conducción Fluidos | B85: PP-R | C85: FITTING PPR IMPORTAD | D85: FT | F85: 338004 | G85: PPR FT COPLA RED 40 x 20 I | H85: 10 | I85: Bolsa
A86: Conducción Fluidos | B86: PP-R | C86: FITTING PPR IMPORTAD | D86: FT | F86: 338005 | G86: PPR FT COPLA RED 40 x 25 I | H86: 10 | I86: Bolsa
A87: Conducción Fluidos | B87: PP-R | C87: FITTING PPR IMPORTAD | D87: FT | F87: 338006 | G87: PPR FT COPLA RED 40 x 32 I | H87: 10 | I87: Bolsa
A88: Conducción Fluidos | B88: PP-R | C88: FITTING PPR IMPORTAD | D88: FT | F88: 338007 | G88: PPR FT COPLA RED 50 x 20 I | H88: 12 | I88: Bolsa
A89: Conducción Fluidos | B89: PP-R | C89: FITTING PPR IMPORTAD | D89: FT | F89: 338008 | G89: PPR FT COPLA RED 50 x 25 I | H89: 12 | I89: Bolsa
A90: Conducción Fluidos | B90: PP-R | C90: FITTING PPR IMPORTAD | D90: FT | F90: 338009 | G90: PPR FT COPLA RED 50 x 32 I | H90: 12 | I90: Bolsa
A91: Conducción Fluidos | B91: PP-R | C91: FITTING PPR IMPORTAD | D91: FT | F91: 338010 | G91: PPR FT COPLA RED 50 x 40 I | H91: 12 | I91: Bolsa
A92: Conducción Fluidos | B92: PP-R | C92: FITTING PPR IMPORTAD | D92: FT | F92: 338011 | G92: PPR FT COPLA RED 63 x 20 I | H92: 12 | I92: Bolsa
A93: Conducción Fluidos | B93: PP-R | C93: FITTING PPR IMPORTAD | D93: FT | F93: 338012 | G93: PPR FT COPLA RED 63 x 25 I | H93: 12 | I93: Bolsa
A94: Conducción Fluidos | B94: PP-R | C94: FITTING PPR IMPORTAD | D94: FT | F94: 338013 | G94: PPR FT COPLA RED 63 x 32 I | H94: 12 | I94: Bolsa
... A109: Conducción Fluidos | B109: PP-R | C109: FITTING PPR IMPORTAD | D109: FT | F109: 338028 | G109: PPR FT COPLA RED 110 x 90 I | H109: 1 | I109: Bolsa
A110: Conducción Fluidos | B110: PP-R | C110: FITTING PPR IMPORTAD | D110: FT | E110: #VALUE! | F110: 331302 | G110: PPR FT TEE 20 x 20 I | H110: 50 | I110: Bolsa
A111: Conducción Fluidos | B111: PP-R | C111: FITTING PPR IMPORTAD | D111: FT | F111: 331303 | G111: PPR FT TEE 25 x 25 I | H111: 20 | I111: Bolsa
A112: Conducción Fluidos | B112: PP-R | C112: FITTING PPR IMPORTAD | D112: FT | F112: 331304 | G112: PPR FT TEE 32 x 32 I | H112: 10 | I112: Bolsa
A113: Conducción Fluidos | B113: PP-R | C113: FITTING PPR IMPORTAD | D113: FT | F113: 331305 | G113: PPR FT TEE 40 x 40 I | H113: 10 | I113: Bolsa
A114: Conducción Fluidos | B114: PP-R | C114: FITTING PPR IMPORTAD | D114: FT | F114: 331306 | G114: PPR FT TEE 50 x 50 I | H114: 10 | I114: Bolsa
...

Sheet PVC Conduit y Libre Halógeno
A1: Volver al menú principal | B1: SISTEMAS HIDRÁULICOS FEBRERO 2026 - LISTA PRECIOS
A2: Categoría Madre | B2: Categoría | C2: Nuevo Grupo SAP | D2: Formato | E2: FOTO | F2: SKU-SH | G2: Descripción SAP 01.26 | H2: UNIDAD MÍNIMA DE VENTA (UNIDADES) | I2: UNIDAD MÍNIMA DE VENTA (FORMATO) | J2: CANTIDAD A COTIZAR
A3: Canalización Eléctrica | B3: PVC CONDUIT | C3: TUBO PVC CONDUIT | D3: TB | E3: #VALUE! | F3: 15301 | G3: PVC CONDUIT TUBO 3M 16 CLASE IV N | H3: 50 | I3: Bolsa
A4: Canalización Eléctrica | B4: PVC CONDUIT | C4: TUBO PVC CONDUIT | D4: TB | F4: 15302 | G4: PVC CONDUIT TUBO 3M 20 CLASE IV N | H4: 20 | I4: Bolsa
A5: Canalización Eléctrica | B5: PVC CONDUIT | C5: TUBO PVC CONDUIT | D5: TB | F5: 15310 | G5: PVC CONDUIT TUBO 3M 25 CLASE III N | H5: 20 | I5: Bolsa
A6: Canalización Eléctrica | B6: PVC CONDUIT | C6: TUBO PVC CONDUIT | D6: TB | F6: 15311 | G6: PVC CONDUIT TUBO 3M 32 CLASE III N | H6: 10 | I6: unitario
A7: Canalización Eléctrica | B7: PVC CONDUIT | C7: TUBO PVC CONDUIT | D7: TB | F7: 15320 | G7: PVC CONDUIT TUBO 3M 40 CLASE II N | H7: 1 | I7: unitario
A8: Canalización Eléctrica | B8: PVC CONDUIT | C8: TUBO PVC CONDUIT | D8: TB | F8: 15321 | G8: PVC CONDUIT TUBO 3M 50 CLASE II N | H8: 1 | I8: unitario
A9: Canalización Eléctrica | B9: PVC CONDUIT | C9: TUBO PVC CONDUIT | D9: TB | F9: 15340 | G9: PVC CONDUIT TUBO 6M 16 CLASE IV N | H9: 25 | I9: Bolsa
A10: Canalización Eléctrica | B10: PVC CONDUIT | C10: TUBO PVC CONDUIT | D10: TB | F10: 15341 | G10: PVC CONDUIT TUBO 6M 20 CLASE IV N | H10: 20 | I10: Bolsa
A11: Canalización Eléctrica | B11: PVC CONDUIT | C11: TUBO PVC CONDUIT | D11: TB | F11: 15350 | G11: PVC CONDUIT TUBO 6M 25 CLASE III N | H11: 20 | I11: Bolsa
A12: Canalización Eléctrica | B12: PVC CONDUIT | C12: TUBO PVC CONDUIT | D12: TB | F12: 15351 | G12: PVC CONDUIT TUBO 6M 32 CLASE III N | H12: 10 | I12: Bolsa
A13: Canalización Eléctrica | B13: PVC CONDUIT | C13: TUBO PVC CONDUIT | D13: TB | F13: 15360 | G13: PVC CONDUIT TUBO 6M 40 CLASE II N | H13: 1 | I13: unitario
A14: Canalización Eléctrica | B14: PVC CONDUIT | C14: TUBO PVC CONDUIT | D14: TB | F14: 15361 | G14: PVC CONDUIT TUBO 6M 50 CLASE II N | H14: 1 | I14: unitario
A15: Canalización Eléctrica | B15: PVC CONDUIT | C15: TUBO PVC CONDUIT CORRUGADO | D15: TB | E15: #VALUE! | F15: 15390 | G15: PVC CONDUIT TUBO CURVABLE 16 4422 FUERTE | H15: 1 | I15: Unitario
A16: Canalización Eléctrica | B16: PVC CONDUIT | C16: TUBO PVC CONDUIT CORRUGADO | D16: TB | F16: 15391 | G16: PVC CONDUIT TUBO CURVABLE 20 4422 FUERTE | H16: 1 | I16: Unitario
A17: Canalización Eléctrica | B17: PVC CONDUIT | C17: TUBO PVC CONDUIT CORRUGADO | D17: TB | F17: 15392 | G17: PVC CONDUIT TUBO CURVABLE 25 4422 FUERTE | H17: 1 | I17: Unitario
A18: Canalización Eléctrica | B18: PVC CONDUIT | C18: FITTING CONDUIT | D18: FT | E18: #VALUE! | F18: 53001 | G18: PVC CONDUIT FT CURVA 90° 16 N | H18: 50 | I18: bolsa
A19: Canalización Eléctrica | B19: PVC CONDUIT | C19: FITTING CONDUIT | D19: FT | F19: 353002 | G19: PVC CONDUIT FT CURVA 90° 20 I | H19: 30 | I19: bolsa
A20: Canalización Eléctrica | B20: PVC CONDUIT | C20: FITTING CONDUIT | D20: FT | F20: 353003 | G20: PVC CONDUIT FT CURVA 90° 25 I | H20: 20 | I20: bolsa
A21: Canalización Eléctrica | B21: PVC CONDUIT | C21: FITTING CONDUIT | D21: FT | F21: 353004 | G21: PVC CONDUIT FT CURVA 90° 32 I | H21: 20 | I21: bolsa
A22: Canalización Eléctrica | B22: PVC CONDUIT | C22: FITTING CONDUIT | D22: FT | E22: #VALUE! | F22: 353101 | G22: PVC CONDUIT FT COPLA 16 I | H22: 50 | I22: bolsa
A23: Canalización Eléctrica | B23: PVC CONDUIT | C23: FITTING CONDUIT | D23: FT | F23: 353102 | G23: PVC CONDUIT FT COPLA 20 I | H23: 50 | I23: bolsa
A24: Canalización Eléctrica | B24: PVC CONDUIT | C24: FITTING CONDUIT | D24: FT | F24: 353103 | G24: PVC CONDUIT FT COPLA 25 I | H24: 20 | I24: bolsa
A25: Canalización Eléctrica | B25: PVC CONDUIT | C25: FITTING CONDUIT | D25: FT | F25: 353104 | G25: PVC CONDUIT FT COPLA 32 I | H25: 10 | I25: bolsa
A26: Canalización Eléctrica | B26: PVC CONDUIT | C26: FITTING CONDUIT | D26: FT | E26: #VALUE! | F26: 353202 | G26: PVC CONDUIT FT TERMINALIN C/TUERCA 20 I | H26: 50 | I26: bolsa
A27: Canalización Eléctrica | B27: PVC CONDUIT | C27: FITTING CONDUIT | D27: FT | F27: 353203 | G27: PVC CONDUIT FT TERMINALIN C/TUERCA 25 I | H27: 20 | I27: bolsa
A28: Canalización Eléctrica | B28: PVC CONDUIT | C28: FITTING CONDUIT | D28: FT | F28: 353204 | G28: PVC CONDUIT FT TERMINALIN C/TUERCA 32 I | H28: 10 | I28: Bolsa
A29: Canalización Eléctrica | B29: PVC CONDUIT | C29: FITTING CONDUIT | D29: FT | E29: #VALUE! | F29: 353501 | G29: SALIDA CAJA CONDUIT 16MM I | H29: 50 | I29: bolsa
A30: Canalización Eléctrica | B30: PVC CONDUIT | C30: FITTING CONDUIT | D30: FT | F30: 353502 | G30: SALIDA CAJA CONDUIT 20MM I | H30: 30 | I30: bolsa
A31: Canalización Eléctrica | B31: PVC CONDUIT | C31: FITTING CONDUIT | D31: FT | F31: 353503 | G31: SALIDA CAJA CONDUIT 25MM I | H31: 28 | I31: bolsa
A32: Canalización Eléctrica | B32: PVC CONDUIT | C32: FITTING CONDUIT | D32: FT | F32: 353504 | G32: SALIDA CAJA CONDUIT 32MM I | H32: 14 | I32: bolsa
A33: Canalización Eléctrica | B33: PVC CONDUIT | C33: FITTING CONDUIT | D33: FT | E33: #VALUE! | F33: 353301 | G33: PVC CONDUIT FT ABRAZADERA 16 I | H33: 50 | I33: bolsa
A34: Canalización Eléctrica | B34: PVC CONDUIT | C34: FITTING CONDUIT | D34: FT | F34: 353302 | G34: PVC CONDUIT FT ABRAZADERA 20 I | H34: 50 | I34: bolsa
A35: Canalización Eléctrica | B35: PVC CONDUIT | C35: FITTING CONDUIT | D35: FT | F35: 353303 | G35: PVC CONDUIT FT ABRAZADERA 25 I | H35: 20 | I35: bolsa
A36: Canalización Eléctrica | B36: PVC CONDUIT | C36: FITTING CONDUIT | D36: FT | F36: 353304 | G36: PVC CONDUIT FT ABRAZADERA 32 I | H36: 10 | I36: bolsa
A37: Canalización Eléctrica | B37: PVC CONDUIT | C37: FITTING CONDUIT | D37: FT | E37: #VALUE! | F37: 53505 | G37: PVC CONDUIT CAMARA REGISTRO 110X20 | H37: 1 | I37: Unitario
A38: Canalización Eléctrica | B38: PVC CONDUIT | C38: FITTING CONDUIT | D38: FT | F38: 53506 | G38: PVC CONDUIT CAMARA REGISTRO 110X25 | H38: 1 | I38: Unitario
A39: Canalización Eléctrica | B39: PVC CONDUIT | C39: CAJAS ELÉCTRICAS CONDUIT | D39: FT | E39: #VALUE! | F39: 53401 | G39: CAJA CONDUIT TABIQUE C/ORE MET 16-20 GRI | H39: 10 | I39: Unitario
A40: Canalización Eléctrica | B40: PVC CONDUIT | C40: CAJAS ELÉCTRICAS CONDUIT | D40: FT | E40: #VALUE! | F40: 53402 | G40: PVC CONDUIT CAJA CORRIENTE 16-20 N GRI | H40: 10 | I40: Unitario
A41: Canalización Eléctrica | B41: PVC CONDUIT | C41: CAJAS ELÉCTRICAS CONDUIT | D41: FT | E41: #VALUE! | F41: 53507 | G41: CAJA CONDUIT TABIQUE C/ORE MET 16-20 NAR | H41: 10 | I41: Unitario
A42: Canalización Eléctrica | B42: PVC CONDUIT | C42: CAJAS ELÉCTRICAS CONDUIT | D42: FT | E42: #VALUE! | F42: 53508 | G42: PVC CONDUIT CAJA CORRIENTE 16-20 N NAR | H42: 10 | I42: Unitario
A43: Canalización Eléctrica | B43: CONDUIT LIBRE HALÓGENO | C43: TUBO CONDUIT LIBRE DE HALOGENO | D43: TB | E43: #VALUE! | F43: 15441 | G43: TUBO LIBRE HALOGENO 3M 20 (750N) MEDIO | H43: 25 | I43: Bolsa
A44: Canalización Eléctrica | B44: CONDUIT LIBRE HALÓGENO | C44: TUBO CONDUIT LIBRE DE HALOGENO | D44: TB | F44: 15442 | G44: TUBO LIBRE HALOGENO 3M 25 (750N) MEDIO | H44: 20 | I44: Bolsa
A45: Canalización Eléctrica | B45: CONDUIT LIBRE HALÓGENO | C45: TUBO CONDUIT LIBRE DE HALOGENO | D45: TB | F45: 15443 | G45: TUBO LIBRE HALOGENO 3M 32 (750N) MEDIO | H45: 10 | I45: Bolsa
A46: Canalización Eléctrica | B46: CONDUIT LIBRE HALÓGENO | C46: TUBO CONDUIT LIBRE DE HALOGENO | D46: TB | E46: #VALUE! | F46: 15451 | G46: TUBO LIBRE HALOGENO 3M 20 (1250N) FUERTE | H46: 25 | I46: Bolsa
A47: Canalización Eléctrica | B47: CONDUIT LIBRE HALÓGENO | C47: TUBO CONDUIT LIBRE DE HALOGENO | D47: TB | F47: 15452 | G47: TUBO LIBRE HALOGENO 3M 25 (1250N) FUERTE | H47: 20 | I47: Bolsa
A48: Canalización Eléctrica | B48: CONDUIT LIBRE HALÓGENO | C48: TUBO CONDUIT LIBRE DE HALOGENO | D48: TB | F48: 15453 | G48: TUBO LIBRE HALOGENO 3M 32 (1250N) FUERTE | H48: 10 | I48: Bolsa
A49: Canalización Eléctrica | B49: CONDUIT LIBRE HALÓGENO | C49: FITTING CONDUIT LIBRE DE HALOGENO | D49: FT | E49: #VALUE! | F49: 54002 | G49: CONDUIT LIBRE HALOGENO FT CODO 90° 20 | H49: 30 | I49: Bolsa
A50: Canalización Eléctrica | B50: CONDUIT LIBRE HALÓGENO | C50: FITTING CONDUIT LIBRE DE HALOGENO | D50: FT | F50: 54003 | G50: CONDUIT LIBRE HALOGENO FT CODO 90° 25 | H50: 15 | I50: Bolsa
A51: Canalización Eléctrica | B51: CONDUIT LIBRE HALÓGENO | C51: FITTING CONDUIT LIBRE DE HALOGENO | D51: FT | F51: 54004 | G51: CONDUIT LIBRE HALOGENO FT CODO 90° 32 | H51: 5 | I51: Bolsa
A52: Canalización Eléctrica | B52: CONDUIT LIBRE HALÓGENO | C52: FITTING CONDUIT LIBRE DE HALOGENO | D52: FT | E52: #VALUE! | F52: 54102 | G52: CONDUIT LIBRE HALOGENO FT COPLA 20 | H52: 20 | I52: Bolsa
A53: Canalización Eléctrica | B53: CONDUIT LIBRE HALÓGENO | C53: FITTING CONDUIT LIBRE DE HALOGENO | D53: FT | F53: 54103 | G53: CONDUIT LIBRE HALOGENO FT COPLA 25 | H53: 20 | I53: Bolsa
A54: Canalización Eléctrica | B54: CONDUIT LIBRE HALÓGENO | C54: FITTING CONDUIT LIBRE DE HALOGENO | D54: FT | F54: 54104 | G54: CONDUIT LIBRE HALOGENO FT COPLA 32 | H54: 20 | I54: Bolsa
A55: Canalización Eléctrica | B55: CONDUIT LIBRE HALÓGENO | C55: FITTING CONDUIT LIBRE DE HALOGENO | D55: FT | E55: #VALUE! | F55: 54202 | G55: CONDUIT LIBRE HALOGENO FT TERMINAL 20 | H55: 20 | I55: Bolsa
A56: Canalización Eléctrica | B56: CONDUIT LIBRE HALÓGENO | C56: FITTING CONDUIT LIBRE DE HALOGENO | D56: FT | F56: 54203 | G56: CONDUIT LIBRE HALOGENO FT TERMINAL 25 | H56: 20 | I56: Bolsa
A57: Canalización Eléctrica | B57: CONDUIT LIBRE HALÓGENO | C57: FITTING CONDUIT LIBRE DE HALOGENO | D57: FT | F57: 54204 | G57: CONDUIT LIBRE HALOGENO FT TERMINAL 32 | H57: 20 | I57: Bolsa
A58: Canalización Eléctrica | B58: CONDUIT LIBRE HALÓGENO | C58: FITTING CONDUIT LIBRE DE HALOGENO | D58: ACC | E58: #VALUE! | F58: 54302 | G58: CONDUIT LIBRE HALOGENO ACC ABRAZADERA 20 | H58: 50 | I58: Bolsa
A59: Canalización Eléctrica | B59: CONDUIT LIBRE HALÓGENO | C59: FITTING CONDUIT LIBRE DE HALOGENO | D59: ACC | F59: 54303 | G59: CONDUIT LIBRE HALOGENO ACC ABRAZADERA 25 | H59: 50 | I59: Bolsa
A60: Canalización Eléctrica | B60: CONDUIT LIBRE HALÓGENO | C60: FITTING CONDUIT LIBRE DE HALOGENO | D60: ACC | F60: 54304 | G60: CONDUIT LIBRE HALOGENO ACC ABRAZADERA 32 | H60: 50 | I60: Bolsa

Sheet PPRCT
A1: Volver al menú principal | B1: SISTEMAS HIDRÁULICOS FEBRERO 2026 - LISTA PRECIOS
A2: Categoría Madre | B2: Categoría | C2: Nuevo Grupo SAP | D2: Formato | E2: FOTO | F2: SKU-SH | G2: Descripción SAP 01.26 | H2: UNIDAD MÍNIMA DE VENTA (UNIDADES) | I2: UNIDAD MÍNIMA DE VENTA (FORMATO) | J2: CANTIDAD A COTIZAR
A3: Conducción Fluidos | B3: PP-RCT | C3: TUBO BETA | D3: TB | E3: #VALUE! | F3: 11402 | G3: PP-RCT TUBO 6M 20 PN16 N | H3: 25 | I3: Bolsa
A4: Conducción Fluidos | B4: PP-RCT | C4: TUBO BETA | D4: TB | F4: 11403 | G4: PP-RCT TUBO 6M 25 PN16 N | H4: 20 | I4: Bolsa
A5: Conducción Fluidos | B5: PP-RCT | C5: TUBO BETA | D5: TB | F5: 11404 | G5: PP-RCT TUBO 6M 32 PN16 N | H5: 10 | I5: Bolsa
A6: Conducción Fluidos | B6: PP-RCT | C6: TUBO BETA | D6: TB | F6: 11405 | G6: PP-RCT TUBO 6M 40 PN16 N | H6: 1 | I6: Bolsa
A7: Conducción Fluidos | B7: PP-RCT | C7: TUBO BETA | D7: TB | F7: 11406 | G7: PP-RCT TUBO 6M 50 PN16 N | H7: 1 | I7: Bolsa
A8: Conducción Fluidos | B8: PP-RCT | C8: TUBO BETA | D8: TB | F8: 11407 | G8: PP-RCT TUBO 6M 63 PN16 N | H8: 1 | I8: Bolsa
A9: Conducción Fluidos | B9: PP-RCT | C9: TUBO BETA | D9: TB | F9: 11408 | G9: PP-RCT TUBO 6M 75 PN16 N | H9: 1 | I9: Bolsa
A10: Conducción Fluidos | B10: PP-RCT | C10: TUBO BETA | D10: TB | F10: 11409 | G10: PP-RCT TUBO 6M 90 PN16 N | H10: 1 | I10: Bolsa
A11: Conducción Fluidos | B11: PP-RCT | C11: TUBO BETA | D11: TB | F11: 11410 | G11: PP-RCT TUBO 6M 110 PN16 N | H11: 1 | I11: Bolsa

Sheet PPR
A1: Volver al menú principal | B1: SISTEMAS HIDRÁULICOS FEBRERO 2026 - LISTA PRECIOS
A2: Categoría Madre | B2: Categoría | C2: Nuevo Grupo SAP | D2: Formato | E2: FOTO | F2: SKU-SH | G2: Descripción SAP 01.26 | H2: UNIDAD MÍNIMA DE VENTA (UNIDADES) | I2: UNIDAD MÍNIMA DE VENTA (FORMATO) | J2: CANTIDAD A COTIZAR
A3: Conducción Fluidos | B3: PP-R | C3: TUBOS PPR DG | D3: TB | E3: #VALUE! | F3: 12002 | G3: PPR TUBO 6M 20 PN16 N | H3: 25 | I3: Bolsa
A4: Conducción Fluidos | B4: PP-R | C4: TUBOS PPR DG | D4: TB | F4: 12003 | G4: PPR TUBO 6M 25 PN16 N | H4: 20 | I4: Bolsa
A5: Conducción Fluidos | B5: PP-R | C5: TUBOS PPR DG | D5: TB | F5: 12004 | G5: PPR TUBO 6M 32 PN16 N | H5: 10 | I5: Bolsa
A6: Conducción Fluidos | B6: PP-R | C6: TUBOS PPR DG | D6: TB | F6: 12005 | G6: PPR TUBO 6M 40 PN16 N | H6: 1 | I6: Bolsa
A7: Conducción Fluidos | B7: PP-R | C7: TUBOS PPR DG | D7: TB | F7: 12006 | G7: PPR TUBO 6M 50 PN16 N | H7: 1 | I7: Bolsa
A8: Conducción Fluidos | B8: PP-R | C8: TUBOS PPR DG | D8: TB | F8: 12007 | G8: PPR TUBO 6M 63 PN16 N | H8: 1 | I8: Bolsa
A9: Conducción Fluidos | B9: PP-R | C9: TUBOS PPR DG | D9: TB | F9: 12008 | G9: PPR TUBO 6M 75 PN16 N | H9: 1 | I9: Bolsa
A10: Conducción Fluidos | B10: PP-R | C10: TUBOS PPR DG | D10: TB | F10: 12009 | G10: PPR TUBO 6M 90 PN16 N | H10: 1 | I10: Bolsa
A11: Conducción Fluidos | B11: PP-R | C11: TUBOS PPR DG | D11: TB | F11: 12010 | G11: PPR TUBO 6M 110 PN16 N | H11: 1 | I11: Bolsa
A12: Conducción Fluidos | B12: PP-R | C12: TUBOS PPR DG | D12: TB | E12: #VALUE! | F12: 12102 | G12: PPR TUBO 6M 20 PN20 N | H12: 25 | I12: Bolsa
A13: Conducción Fluidos | B13: PP-R | C13: TUBOS PPR DG | D13: TB | F13: 12103 | G13: PPR TUBO 6M 25 PN20 N | H13: 20 | I13: Bolsa
A14: Conducción Fluidos | B14: PP-R | C14: TUBOS PPR DG | D14: TB | F14: 12104 | G14: PPR TUBO 6M 32 PN20 N | H14: 10 | I14: Bolsa
A15: Conducción Fluidos | B15: PP-R | C15: TUBOS PPR DG | D15: TB | F15: 12105 | G15: PPR TUBO 6M 40 PN20 N | H15: 1 | I15: Bolsa
A16: Conducción Fluidos | B16: PP-R | C16: TUBOS PPR DG | D16: TB | F16: 12106 | G16: PPR TUBO 6M 50 PN20 N | H16: 1 | I16: Bolsa
A17: Conducción Fluidos | B17: PP-R | C17: TUBOS PPR DG | D17: TB | F17: 12107 | G17: PPR TUBO 6M 63 PN20 N | H17: 1 | I17: Bolsa
A18: Conducción Fluidos | B18: PP-R | C18: TUBOS PPR DG | D18: TB | F18: 12108 | G18: PPR TUBO 6M 75 PN20 N | H18: 1 | I18: Bolsa
A19: Conducción Fluidos | B19: PP-R | C19: TUBOS PPR DG | D19: TB | F19: 12109 | G19: PPR TUBO 6M 90 PN20 N | H19: 1 | I19: Bolsa
A20: Conducción Fluidos | B20: PP-R | C20: TUBOS PPR DG | D20: TB | F20: 12110 | G20: PPR TUBO 6M 110 PN20 N | H20: 1 | I20: Bolsa
A21: Conducción Fluidos | B21: PP-R | C21: FITTING PPR IMPORTAD | D21: FT | E21: #VALUE! | F21: 331202 | G21: PPR FT CODO 45° 20 I | H21: 40 | I21: Bolsa
A22: Conducción Fluidos | B22: PP-R | C22: FITTING PPR IMPORTAD | D22: FT | F22: 331203 | G22: PPR FT CODO 45° 25 I | H22: 25 | I22: Bolsa
A23: Conducción Fluidos | B23: PP-R | C23: FITTING PPR IMPORTAD | D23: FT | F23: 331204 | G23: PPR FT CODO 45° 32 I | H23: 10 | I23: Bolsa
A24: Conducción Fluidos | B24: PP-R | C24: FITTING PPR IMPORTAD | D24: FT | F24: 331205 | G24: PPR FT CODO 45° 40 I | H24: 10 | I24: Bolsa
A25: Conducción Fluidos | B25: PP-R | C25: FITTING PPR IMPORTAD | D25: FT | F25: 331206 | G25: PPR FT CODO 45° 50 I | H25: 9 | I25: Bolsa
A26: Conducción Fluidos | B26: PP-R | C26: FITTING PPR IMPORTAD | D26: FT | F26: 331207 | G26: PPR FT CODO 45° 63 I | H26: 9 | I26: Bolsa
A27: Conducción Fluidos | B27: PP-R | C27: FITTING PPR IMPORTAD | D27: FT | F27: 331208 | G27: PPR FT CODO 45° 75 I | H27: 6 | I27: Bolsa
A28: Conducción Fluidos | B28: PP-R | C28: FITTING PPR IMPORTAD | D28: FT | F28: 331209 | G28: PPR FT CODO 45° 90 I | H28: 1 | I28: Bolsa
A29: Conducción Fluidos | B29: PP-R | C29: FITTING PPR IMPORTAD | D29: FT | F29: 331210 | G29: PPR FT CODO 45° 110 I | H29: 1 | I29: Bolsa
A30: Conducción Fluidos | B30: PP-R | C30: FITTING PPR IMPORTAD | D30: FT | E30: #VALUE! | F30: 331102 | G30: PPR FT CODO 90° 20 I | H30: 60 | I30: Bolsa
A31: Conducción Fluidos | B31: PP-R | C31: FITTING PPR IMPORTAD | D31: FT | F31: 331103 | G31: PPR FT CODO 90° 25 I | H31: 20 | I31: Bolsa
A32: Conducción Fluidos | B32: PP-R | C32: FITTING PPR IMPORTAD | D32: FT | F32: 331104 | G32: PPR FT CODO 90° 32 I | H32: 20 | I32: Bolsa
A33: Conducción Fluidos | B33: PP-R | C33: FITTING PPR IMPORTAD | D33: FT | F33: 331105 | G33: PPR FT CODO 90° 40 I | H33: 10 | I33: Bolsa
A34: Conducción Fluidos | B34: PP-R | C34: FITTING PPR IMPORTAD | D34: FT | F34: 331106 | G34: PPR FT CODO 90° 50 I | H34: 9 | I34: Bolsa
A35: Conducción Fluidos | B35: PP-R | C35: FITTING PPR IMPORTAD | D35: FT | F35: 331107 | G35: PPR FT CODO 90° 63 I | H35: 6 | I35: Bolsa
A36: Conducción Fluidos | B36: PP-R | C36: FITTING PPR IMPORTAD | D36: FT | F36: 331108 | G36: PPR FT CODO 90° 75 I | H36: 4 | I36: Bolsa
A37: Conducción Fluidos | B37: PP-R | C37: FITTING PPR IMPORTAD | D37: FT | F37: 331109 | G37: PPR FT CODO 90° 90 I | H37: 2 | I37: Bolsa
A38: Conducción Fluidos | B38: PP-R | C38: FITTING PPR IMPORTAD | D38: FT | F38: 331110 | G38: PPR FT CODO 90° 110 I | H38: 1 | I38: Bolsa
A39: Conducción Fluidos | B39: PP-R | C39: FITTING PPR IMPORTAD | D39: FT | E39: #VALUE! | F39: 332302 | G39: PPR FT CODO 90° HE MET 20 1/2' I | H39: 10 | I39: Bolsa
A40: Conducción Fluidos | B40: PP-R | C40: FITTING PPR IMPORTAD | D40: FT | F40: 332308 | G40: PPR FT CODO 90° HE MET 20 3/4' I | H40: 10 | I40: Bolsa
A41: Conducción Fluidos | B41: PP-R | C41: FITTING PPR IMPORTAD | D41: FT | F41: 332303 | G41: PPR FT CODO 90° HE MET 25 1/2' I | H41: 10 | I41: Bolsa
A42: Conducción Fluidos | B42: PP-R | C42: FITTING PPR IMPORTAD | D42: FT | F42: 332304 | G42: PPR FT CODO 90° HE MET 25 3/4' I | H42: 10 | I42: Bolsa
A43: Conducción Fluidos | B43: PP-R | C43: FITTING PPR IMPORTAD | D43: FT | F43: 332306 | G43: PPR FT CODO 90° HE MET 32 1/2' I | H43: 10 | I43: Bolsa
A44: Conducción Fluidos | B44: PP-R | C44: FITTING PPR IMPORTAD | D44: FT | F44: 332307 | G44: PPR FT CODO 90° HE MET 32 3/4' I | H44: 10 | I44: Bolsa
A45: Conducción Fluidos | B45: PP-R | C45: FITTING PPR IMPORTAD | D45: FT | F45: 332305 | G45: PPR FT CODO 90° HE MET 32 1' I | H45: 10 | I45: Bolsa
A46: Conducción Fluidos | B46: PP-R | C46: FITTING PPR IMPORTAD | D46: FT | E46: #VALUE! | F46: 331902 | G46: PPR FT CODO 90° HI MET 20 1/2' I | H46: 10 | I46: Bolsa
A47: Conducción Fluidos | B47: PP-R | C47: FITTING PPR IMPORTAD | D47: FT | F47: 331908 | G47: PPR FT CODO 90° HI MET 20 3/4' I | H47: 10 | I47: Bolsa
A48: Conducción Fluidos | B48: PP-R | C48: FITTING PPR IMPORTAD | D48: FT | F48: 331903 | G48: PPR FT CODO 90° HI MET 25 1/2' I | H48: 10 | I48: Bolsa
A49: Conducción Fluidos | B49: PP-R | C49: FITTING PPR IMPORTAD | D49: FT | F49: 331904 | G49: PPR FT CODO 90° HI MET 25 3/4' I | H49: 10 | I49: Bolsa
A50: Conducción Fluidos | B50: PP-R | C50: FITTING PPR IMPORTAD | D50: FT | F50: 331906 | G50: PPR FT CODO 90° HI MET 32 1/2' I | H50: 10 | I50: Bolsa
A51: Conducción Fluidos | B51: PP-R | C51: FITTING PPR IMPORTAD | D51: FT | F51: 331907 | G51: PPR FT CODO 90° HI MET 32 3/4' I | H51: 10 | I51: Bolsa
A52: Conducción Fluidos | B52: PP-R | C52: FITTING PPR IMPORTAD | D52: FT | F52: 331905 | G52: PPR FT CODO 90° HI MET 32 1' I | H52: 10 | I52: Bolsa
A53: Conducción Fluidos | B53: PP-R | C53: FITTING PPR IMPORTAD | D53: FT | E53: #VALUE! | F53: 331702 | G53: PPR FT CODO RED 25 20 I | H53: 25 | I53: Bolsa
A54: Conducción Fluidos | B54: PP-R | C54: FITTING PPR IMPORTAD | D54: FT | F54: 331703 | G54: PPR FT CODO RED 32 20 I | H54: 20 | I54: Bolsa
A55: Conducción Fluidos | B55: PP-R | C55: FITTING PPR IMPORTAD | D55: FT | F55: 331704 | G55: PPR FT CODO RED 32 25 I | H55: 20 | I55: Bolsa
A56: Conducción Fluidos | B56: PP-R | C56: FITTING PPR IMPORTAD | D56: FT | E56: #VALUE! | F56: 332202 | G56: PPR FT CODO 90° HE MET C/SOP 20 1/2' I | H56: 9 | I56: Bolsa
A57: Conducción Fluidos | B57: PP-R | C57: FITTING PPR IMPORTAD | D57: FT | F57: 332203 | G57: PPR FT CODO 90° HE MET C/SOP 25 1/2' I | H57: 9 | I57: Bolsa
A58: Conducción Fluidos | B58: PP-R | C58: FITTING PPR IMPORTAD | D58: FT | F58: 332204 | G58: PPR FT CODO 90° HE MET C/SOP 25 3/4' I | H58: 9 | I58: Bolsa
A59: Conducción Fluidos | B59: PP-R | C59: FITTING PPR IMPORTAD | D59: FT | E59: #VALUE! | F59: 332002 | G59: PPR FT CODO 90° HI MET C/SOP 20 1/2' I | H59: 10 | I59: Bolsa
A60: Conducción Fluidos | B60: PP-R | C60: FITTING PPR IMPORTAD | D60: FT | F60: 332003 | G60: PPR FT CODO 90° HI MET C/SOP 25 1/2' I | H60: 10 | I60: Bolsa
A61: Conducción Fluidos | B61: PP-R | C61: FITTING PPR IMPORTAD | D61: FT | F61: 332004 | G61: PPR FT CODO 90° HI MET C/SOP 25 3/4' I | H61: 10 | I61: Bolsa
A62: Conducción Fluidos | B62: PP-R | C62: FITTING PPR IMPORTAD | D62: FT | E62: #VALUE! | F62: 332101 | G62: PPR FT CODO 90 HI MET S/DOB 20 1/2' I | H62: 5 | I62: Bolsa
A63: Conducción Fluidos | B63: PP-R | C63: FITTING PPR IMPORTAD | D63: FT | F63: 332102 | G63: PPR FT CODO 90 HI MET S/DOB 25 1/2' I | H63: 5 | I63: Bolsa
A64: Conducción Fluidos | B64: PP-R | C64: FITTING PPR IMPORTAD | D64: FT | E64: #VALUE! | F64: 331402 | G64: PPR FT COPLA 20 I | H64: 50 | I64: Bolsa
A65: Conducción Fluidos | B65: PP-R | C65: FITTING PPR IMPORTAD | D65: FT | F65: 331403 | G65: PPR FT COPLA 25 I | H65: 30 | I65: Bolsa
A66: Conducción Fluidos | B66: PP-R | C66: FITTING PPR IMPORTAD | D66: FT | F66: 331404 | G66: PPR FT COPLA 32 I | H66: 20 | I66: Bolsa
A67: Conducción Fluidos | B67: PP-R | C67: FITTING PPR IMPORTAD | D67: FT | F67: 331405 | G67: PPR FT COPLA 40 I | H67: 10 | I67: Bolsa
A68: Conducción Fluidos | B68: PP-R | C68: FITTING PPR IMPORTAD | D68: FT | F68: 331406 | G68: PPR FT COPLA 50 I | H68: 10 | I68: Bolsa
A69: Conducción Fluidos | B69: PP-R | C69: FITTING PPR IMPORTAD | D69: FT | F69: 331407 | G69: PPR FT COPLA 63 I | H69: 12 | I69: Bolsa
A70: Conducción Fluidos | B70: PP-R | C70: FITTING PPR IMPORTAD | D70: FT | F70: 331408 | G70: PPR FT COPLA 75 I | H70: 5 | I70: Bolsa
A71: Conducción Fluidos | B71: PP-R | C71: FITTING PPR IMPORTAD | D71: FT | F71: 331409 | G71: PPR FT COPLA 90 I | H71: 4 | I71: Bolsa
A72: Conducción Fluidos | B72: PP-R | C72: FITTING PPR IMPORTAD | D72: FT | F72: 331410 | G72: PPR FT COPLA 110 I | H72: 3 | I72: Bolsa
A73: Conducción Fluidos | B73: PP-R | C73: FITTING PPR IMPORTAD | D73: FT | E73: #VALUE! | F73: 338001 | G73: PPR FT COPLA RED 25 x 20 I | H73: 20 | I73: Bolsa
A74: Conducción Fluidos | B74: PP-R | C74: FITTING PPR IMPORTAD | D74: FT | F74: 338002 | G74: PPR FT COPLA RED 32 x 20 I | H74: 20 | I74: Bolsa
A75: Conducción Fluidos | B75: PP-R | C75: FITTING PPR IMPORTAD | D75: FT | F75: 338003 | G75: PPR FT COPLA RED 32 x 25 I | H75: 20 | I75: Bolsa
A76: Conducción Fluidos | B76: PP-R | C76: FITTING PPR IMPORTAD | D76: FT | F76: 338004 | G76: PPR FT COPLA RED 40 x 20 I | H76: 10 | I76: Bolsa
A77: Conducción Fluidos | B77: PP-R | C77: FITTING PPR IMPORTAD | D77: FT | F77: 338005 | G77: PPR FT COPLA RED 40 x 25 I | H77: 10 | I77: Bolsa
A78: Conducción Fluidos | B78: PP-R | C78: FITTING PPR IMPORTAD | D78: FT | F78: 338006 | G78: PPR FT COPLA RED 40 x 32 I | H78: 10 | I78: Bolsa
A79: Conducción Fluidos | B79: PP-R | C79: FITTING PPR IMPORTAD | D79: FT | F79: 338007 | G79: PPR FT COPLA RED 50 x 20 I | H79: 12 | I79: Bolsa
A80: Conducción Fluidos | B80: PP-R | C80: FITTING PPR IMPORTAD | D80: FT | F80: 338008 | G80: PPR FT COPLA RED 50 x 25 I | H80: 12 | I80: Bolsa
A81: Conducción Fluidos | B81: PP-R | C81: FITTING PPR IMPORTAD | D81: FT | F81: 338009 | G81: PPR FT COPLA RED 50 x 32 I | H81: 12 | I81: Bolsa
A82: Conducción Fluidos | B82: PP-R | C82: FITTING PPR IMPORTAD | D82: FT | F82: 338010 | G82: PPR FT COPLA RED 50 x 40 I | H82: 12 | I82: Bolsa
A83: Conducción Fluidos | B83: PP-R | C83: FITTING PPR IMPORTAD | D83: FT | F83: 338011 | G83: PPR FT COPLA RED 63 x 20 I | H83: 12 | I83: Bolsa
A84: Conducción Fluidos | B84: PP-R | C84: FITTING PPR IMPORTAD | D84: FT | F84: 338012 | G84: PPR FT COPLA RED 63 x 25 I | H84: 12 | I84: Bolsa
A85: Conducción Fluidos | B85: PP-R | C85: FITTING PPR IMPORTAD | D85: FT | F85: 338013 | G85: PPR FT COPLA RED 63 x 32 I | H85: 12 | I85: Bolsa
... A100: Conducción Fluidos | B100: PP-R | C100: FITTING PPR IMPORTAD | D100: FT | F100: 338028 | G100: PPR FT COPLA RED 110 x 90 I | H100: 1 | I100: Bolsa
A101: Conducción Fluidos | B101: PP-R | C101: FITTING PPR IMPORTAD | D101: FT | E101: #VALUE! | F101: 331302 | G101: PPR FT TEE 20 x 20 I | H101: 50 | I101: Bolsa
A102: Conducción Fluidos | B102: PP-R | C102: FITTING PPR IMPORTAD | D102: FT | F102: 331303 | G102: PPR FT TEE 25 x 25 I | H102: 20 | I102: Bolsa
A103: Conducción Fluidos | B103: PP-R | C103: FITTING PPR IMPORTAD | D103: FT | F103: 331304 | G103: PPR FT TEE 32 x 32 I | H103: 10 | I103: Bolsa
A104: Conducción Fluidos | B104: PP-R | C104: FITTING PPR IMPORTAD | D104: FT | F104: 331305 | G104: PPR FT TEE 40 x 40 I | H104: 10 | I104: Bolsa
A105: Conducción Fluidos | B105: PP-R | C105: FITTING PPR IMPORTAD | D105: FT | F105: 331306 | G105: PPR FT TEE 50 x 50 I | H105: 10 | I105: Bolsa
A106: Conducción Fluidos | B106: PP-R | C106: FITTING PPR IMPORTAD | D106: FT | F106: 331307 | G106: PPR FT TEE 63 x 63 I | H106: 6 | I106: Bolsa
A107: Conducción Fluidos | B107: PP-R | C107: FITTING PPR IMPORTAD | D107: FT | F107: 331308 | G107: PPR FT TEE 75 x 75 I | H107: 4 | I107: Bolsa
A108: Conducción Fluidos | B108: PP-R | C108: FITTING PPR IMPORTAD | D108: FT | F108: 331309 | G108: PPR FT TEE 90 x 90 I | H108: 2 | I108: Bolsa
A109: Conducción Fluidos | B109: PP-R | C109: FITTING PPR IMPORTAD | D109: FT | F109: 331310 | G109: PPR FT TEE 110 x 110 I | H109: 1 | I109: unitario
A110: Conducción Fluidos | B110: PP-R | C110: FITTING PPR IMPORTAD | D110: FT | E110: #VALUE! | F110: 331611 | G110: PPR FT TEE RED 25 x 20 x 25 I | H110: 20 | I110: Bolsa
A111: Conducción Fluidos | B111: PP-R | C111: FITTING PPR | D111: FT | F111: 31649 | G111: PPR FT TEE RED 32 x 20 x 32 N | H111: 15 | I111: Bolsa
A112: Conducción Fluidos | B112: PP-R | C112: FITTING PPR IMPORTAD | D112: FT | F112: 331618 | G112: PPR FT TEE RED 32 x 25 x 32 I | H112: 15 | I112: Bolsa
A113: Conducción Fluidos | B113: PP-R | C113: FITTING PPR IMPORTAD | D113: FT | F113: 331619 | G113: PPR FT TEE RED 40 x 20 x 40 I | H113: 15 | I113: Bolsa
A114: Conducción Fluidos | B114: PP-R | C114: FITTING PPR IMPORTAD | D114: FT | F114: 331621 | G114: PPR FT TEE RED 40 x 25 x 40 I | H114: 10 | I114: Bolsa
...

Sheet Adhes. Lubric Teflón
A1: Volver al menú principal | B1: SISTEMAS HIDRÁULICOS FEBRERO 2026 - LISTA PRECIOS
A2: Categoría Madre | B2: Categoría | C2: Nuevo Grupo SAP | D2: Formato | E2: FOTO | F2: SKU-SH | G2: Descripción SAP 01.26 | H2: UNIDAD MÍNIMA DE VENTA (UNIDADES) | I2: UNIDAD MÍNIMA DE VENTA (FORMATO) | J2: CANTIDAD A COTIZAR
A3: Conducción Fluidos | B3: ADH. LUB. PVC Y TEFLÓN | C3: ADHESIVOS Y LUBRICANTE PVC, TEFLÓN | D3: POMO 20 CC | E3: #VALUE! | F3: 345001 | G3: ADHESIVO PVC TRANSP POMO 20CC S.H | H3: 30 | I3: Caja
A4: Conducción Fluidos | B4: ADH. LUB. PVC Y TEFLÓN | C4: ADHESIVOS Y LUBRICANTE PVC, TEFLÓN | D4: POMO 60 CC | E4: #VALUE! | F4: 345002 | G4: ADHESIVO PVC TRANSP POMO 60CC S.H. | H4: 30 | I4: Caja
A5: Conducción Fluidos | B5: ADH. LUB. PVC Y TEFLÓN | C5: ADHESIVOS Y LUBRICANTE PVC, TEFLÓN | D5: TARRO 118 CC | E5: #VALUE! | F5: 345003 | G5: ADHESIVO PVC TRANSP LATA 118ML S.H. | H5: 24 | I5: Caja
A6: Conducción Fluidos | B6: ADH. LUB. PVC Y TEFLÓN | C6: ADHESIVOS Y LUBRICANTE PVC, TEFLÓN | D6: TARRO 237 CC | E6: #VALUE! | F6: 345004 | G6: ADHESIVO PVC TRANSP LATA 237ML S.H. | H6: 12 | I6: Caja
A7: Conducción Fluidos | B7: ADH. LUB. PVC Y TEFLÓN | C7: ADHESIVOS Y LUBRICANTE PVC, TEFLÓN | D7: TARRO 118 CC | E7: #VALUE! | F7: 345005 | G7: ADHESIVO PVC HUMED LATA 118ML S.H. | H7: 24 | I7: Caja
A8: Conducción Fluidos | B8: ADH. LUB. PVC Y TEFLÓN | C8: ADHESIVOS Y LUBRICANTE PVC, TEFLÓN | D8: TARRO 237 CC | E8: #VALUE! | F8: 345006 | G8: ADHESIVO PVC HUMED LATA 237ML S.H. | H8: 12 | I8: Caja
A9: Conducción Fluidos | B9: ADH. LUB. PVC Y TEFLÓN | C9: ADHESIVOS Y LUBRICANTE PVC, TEFLÓN | D9: LUBRICANTE | E9: #VALUE! | F9: 45038 | G9: LUBRICANTE PVC 1/2 LT | H9: 1 | I9: Unitario
A10: Conducción Fluidos | B10: ADH. LUB. PVC Y TEFLÓN | C10: ADHESIVOS Y LUBRICANTE PVC, TEFLÓN | D10: CIRC. DISPENSADOR | E10: #VALUE! | F10: 44405 | G10: COMP TEFLÓN DOMESTICO 1/2' | H10: 250 | I10: Caja
A11: Conducción Fluidos | B11: ADH. LUB. PVC Y TEFLÓN | C11: ADHESIVOS Y LUBRICANTE PVC, TEFLÓN | D11: CIRC. DISPENSADOR | F11: 44406 | G11: COMP TEFLÓN DOMESTICO 3/4' | H11: 250 | I11: Caja

Sheet PVC Sanit Gris
A1: Volver al menú principal | B1: SISTEMAS HIDRÁULICOS FEBRERO 2026 - LISTA PRECIOS
A2: Categoría Madre | B2: Categoría | C2: Nuevo Grupo SAP | D2: Formato | E2: FOTO | F2: SKU-SH | G2: Descripción SAP 01.26 | H2: UNIDAD MÍNIMA DE VENTA (UNIDADES) | I2: UNIDAD MÍNIMA DE VENTA (FORMATO) | J2: CANTIDAD A COTIZAR
A3: Conducción Fluidos | B3: PVC SANITARIO GRIS | C3: TUBOS SANT GRIS | D3: TB | E3: #VALUE! | F3: 13005NN | G3: PVC SAN GRIS TUBO N.NORMA 6M 40 N | H3: 1 | I3: Unitario
A4: Conducción Fluidos | B4: PVC SANITARIO GRIS | C4: TUBOS SANT GRIS | D4: TB | F4: 13006NN | G4: PVC SAN GRIS TUBO N.NORMA 6M 50 N | H4: 1 | I4: Unitario
A5: Conducción Fluidos | B5: PVC SANITARIO GRIS | C5: TUBOS SANT GRIS | D5: TB | F5: 13008NN | G5: PVC SAN GRIS TUBO N.NORMA 6M 75 N | H5: 1 | I5: Unitario
A6: Conducción Fluidos | B6: PVC SANITARIO GRIS | C6: TUBOS SANT GRIS | D6: TB | F6: 13010NN | G6: PVC SAN GRIS TUBO N.NORMA 6M 110 N | H6: 1 | I6: Unitario
A7: Conducción Fluidos | B7: PVC SANITARIO GRIS | C7: TUBOS SANT GRIS | D7: TB | F7: 13105NN | G7: PVC SAN GRIS TUBO N.NORMA 3M 40 N | H7: 1 | I7: Unitario
A8: Conducción Fluidos | B8: PVC SANITARIO GRIS | C8: TUBOS SANT GRIS | D8: TB | F8: 13106NN | G8: PVC SAN GRIS TUBO N.NORMA 3M 50 N | H8: 1 | I8: Unitario
A9: Conducción Fluidos | B9: PVC SANITARIO GRIS | C9: TUBOS SANT GRIS | D9: TB | F9: 13108NN | G9: PVC SAN GRIS TUBO N.NORMA 3M 75 N | H9: 1 | I9: Unitario
A10: Conducción Fluidos | B10: PVC SANITARIO GRIS | C10: TUBOS SANT GRIS | D10: TB | F10: 13110NN | G10: PVC SAN GRIS TUBO N.NORMA 3M 110 N | H10: 1 | I10: Unitario
A11: Conducción Fluidos | B11: PVC SANITARIO GRIS | C11: TUBOS SANT GRIS | D11: TB | F11: 13205NN | G11: PVC SAN GRIS TUBO N.NORMA 1M 40 N | H11: 10 | I11: Unitario
A12: Conducción Fluidos | B12: PVC SANITARIO GRIS | C12: TUBOS SANT GRIS | D12: TB | F12: 13206NN | G12: PVC SAN GRIS TUBO N.NORMA 1M 50 N | H12: 10 | I12: Unitario
A13: Conducción Fluidos | B13: PVC SANITARIO GRIS | C13: TUBOS SANT GRIS | D13: TB | F13: 13208NN | G13: PVC SAN GRIS TUBO N.NORMA 1M 75 N | H13: 10 | I13: Unitario
A14: Conducción Fluidos | B14: PVC SANITARIO GRIS | C14: TUBOS SANT GRIS | D14: TB | F14: 13210NN | G14: PVC SAN GRIS TUBO N.NORMA 1M 110 N | H14: 5 | I14: Unitario
A15: Conducción Fluidos | B15: PVC SANITARIO GRIS | C15: FITTING SANT GRIS | D15: FT | E15: #VALUE! | F15: 341205 | G15: PVC SAN GRIS FT CODO 45° 40 I | H15: 48 | I15: Caja
A16: Conducción Fluidos | B16: PVC SANITARIO GRIS | C16: FITTING SANT GRIS | D16: FT | F16: 341206 | G16: PVC SAN GRIS FT CODO 45° 50 I | H16: 36 | I16: Caja
A17: Conducción Fluidos | B17: PVC SANITARIO GRIS | C17: FITTING SANT GRIS | D17: FT | F17: 341208 | G17: PVC SAN GRIS FT CODO 45° 75 I | H17: 18 | I17: Caja
A18: Conducción Fluidos | B18: PVC SANITARIO GRIS | C18: FITTING SANT GRIS | D18: FT | F18: 341210 | G18: PVC SAN GRIS FT CODO 45° 110 I | H18: 10 | I18: Caja
A19: Conducción Fluidos | B19: PVC SANITARIO GRIS | C19: FITTING SANT GRIS | D19: FT | E19: #VALUE! | F19: 341105 | G19: PVC SAN GRIS FT CODO 87,5° 40 I | H19: 36 | I19: Caja
A20: Conducción Fluidos | B20: PVC SANITARIO GRIS | C20: FITTING SANT GRIS | D20: FT | F20: 341106 | G20: PVC SAN GRIS FT CODO 87,5° 50 I | H20: 30 | I20: Caja
A21: Conducción Fluidos | B21: PVC SANITARIO GRIS | C21: FITTING SANT GRIS | D21: FT | F21: 341108 | G21: PVC SAN GRIS FT CODO 87,5° 75 I | H21: 30 | I21: Caja
A22: Conducción Fluidos | B22: PVC SANITARIO GRIS | C22: FITTING SANT GRIS | D22: FT | F22: 341110 | G22: PVC SAN GRIS FT CODO 87,5° 110 I | H22: 12 | I22: Caja
A23: Conducción Fluidos | B23: PVC SANITARIO GRIS | C23: FITTING SANT GRIS | D23: FT | E23: #VALUE! | F23: 341405 | G23: PVC SAN GRIS FT COPLA 40 I | H23: 30 | I23: Caja
A24: Conducción Fluidos | B24: PVC SANITARIO GRIS | C24: FITTING SANT GRIS | D24: FT | F24: 341406 | G24: PVC SAN GRIS FT COPLA 50 I | H24: 24 | I24: Caja
A25: Conducción Fluidos | B25: PVC SANITARIO GRIS | C25: FITTING SANT GRIS | D25: FT | F25: 341408 | G25: PVC SAN GRIS FT COPLA 75 I | H25: 20 | I25: Caja
A26: Conducción Fluidos | B26: PVC SANITARIO GRIS | C26: FITTING SANT GRIS | D26: FT | F26: 341410 | G26: PVC SAN GRIS FT COPLA 110 I | H26: 10 | I26: Caja
A27: Conducción Fluidos | B27: PVC SANITARIO GRIS | C27: FITTING SANT GRIS | D27: FT | E27: #VALUE! | F27: 341005 | G27: PVC SAN GRIS FT COPLA RED 50 40 I | H27: 50 | I27: Caja
A28: Conducción Fluidos | B28: PVC SANITARIO GRIS | C28: FITTING SANT GRIS | D28: FT | F28: 341006 | G28: PVC SAN GRIS FT COPLA RED 75 50 I | H28: 30 | I28: Caja
A29: Conducción Fluidos | B29: PVC SANITARIO GRIS | C29: FITTING SANT GRIS | D29: FT | F29: 341008 | G29: PVC SAN GRIS FT COPLA RED 110 50 I | H29: 20 | I29: Caja
A30: Conducción Fluidos | B30: PVC SANITARIO GRIS | C30: FITTING SANT GRIS | D30: FT | F30: 341010 | G30: PVC SAN GRIS FT COPLA RED 110 75 I | H30: 12 | I30: Caja
A31: Conducción Fluidos | B31: PVC SANITARIO GRIS | C31: FITTING SANT GRIS | D31: FT | E31: #VALUE! | F31: 341505 | G31: PVC SAN GRIS FT TAPA 40 I | H31: 20 | I31: Caja
A32: Conducción Fluidos | B32: PVC SANITARIO GRIS | C32: FITTING SANT GRIS | D32: FT | F32: 341506 | G32: PVC SAN GRIS FT TAPA 50 I | H32: 20 | I32: Caja
A33: Conducción Fluidos | B33: PVC SANITARIO GRIS | C33: FITTING SANT GRIS | D33: FT | F33: 341508 | G33: PVC SAN GRIS FT TAPA 75 I | H33: 10 | I33: Caja
A34: Conducción Fluidos | B34: PVC SANITARIO GRIS | C34: FITTING SANT GRIS | D34: FT | F34: 341510 | G34: PVC SAN GRIS FT TAPA 110 I | H34: 6 | I34: Caja
A35: Conducción Fluidos | B35: PVC SANITARIO GRIS | C35: FITTING SANT GRIS | D35: FT | E35: #VALUE! | F35: 341305 | G35: PVC SAN GRIS FT TEE 40 40 I | H35: 18 | I35: Caja
A36: Conducción Fluidos | B36: PVC SANITARIO GRIS | C36: FITTING SANT GRIS | D36: FT | F36: 341306 | G36: PVC SAN GRIS FT TEE 50 50 I | H36: 10 | I36: Caja
A37: Conducción Fluidos | B37: PVC SANITARIO GRIS | C37: FITTING SANT GRIS | D37: FT | F37: 341308 | G37: PVC SAN GRIS FT TEE 75 75 I | H37: 9 | I37: Caja
A38: Conducción Fluidos | B38: PVC SANITARIO GRIS | C38: FITTING SANT GRIS | D38: FT | F38: 341310 | G38: PVC SAN GRIS FT TEE 110 110 I | H38: 6 | I38: Caja
A39: Conducción Fluidos | B39: PVC SANITARIO GRIS | C39: FITTING SANT GRIS | D39: FT | E39: #VALUE! | F39: 41312 | G39: PVC SAN GRIS FT TEE RED 75 40 N | H39: 18 | I39: Caja
A40: Conducción Fluidos | B40: PVC SANITARIO GRIS | C40: FITTING SANT GRIS | D40: FT | F40: 341313 | G40: PVC SAN GRIS FT TEE RED 75 50 I | H40: 24 | I40: Caja
A41: Conducción Fluidos | B41: PVC SANITARIO GRIS | C41: FITTING SANT GRIS | D41: FT | F41: 341314 | G41: PVC SAN GRIS FT TEE RED 110 40 I | H41: 18 | I41: Caja
A42: Conducción Fluidos | B42: PVC SANITARIO GRIS | C42: FITTING SANT GRIS | D42: FT | F42: 341315 | G42: PVC SAN GRIS FT TEE RED 110 50 I | H42: 9 | I42: Caja
A43: Conducción Fluidos | B43: PVC SANITARIO GRIS | C43: FITTING SANT GRIS | D43: FT | F43: 341316 | G43: PVC SAN GRIS FT TEE RED 110 75 I | H43: 9 | I43: Caja
A44: Conducción Fluidos | B44: PVC SANITARIO GRIS | C44: FITTING SANT GRIS | D44: FT | E44: #VALUE! | F44: 41608 | G44: PVC SAN GRIS FT TEE REG 75 N | H44: 1 | I44: Caja
A45: Conducción Fluidos | B45: PVC SANITARIO GRIS | C45: FITTING SANT GRIS | D45: FT | F45: 41610 | G45: PVC SAN GRIS FT TEE REG 110 N | H45: 1 | I45: Caja
A46: Conducción Fluidos | B46: PVC SANITARIO GRIS | C46: FITTING SANT GRIS | D46: FT | E46: #VALUE! | F46: 341705 | G46: PVC SAN GRIS FT VEE 40 40 I | H46: 18 | I46: Caja
A47: Conducción Fluidos | B47: PVC SANITARIO GRIS | C47: FITTING SANT GRIS | D47: FT | F47: 341706 | G47: PVC SAN GRIS FT VEE 50 50 I | H47: 18 | I47: Caja
A48: Conducción Fluidos | B48: PVC SANITARIO GRIS | C48: FITTING SANT GRIS | D48: FT | F48: 341708 | G48: PVC SAN GRIS FT VEE 75 75 I | H48: 12 | I48: Caja
A49: Conducción Fluidos | B49: PVC SANITARIO GRIS | C49: FITTING SANT GRIS | D49: FT | F49: 341710 | G49: PVC SAN GRIS FT VEE 110 110 I | H49: 10 | I49: Caja
A50: Conducción Fluidos | B50: PVC SANITARIO GRIS | C50: FITTING SANT GRIS | D50: FT | E50: #VALUE! | F50: 41712 | G50: PVC SAN GRIS FT VEE RED 75 40 N | H50: 15 | I50: Caja
A51: Conducción Fluidos | B51: PVC SANITARIO GRIS | C51: FITTING SANT GRIS | D51: FT | F51: 341713 | G51: PVC SAN GRIS FT VEE RED 75 50 I | H51: 15 | I51: Caja
A52: Conducción Fluidos | B52: PVC SANITARIO GRIS | C52: FITTING SANT GRIS | D52: FT | F52: 341714 | G52: PVC SAN GRIS FT VEE RED 110 40 I | H52: 15 | I52: Caja
A53: Conducción Fluidos | B53: PVC SANITARIO GRIS | C53: FITTING SANT GRIS | D53: FT | F53: 341715 | G53: PVC SAN GRIS FT VEE RED 110 50 I | H53: 15 | I53: Caja
A54: Conducción Fluidos | B54: PVC SANITARIO GRIS | C54: FITTING SANT GRIS | D54: FT | F54: 341716 | G54: PVC SAN GRIS FT VEE RED 110 75 I | H54: 10 | I54: Caja
A55: Conducción Fluidos | B55: PVC SANITARIO GRIS | C55: FITTING SANT GRIS | D55: FT | E55: #VALUE! | F55: 41805 | G55: PVC SAN GRIS ACC ABRAZADERA 40 N | H55: 10 | I55: Bolsa
A56: Conducción Fluidos | B56: PVC SANITARIO GRIS | C56: FITTING SANT GRIS | D56: FT | F56: 41806 | G56: PVC SAN GRIS ACC ABRAZADERA 50 N | H56: 10 | I56: Bolsa
A57: Conducción Fluidos | B57: PVC SANITARIO GRIS | C57: FITTING SANT GRIS | D57: FT | F57: 41808 | G57: PVC SAN GRIS ACC ABRAZADERA 75 N | H57: 10 | I57: Bolsa
A58: Conducción Fluidos | B58: PVC SANITARIO GRIS | C58: FITTING SANT GRIS | D58: FT | F58: 41810 | G58: PVC SAN GRIS ACC ABRAZADERA 110 N | H58: 10 | I58: Bolsa
A59: Conducción Fluidos | B59: PVC SANITARIO GRIS | C59: PILETAS SANT GRIS | D59: PILETAS | E59: #VALUE! | F59: 41901 | G59: PVC SAN GRIS ACC PILETA 110 50/40 . N | H59: 4 | I59: Unitario
A60: Conducción Fluidos | B60: PVC SANITARIO GRIS | C60: PILETAS SANT GRIS | D60: PILETAS | E60: #VALUE! | F60: 41902 | G60: PVC SAN GRIS ACC PILETA 110 UNIVERSAL N | H60: 4 | I60: Unitario
A61: Conducción Fluidos | B61: PVC SANITARIO GRIS | C61: PILETAS SANT GRIS | D61: PILETAS | E61: #VALUE! | F61: 41903 | G61: PVC SAN GRIS ACC REJILLA REP PILETA N | H61: 10 | I61: Bolsa

Sheet PVC Gris Oscuro No Certif.
A1: Volver al menú principal | B1: SISTEMAS HIDRÁULICOS FEBRERO 2026 - LISTA PRECIOS
A2: Categoría Madre | B2: Categoría | C2: Nuevo Grupo SAP | D2: Formato | E2: FOTO | F2: SKU-SH | G2: Descripción SAP 01.26 | H2: UNIDAD MÍNIMA DE VENTA (UNIDADES) | I2: UNIDAD MÍNIMA DE VENTA (FORMATO) | J2: CANTIDAD A COTIZAR
A3: Conducción Fluidos | B3: TUBERÍA PLUVIAL EXT. GRIS OSCURO NO CERT. | C3: TUBO OTROS | D3: TB | E3: #VALUE! | F3: 13305 | G3: PVC GRIS OSC TUBO 6M PLUV EXT N.C. 40 | H3: 1 | I3: Unitario
A4: Conducción Fluidos | B4: TUBERÍA PLUVIAL EXT. GRIS OSCURO NO CERT. | C4: TUBO OTROS | D4: TB | F4: 13306 | G4: PVC GRIS OSC TUBO 6M PLUV EXT N.C. 50 | H4: 1 | I4: Unitario
A5: Conducción Fluidos | B5: TUBERÍA PLUVIAL EXT. GRIS OSCURO NO CERT. | C5: TUBO OTROS | D5: TB | F5: 13308 | G5: PVC GRIS OSC TUBO 6M PLUV EXT N.C. 75 | H5: 1 | I5: Unitario
A6: Conducción Fluidos | B6: TUBERÍA PLUVIAL EXT. GRIS OSCURO NO CERT. | C6: TUBO OTROS | D6: TB | F6: 13310 | G6: PVC GRIS OSC TUBO 6M PLUV EXT N.C. 110 | H6: 1 | I6: Unitario
A7: Conducción Fluidos | B7: TUBERÍA PLUVIAL EXT. GRIS OSCURO NO CERT. | C7: TUBO OTROS | D7: TB | F7: 13405 | G7: PVC GRIS OS TUBO 3M PLUV EXT N.C. 40 *AP | H7: 1 | I7: Unitario
A8: Conducción Fluidos | B8: TUBERÍA PLUVIAL EXT. GRIS OSCURO NO CERT. | C8: TUBO OTROS | D8: TB | F8: 13406 | G8: PVC GRIS OS TUBO 3M PLUV EXT N.C. 50 *AP | H8: 1 | I8: Unitario
A9: Conducción Fluidos | B9: TUBERÍA PLUVIAL EXT. GRIS OSCURO NO CERT. | C9: TUBO OTROS | D9: TB | F9: 13408 | G9: PVC GRIS OS TUBO 3M PLUV EXT N.C. 75 *AP | H9: 1 | I9: Unitario
A10: Conducción Fluidos | B10: TUBERÍA PLUVIAL EXT. GRIS OSCURO NO CERT. | C10: TUBO OTROS | D10: TB | F10: 13410 | G10: PVC GRIS OS TUBO 3M PLUV EXT N.C. 110*AP | H10: 1 | I10: Unitario
A11: Conducción Fluidos | B11: TUBERÍA PLUVIAL EXT. GRIS OSCURO NO CERT. | C11: TUBO OTROS | D11: TB | F11: 13505 | G11: PVC GRIS OS TUBO 1M PLUV EXT N.C. 40 *AP | H11: 1 | I11: Unitario
A12: Conducción Fluidos | B12: TUBERÍA PLUVIAL EXT. GRIS OSCURO NO CERT. | C12: TUBO OTROS | D12: TB | F12: 13506 | G12: PVC GRIS OS TUBO 1M PLUV EXT N.C. 50 *AP | H12: 1 | I12: Unitario
A13: Conducción Fluidos | B13: TUBERÍA PLUVIAL EXT. GRIS OSCURO NO CERT. | C13: TUBO OTROS | D13: TB | F13: 13508 | G13: PVC GRIS OS TUBO 1M PLUV EXT N.C. 75 *AP | H13: 1 | I13: Unitario
A14: Conducción Fluidos | B14: TUBERÍA PLUVIAL EXT. GRIS OSCURO NO CERT. | C14: TUBO OTROS | D14: TB | F14: 13510 | G14: PVC GRIS OS TUBO 1M PLUV EX N.C. 110 *AP | H14: 1 | I14: Unitario

Sheet PVC Colector
A1: Volver al menú principal | B1: SISTEMAS HIDRÁULICOS FEBRERO 2026 - LISTA PRECIOS
A2: Categoría Madre | B2: Categoría | C2: Nuevo Grupo SAP | D2: Formato | E2: FOTO | F2: SKU-SH | G2: Descripción SAP 01.26 | H2: UNIDAD MÍNIMA DE VENTA (UNIDADES) | I2: UNIDAD MÍNIMA DE VENTA (FORMATO) | J2: CANTIDAD A COTIZAR
A3: Conducción Fluidos | B3: TUBO COLECTOR SN2 HASTA SN8 | C3: TUBERÍA PVC COLECTOR | D3: TB | E3: #VALUE! | F3: 99101 | G3: TUBO COLECTOR 200 X 6MTS SN2 *AP | H3: 1 | I3: Unitario
A4: Conducción Fluidos | B4: TUBO COLECTOR SN2 HASTA SN8 | C4: TUBERÍA PVC COLECTOR | D4: TB | F4: 99102 | G4: TUBO COLECTOR 250 X 6MTS SN2 *AP | H4: 1 | I4: Unitario
A5: Conducción Fluidos | B5: TUBO COLECTOR SN2 HASTA SN8 | C5: TUBERÍA PVC COLECTOR | D5: TB | F5: 99103 | G5: TUBO COLECTOR 160 X 6MTS SN4 *AP | H5: 1 | I5: Unitario
A6: Conducción Fluidos | B6: TUBO COLECTOR SN2 HASTA SN8 | C6: TUBERÍA PVC COLECTOR | D6: TB | F6: 99104 | G6: TUBO COLECTOR 200 X 6MTS SN4 *AP | H6: 1 | I6: Unitario
A7: Conducción Fluidos | B7: TUBO COLECTOR SN2 HASTA SN8 | C7: TUBERÍA PVC COLECTOR | D7: TB | F7: 99105 | G7: TUBO COLECTOR 250 X 6MTS SN4 *AP | H7: 1 | I7: Unitario
A8: Conducción Fluidos | B8: TUBO COLECTOR SN2 HASTA SN8 | C8: TUBERÍA PVC COLECTOR | D8: TB | F8: 99106 | G8: TUBO COLECTOR 110 X 6MTS SN8 *AP | H8: 1 | I8: Unitario
A9: Conducción Fluidos | B9: TUBO COLECTOR SN2 HASTA SN8 | C9: TUBERÍA PVC COLECTOR | D9: TB | F9: 99107 | G9: TUBO COLECTOR 160 X 6MTS SN8 *AP | H9: 1 | I9: Unitario
A10: Conducción Fluidos | B10: TUBO COLECTOR SN2 HASTA SN8 | C10: TUBERÍA PVC COLECTOR | D10: TB | F10: 99108 | G10: TUBO COLECTOR 200 X 6MTS SN8 *AP | H10: 1 | I10: Unitario
A11: Conducción Fluidos | B11: TUBO COLECTOR SN2 HASTA SN8 | C11: TUBERÍA PVC COLECTOR | D11: TB | F11: 99110 | G11: TUBO COLECTOR 250 X 6MTS SN8 *AP | H11: 1 | I11: Unitario

Sheet PVC Sanit Blanco
A1: Volver al menú principal | B1: SISTEMAS HIDRÁULICOS FEBRERO 2026 - LISTA PRECIOS
A2: Categoría Madre | B2: Categoría | C2: Nuevo Grupo SAP | D2: Formato | E2: FOTO | F2: SKU-SH | G2: Descripción SAP 01.26 | H2: UNIDAD MÍNIMA DE VENTA (UNIDADES) | I2: UNIDAD MÍNIMA DE VENTA (FORMATO) | J2: CANTIDAD A COTIZAR
A3: Conducción Fluidos | B3: PVC SANITARIO BLANCO | C3: TUBOS SANT BLANCO | D3: TB | E3: #VALUE! | F3: 14005NN | G3: PVC SAN BLCO TUBO N.NORMA 6M 40 N | H3: 1 | I3: Unitario
A4: Conducción Fluidos | B4: PVC SANITARIO BLANCO | C4: TUBOS SANT BLANCO | D4: TB | F4: 14006NN | G4: PVC SAN BLCO TUBO N.NORMA 6M 50 N | H4: 1 | I4: Unitario
A5: Conducción Fluidos | B5: PVC SANITARIO BLANCO | C5: TUBOS SANT BLANCO | D5: TB | F5: 14008NN | G5: PVC SAN BLCO TUBO N.NORMA 6M 75 N | H5: 1 | I5: Unitario
A6: Conducción Fluidos | B6: PVC SANITARIO BLANCO | C6: TUBOS SANT BLANCO | D6: TB | F6: 14010NN | G6: PVC SAN BLCO TUBO N.NORMA 6M 110 N | H6: 1 | I6: Unitario
A7: Conducción Fluidos | B7: PVC SANITARIO BLANCO | C7: TUBOS SANT BLANCO | D7: TB | F7: 14016NN | G7: PVC SAN BLCO TUBO N.NORMA 6M 160 N | H7: 1 | I7: Unitario
A8: Conducción Fluidos | B8: PVC SANITARIO BLANCO | C8: FITTING SANT BLANCO | D8: FT | E8: #VALUE! | F8: 342205 | G8: PVC SAN BLCO FT CODO 45° 40 I | H8: 1 | I8: Unitario
A9: Conducción Fluidos | B9: PVC SANITARIO BLANCO | C9: FITTING SANT BLANCO | D9: FT | F9: 342206 | G9: PVC SAN BLCO FT CODO 45° 50 I | H9: 1 | I9: Unitario
A10: Conducción Fluidos | B10: PVC SANITARIO BLANCO | C10: FITTING SANT BLANCO | D10: FT | F10: 342208 | G10: PVC SAN BLCO FT CODO 45° 75 I | H10: 1 | I10: Unitario
A11: Conducción Fluidos | B11: PVC SANITARIO BLANCO | C11: FITTING SANT BLANCO | D11: FT | F11: 342210 | G11: PVC SAN BLCO FT CODO 45° 110 I | H11: 1 | I11: Unitario
A12: Conducción Fluidos | B12: PVC SANITARIO BLANCO | C12: FITTING SANT BLANCO | D12: FT | F12: 342216 | G12: PVC SAN BLCO FT CODO 45° 160 I | H12: 1 | I12: Unitario
A13: Conducción Fluidos | B13: PVC SANITARIO BLANCO | C13: FITTING SANT BLANCO | D13: FT | E13: #VALUE! | F13: 342105 | G13: PVC SAN BLCO FT CODO 87,5° 40 I | H13: 1 | I13: Unitario
A14: Conducción Fluidos | B14: PVC SANITARIO BLANCO | C14: FITTING SANT BLANCO | D14: FT | F14: 342106 | G14: PVC SAN BLCO FT CODO 87,5° 50 I | H14: 1 | I14: Unitario
A15: Conducción Fluidos | B15: PVC SANITARIO BLANCO | C15: FITTING SANT BLANCO | D15: FT | F15: 342108 | G15: PVC SAN BLCO FT CODO 87,5° 75 I | H15: 1 | I15: Unitario
A16: Conducción Fluidos | B16: PVC SANITARIO BLANCO | C16: FITTING SANT BLANCO | D16: FT | F16: 342110 | G16: PVC SAN BLCO FT CODO 87,5° 110 I | H16: 1 | I16: Unitario
A17: Conducción Fluidos | B17: PVC SANITARIO BLANCO | C17: FITTING SANT BLANCO | D17: FT | F17: 342116 | G17: PVC SAN BLCO FT CODO 87,5° 160 I | H17: 1 | I17: Unitario
A18: Conducción Fluidos | B18: PVC SANITARIO BLANCO | C18: FITTING SANT BLANCO | D18: FT | E18: #VALUE! | F18: 342910 | G18: PVC SAN BLCO FT CODO REG 110 I | H18: 1 | I18: Unitario
A19: Conducción Fluidos | B19: PVC SANITARIO BLANCO | C19: FITTING SANT BLANCO | D19: FT | E19: #VALUE! | F19: 342911 | G19: PVC SAN BLCO CODO REGIST DOBLE ORING 110 | H19: 1 | I19: Unitario
A20: Conducción Fluidos | B20: PVC SANITARIO BLANCO | C20: FITTING SANT BLANCO | D20: FT | F20: 342916 | G20: PVC SAN BLCO CODO REGIST DOBLE ORING 160 | H20: 1 | I20: Unitario
A21: Conducción Fluidos | B21: PVC SANITARIO BLANCO | C21: FITTING SANT BLANCO | D21: FT | E21: #VALUE! | F21: 42405 | G21: PVC SAN BLCO FT COPLA 40 N | H21: 1 | I21: Unitario
A22: Conducción Fluidos | B22: PVC SANITARIO BLANCO | C22: FITTING SANT BLANCO | D22: FT | F22: 342406 | G22: PVC SAN BLCO FT COPLA 50 I | H22: 1 | I22: Unitario
A23: Conducción Fluidos | B23: PVC SANITARIO BLANCO | C23: FITTING SANT BLANCO | D23: FT | F23: 342408 | G23: PVC SAN BLCO FT COPLA 75 I | H23: 1 | I23: Unitario
A24: Conducción Fluidos | B24: PVC SANITARIO BLANCO | C24: FITTING SANT BLANCO | D24: FT | F24: 342410 | G24: PVC SAN BLCO FT COPLA 110 I | H24: 1 | I24: Unitario
A25: Conducción Fluidos | B25: PVC SANITARIO BLANCO | C25: FITTING SANT BLANCO | D25: FT | F25: 342416 | G25: PVC SAN BLCO FT COPLA 160 I | H25: 1 | I25: Unitario
A26: Conducción Fluidos | B26: PVC SANITARIO BLANCO | C26: FITTING SANT BLANCO | D26: FT | E26: #VALUE! | F26: 42810 | G26: PVC SAN BLCO FT COPLA REP 110 N | H26: 1 | I26: Unitario
A27: Conducción Fluidos | B27: PVC SANITARIO BLANCO | C27: FITTING SANT BLANCO | D27: FT | F27: 42816 | G27: PVC SAN BLCO FT COPLA REP 160 N | H27: 1 | I27: Unitario
A28: Conducción Fluidos | B28: PVC SANITARIO BLANCO | C28: FITTING SANT BLANCO | D28: FT | E28: #VALUE! | F28: 42305 | G28: PVC SAN BLCO FT TEE 40 40 N | H28: 1 | I28: Unitario
A29: Conducción Fluidos | B29: PVC SANITARIO BLANCO | C29: FITTING SANT BLANCO | D29: FT | F29: 342306 | G29: PVC SAN BLCO FT TEE 50 50 I | H29: 1 | I29: Unitario
A30: Conducción Fluidos | B30: PVC SANITARIO BLANCO | C30: FITTING SANT BLANCO | D30: FT | F30: 342308 | G30: PVC SAN BLCO FT TEE 75 75 I | H30: 1 | I30: Unitario
A31: Conducción Fluidos | B31: PVC SANITARIO BLANCO | C31: FITTING SANT BLANCO | D31: FT | F31: 342310 | G31: PVC SAN BLCO FT TEE 110 110 I | H31: 1 | I31: Unitario
A32: Conducción Fluidos | B32: PVC SANITARIO BLANCO | C32: FITTING SANT BLANCO | D32: FT | F32: 342318 | G32: PVC SAN BLCO FT TEE 160 160 I | H32: 1 | I32: Unitario
A33: Conducción Fluidos | B33: PVC SANITARIO BLANCO | C33: FITTING SANT BLANCO | D33: FT | E33: #VALUE! | F33: 42312 | G33: PVC SAN BLCO FT TEE RED 75 40 N | H33: 1 | I33: Unitario
A34: Conducción Fluidos | B34: PVC SANITARIO BLANCO | C34: FITTING SANT BLANCO | D34: FT | F34: 342313 | G34: PVC SAN BLCO FT TEE RED 75 50 I | H34: 1 | I34: Unitario
A35: Conducción Fluidos | B35: PVC SANITARIO BLANCO | C35: FITTING SANT BLANCO | D35: FT | F35: 342314 | G35: PVC SAN BLCO FT TEE RED 110 40 I | H35: 1 | I35: Unitario
A36: Conducción Fluidos | B36: PVC SANITARIO BLANCO | C36: FITTING SANT BLANCO | D36: FT | F36: 342315 | G36: PVC SAN BLCO FT TEE RED 110 50 I | H36: 1 | I36: Unitario
A37: Conducción Fluidos | B37: PVC SANITARIO BLANCO | C37: FITTING SANT BLANCO | D37: FT | F37: 342316 | G37: PVC SAN BLCO FT TEE RED 110 75 I | H37: 1 | I37: Unitario
A38: Conducción Fluidos | B38: PVC SANITARIO BLANCO | C38: FITTING SANT BLANCO | D38: FT | F38: 342317 | G38: PVC SAN BLCO FT TEE RED 160 110 I | H38: 1 | I38: Unitario
A39: Conducción Fluidos | B39: PVC SANITARIO BLANCO | C39: FITTING SANT BLANCO | D39: FT | E39: #VALUE! | F39: 42608 | G39: PVC SAN BLCO FT TEE REG. 75 N | H39: 1 | I39: Unitario
A40: Conducción Fluidos | B40: PVC SANITARIO BLANCO | C40: FITTING SANT BLANCO | D40: FT | F40: 342610 | G40: PVC SAN BLCO FT TEE REG. 110 I | H40: 1 | I40: Unitario
A41: Conducción Fluidos | B41: PVC SANITARIO BLANCO | C41: FITTING SANT BLANCO | D41: FT | F41: 342616 | G41: PVC SAN BLCO FT TEE REG. 160 I | H41: 1 | I41: Unitario
A42: Conducción Fluidos | B42: PVC SANITARIO BLANCO | C42: FITTING SANT BLANCO | D42: FT | E42: #VALUE! | F42: 342611 | G42: PVC SAN BLCO FT TAPA REG 110 I | H42: 1 | I42: Unitario
A43: Conducción Fluidos | B43: PVC SANITARIO BLANCO | C43: FITTING SANT BLANCO | D43: FT | F43: 342612 | G43: PVC SAN BLCO FT TAPA REG 160 I | H43: 1 | I43: Unitario
A44: Conducción Fluidos | B44: PVC SANITARIO BLANCO | C44: FITTING SANT BLANCO | D44: FT | E44: #VALUE! | F44: 42705 | G44: PVC SAN BLCO FT VEE 40 40 N | H44: 1 | I44: Unitario
A45: Conducción Fluidos | B45: PVC SANITARIO BLANCO | C45: FITTING SANT BLANCO | D45: FT | F45: 342706 | G45: PVC SAN BLCO FT VEE 50 50 I | H45: 1 | I45: Unitario
A46: Conducción Fluidos | B46: PVC SANITARIO BLANCO | C46: FITTING SANT BLANCO | D46: FT | F46: 342708 | G46: PVC SAN BLCO FT VEE 75 75 I | H46: 1 | I46: Unitario
A47: Conducción Fluidos | B47: PVC SANITARIO BLANCO | C47: FITTING SANT BLANCO | D47: FT | F47: 342710 | G47: PVC SAN BLCO FT VEE 110 110 I | H47: 1 | I47: Unitario
A48: Conducción Fluidos | B48: PVC SANITARIO BLANCO | C48: FITTING SANT BLANCO | D48: FT | F48: 342718 | G48: PVC SAN BLCO FT VEE 160 160 I | H48: 1 | I48: Unitario
A49: Conducción Fluidos | B49: PVC SANITARIO BLANCO | C49: FITTING SANT BLANCO | D49: FT | E49: #VALUE! | F49: 42712 | G49: PVC SAN BLCO FT VEE RED 75 40 N | H49: 1 | I49: Unitario
A50: Conducción Fluidos | B50: PVC SANITARIO BLANCO | C50: FITTING SANT BLANCO | D50: FT | F50: 342713 | G50: PVC SAN BLCO FT VEE RED 75 50 I | H50: 1 | I50: Unitario
A51: Conducción Fluidos | B51: PVC SANITARIO BLANCO | C51: FITTING SANT BLANCO | D51: FT | F51: 342714 | G51: PVC SAN BLCO FT VEE RED 110 40 I | H51: 1 | I51: Unitario
A52: Conducción Fluidos | B52: PVC SANITARIO BLANCO | C52: FITTING SANT BLANCO | D52: FT | F52: 342715 | G52: PVC SAN BLCO FT VEE RED 110 50 I | H52: 1 | I52: Unitario
A53: Conducción Fluidos | B53: PVC SANITARIO BLANCO | C53: FITTING SANT BLANCO | D53: FT | F53: 342716 | G53: PVC SAN BLCO FT VEE RED 110 75 I | H53: 1 | I53: Unitario
A54: Conducción Fluidos | B54: PVC SANITARIO BLANCO | C54: FITTING SANT BLANCO | D54: FT | F54: 342717 | G54: PVC SAN BLCO FT VEE RED 160 110 I | H54: 1 | I54: Unitario
A55: Conducción Fluidos | B55: PVC SANITARIO BLANCO | C55: FITTING SANT BLANCO | D55: FT | E55: #VALUE! | F55: 42005 | G55: PVC SAN BLCO FT RED 50 40 N | H55: 1 | I55: Unitario
A56: Conducción Fluidos | B56: PVC SANITARIO BLANCO | C56: FITTING SANT BLANCO | D56: FT | F56: 342006 | G56: PVC SAN BLCO FT RED 75 50 I | H56: 1 | I56: Unitario
A57: Conducción Fluidos | B57: PVC SANITARIO BLANCO | C57: FITTING SANT BLANCO | D57: FT | F57: 342008 | G57: PVC SAN BLCO FT RED 110 50 I | H57: 1 | I57: Unitario
A58: Conducción Fluidos | B58: PVC SANITARIO BLANCO | C58: FITTING SANT BLANCO | D58: FT | F58: 342010 | G58: PVC SAN BLCO FT RED 110 75 I | H58: 1 | I58: Unitario
A59: Conducción Fluidos | B59: PVC SANITARIO BLANCO | C59: FITTING SANT BLANCO | D59: FT | F59: 342016 | G59: PVC SAN BLCO FT RED 160 110 I | H59: 1 | I59: Unitario
A60: Conducción Fluidos | B60: PVC SANITARIO BLANCO | C60: FITTING SANT BLANCO | D60: FT | E60: #VALUE! | F60: 342505 | G60: PVC SAN BLCO FT TAPA 40 I | H60: 1 | I60: Bolsa
A61: Conducción Fluidos | B61: PVC SANITARIO BLANCO | C61: FITTING SANT BLANCO | D61: FT | F61: 342506 | G61: PVC SAN BLCO FT TAPA 50 I | H61: 1 | I61: Bolsa
A62: Conducción Fluidos | B62: PVC SANITARIO BLANCO | C62: FITTING SANT BLANCO | D62: FT | F62: 342508 | G62: PVC SAN BLCO FT TAPA 75 I | H62: 1 | I62: Bolsa
A63: Conducción Fluidos | B63: PVC SANITARIO BLANCO | C63: FITTING SANT BLANCO | D63: FT | F63: 342510 | G63: PVC SAN BLCO FT TAPA 110 I | H63: 1 | I63: Bolsa
A64: Conducción Fluidos | B64: PVC SANITARIO BLANCO | C64: FITTING SANT BLANCO | D64: FT | F64: 342516 | G64: PVC SAN BLCO FT TAPA 160 I | H64: 1 | I64: Unitario
A65: Conducción Fluidos | B65: PVC SANITARIO BLANCO | C65: VÁLVULAS AIREADORAS | D65: FT | E65: #VALUE! | F65: 60001 | G65: PVC SAN BLCO ACC VAL ADMISION AIRE 50MM | H65: 1 | I65: Unitario
A66: Conducción Fluidos | B66: PVC SANITARIO BLANCO | C66: VÁLVULAS AIREADORAS | D66: FT | F66: 60002 | G66: PVC SAN BLCO ACC VAL ADMISION AIRE 110MM | H66: 1 | I66: Unitario
A67: Conducción Fluidos | B67: PVC SANITARIO BLANCO | C67: VÁLVULAS AIREADORAS | D67: FT | E67: #VALUE! | F67: 60003 | G67: PVC SAN BLCO ACC ADAPT GOMA 32-63MM | H67: 1 | I67: Unitario

Sheet PVC Presión
A1: Volver al menú principal | B1: SISTEMAS HIDRÁULICOS FEBRERO 2026 - LISTA PRECIOS
A2: Categoría Madre | B2: Categoría | C2: Nuevo Grupo SAP | D2: Formato | E2: FOTO | F2: SKU-SH | G2: Descripción SAP 01.26 | H2: UNIDAD MÍNIMA DE VENTA (UNIDADES) | I2: UNIDAD MÍNIMA DE VENTA (FORMATO) | J2: CANTIDAD A COTIZAR
A3: Conducción Fluidos | B3: PVC PRESION / HIDRÁULICO | C3: TUBO PVC PRESION | D3: TB | E3: #VALUE! | F3: 15002 | G3: PVC PRE TUBO 6M 20 PN16 N | H3: 20 | I3: Bolsa
A4: Conducción Fluidos | B4: PVC PRESION / HIDRÁULICO | C4: TUBO PVC PRESION | D4: TB | F4: 15003 | G4: PVC PRE TUBO 6M 25 PN12,5 N | H4: 20 | I4: Bolsa
A5: Conducción Fluidos | B5: PVC PRESION / HIDRÁULICO | C5: TUBO PVC PRESION | D5: TB | F5: 15004 | G5: PVC PRE TUBO 6M 32 PN10 N | H5: 10 | I5: Bolsa
A6: Conducción Fluidos | B6: PVC PRESION / HIDRÁULICO | C6: TUBO PVC PRESION | D6: TB | F6: 15005 | G6: PVC PRE TUBO 6M 40 PN10 N | H6: 1 | I6: Unitario
A7: Conducción Fluidos | B7: PVC PRESION / HIDRÁULICO | C7: TUBO PVC PRESION | D7: TB | F7: 15006 | G7: PVC PRE TUBO 6M 50 PN10 N | H7: 1 | I7: Unitario
A8: Conducción Fluidos | B8: PVC PRESION / HIDRÁULICO | C8: TUBO PVC PRESION | D8: TB | F8: 15007 | G8: PVC PRE TUBO 6M 63 PN10 N | H8: 1 | I8: Unitario
A9: Conducción Fluidos | B9: PVC PRESION / HIDRÁULICO | C9: TUBO PVC PRESION | D9: TB | F9: 15008 | G9: PVC PRE TUBO 6M 75 PN10 N | H9: 1 | I9: Unitario
A10: Conducción Fluidos | B10: PVC PRESION / HIDRÁULICO | C10: TUBO PVC PRESION | D10: TB | F10: 15009 | G10: PVC PRE TUBO 6M 90 PN10 N | H10: 1 | I10: Unitario
A11: Conducción Fluidos | B11: PVC PRESION / HIDRÁULICO | C11: TUBO PVC PRESION | D11: TB | F11: 15010 | G11: PVC PRE TUBO 6M 110 PN10 N | H11: 1 | I11: Unitario
A12: Conducción Fluidos | B12: PVC PRESION / HIDRÁULICO | C12: TUBO PVC PRESION | D12: TB | F12: 15011 | G12: PVC PRE TUBO 6M 125 PN10 N | H12: 1 | I12: Unitario
A13: Conducción Fluidos | B13: PVC PRESION / HIDRÁULICO | C13: TUBO PVC PRESION | D13: TB | F13: 15012 | G13: PVC PRE TUBO 6M 160 PN10 N | H13: 1 | I13: Unitario
A14: Conducción Fluidos | B14: PVC PRESION / HIDRÁULICO | C14: TUBO PVC PRESION | D14: TB | F14: 15102 | G14: PVC PRE TUBO 3M 20 PN16 N | H14: 20 | I14: Bolsa
A15: Conducción Fluidos | B15: PVC PRESION / HIDRÁULICO | C15: TUBO PVC PRESION | D15: TB | F15: 15103 | G15: PVC PRE TUBO 3M 25 PN12,5 N | H15: 20 | I15: Bolsa
... A23: Conducción Fluidos | B23: PVC PRESION / HIDRÁULICO | C23: TUBO PVC PRESION | D23: TB | F23: 15206 | G23: PVC PRE TUBO 1M 50 PN10 N | H23: 1 | I23: Unitario
A24: Conducción Fluidos | B24: PVC PRESION / HIDRÁULICO | C24: TUBO PVC PRESION | D24: TB | E24: #VALUE! | F24: 15045 | G24: PVC PRE TUBO 6M 40 PN6 N | H24: 1 | I24: Unitario
A25: Conducción Fluidos | B25: PVC PRESION / HIDRÁULICO | C25: TUBO PVC PRESION | D25: TB | F25: 15046 | G25: PVC PRE TUBO 6M 50 PN6 N | H25: 1 | I25: Unitario
A26: Conducción Fluidos | B26: PVC PRESION / HIDRÁULICO | C26: TUBO PVC PRESION | D26: TB | F26: 15047 | G26: PVC PRE TUBO 6M 63 PN6 N | H26: 1 | I26: Unitario
A27: Conducción Fluidos | B27: PVC PRESION / HIDRÁULICO | C27: TUBO PVC PRESION | D27: TB | F27: 15048 | G27: PVC PRE TUBO 6M 75 PN6 N | H27: 1 | I27: Unitario
A28: Conducción Fluidos | B28: PVC PRESION / HIDRÁULICO | C28: TUBO PVC PRESION | D28: TB | F28: 15049 | G28: PVC PRE TUBO 6M 90 PN6 N | H28: 1 | I28: Unitario
A29: Conducción Fluidos | B29: PVC PRESION / HIDRÁULICO | C29: TUBO PVC PRESION | D29: TB | F29: 15050 | G29: PVC PRE TUBO 6M 110 PN6 N | H29: 1 | I29: Unitario
A30: Conducción Fluidos | B30: PVC PRESION / HIDRÁULICO | C30: TUBO PVC PRESION | D30: TB | F30: 15051 | G30: PVC PRE TUBO 6M 125 PN6 N | H30: 1 | I30: Unitario
A31: Conducción Fluidos | B31: PVC PRESION / HIDRÁULICO | C31: TUBO PVC PRESION | D31: TB | F31: 15052 | G31: PVC PRE TUBO 6M 140 PN6 N | H31: 1 | I31: Unitario
A32: Conducción Fluidos | B32: PVC PRESION / HIDRÁULICO | C32: TUBO PVC PRESION | D32: TB | F32: 15053 | G32: PVC PRE TUBO 6M 160 PN6 N | H32: 1 | I32: Unitario
A33: Conducción Fluidos | B33: PVC PRESION / HIDRÁULICO | C33: TUBO PVC PRESION | D33: TB | F33: 15054 | G33: PVC PRE TUBO 6M 200 PN6 N | H33: 1 | I33: Unitario
A34: Conducción Fluidos | B34: PVC PRESION / HIDRÁULICO | C34: LLAVES Y VÁLVULAS PVC PRESIÓN | D34: LL-VAL | E34: #VALUE! | F34: 351901 | G34: PVC PRE LL/V VALVULA BOLA 20 I | H34: 10 | I34: Bolsa
A35: Conducción Fluidos | B35: PVC PRESION / HIDRÁULICO | C35: LLAVES Y VÁLVULAS PVC PRESIÓN | D35: LL-VAL | F35: 351902 | G35: PVC PRE LL/V VALVULA BOLA 25 I | H35: 10 | I35: Bolsa
A36: Conducción Fluidos | B36: PVC PRESION / HIDRÁULICO | C36: LLAVES Y VÁLVULAS PVC PRESIÓN | D36: LL-VAL | F36: 351903 | G36: PVC PRE LL/V VALVULA BOLA 32 I | H36: 10 | I36: Bolsa
A37: Conducción Fluidos | B37: PVC PRESION / HIDRÁULICO | C37: LLAVES Y VÁLVULAS PVC PRESIÓN | D37: LL-VAL | F37: 351904 | G37: PVC PRE LL/V VALVULA BOLA 40 I | H37: 5 | I37: Bolsa
A38: Conducción Fluidos | B38: PVC PRESION / HIDRÁULICO | C38: LLAVES Y VÁLVULAS PVC PRESIÓN | D38: LL-VAL | F38: 351905 | G38: PVC PRE LL/V VALVULA BOLA 50 I | H38: 5 | I38: Bolsa
A39: Conducción Fluidos | B39: PVC PRESION / HIDRÁULICO | C39: LLAVES Y VÁLVULAS PVC PRESIÓN | D39: LL-VAL | F39: 351906 | G39: PVC PRE LL/V VALVULA BOLA 63 I | H39: 4 | I39: Bolsa
A40: Conducción Fluidos | B40: PVC PRESION / HIDRÁULICO | C40: LLAVES Y VÁLVULAS PVC PRESIÓN | D40: LL-VAL | E40: #VALUE! | F40: 351931 | G40: PVC PRE LL/V VÁLVULA BOLA HI -HI 1/2 | H40: 10 | I40: Bolsa
A41: Conducción Fluidos | B41: PVC PRESION / HIDRÁULICO | C41: LLAVES Y VÁLVULAS PVC PRESIÓN | D41: LL-VAL | F41: 351932 | G41: PVC PRE LL/V VÁLVULA BOLA HI -HI 3/4 | H41: 10 | I41: Bolsa
A42: Conducción Fluidos | B42: PVC PRESION / HIDRÁULICO | C42: LLAVES Y VÁLVULAS PVC PRESIÓN | D42: LL-VAL | F42: 351933 | G42: PVC PRE LL/V VÁLVULA BOLA HI -HI 1 | H42: 10 | I42: Bolsa
A43: Conducción Fluidos | B43: PVC PRESION / HIDRÁULICO | C43: LLAVES Y VÁLVULAS PVC PRESIÓN | D43: LL-VAL | F43: 351934 | G43: PVC PRE LL/V VÁLVULA BOLA HI -HI 1 1/4 | H43: 5 | I43: Bolsa
A44: Conducción Fluidos | B44: PVC PRESION / HIDRÁULICO | C44: LLAVES Y VÁLVULAS PVC PRESIÓN | D44: LL-VAL | F44: 351935 | G44: PVC PRE LL/V VÁLVULA BOLA HI -HI 1 1/2 | H44: 5 | I44: Bolsa
A45: Conducción Fluidos | B45: PVC PRESION / HIDRÁULICO | C45: LLAVES Y VÁLVULAS PVC PRESIÓN | D45: LL-VAL | F45: 351936 | G45: PVC PRE LL/V VÁLVULA BOLA HI -HI 2 | H45: 4 | I45: Bolsa
A46: Conducción Fluidos | B46: PVC PRESION / HIDRÁULICO | C46: LLAVES Y VÁLVULAS PVC PRESIÓN | D46: LL-VAL | F46: 351937 | G46: PVC PRE LL/V VÁLVULA BOLA HI -HI 2.5 | H46: 4 | I46: Bolsa
A47: Conducción Fluidos | B47: PVC PRESION / HIDRÁULICO | C47: LLAVES Y VÁLVULAS PVC PRESIÓN | D47: LL-VAL | F47: 351938 | G47: PVC PRE LL/V VÁLVULA BOLA HI -HI 3 | H47: 4 | I47: Bolsa
A48: Conducción Fluidos | B48: PVC PRESION / HIDRÁULICO | C48: LLAVES Y VÁLVULAS PVC PRESIÓN | D48: LL-VAL | F48: 351939 | G48: PVC PRE LL/V VÁLVULA BOLA HI -HI 4 | H48: 4 | I48: Bolsa
A49: Conducción Fluidos | B49: PVC PRESION / HIDRÁULICO | C49: LLAVES Y VÁLVULAS PVC PRESIÓN | D49: LL-VAL | E49: #VALUE! | F49: 351911 | G49: PVC PRE LLAVE BOLA DOBLE U.AMER 20 HI-HI | H49: 10 | I49: Unitario
A50: Conducción Fluidos | B50: PVC PRESION / HIDRÁULICO | C50: LLAVES Y VÁLVULAS PVC PRESIÓN | D50: LL-VAL | F50: 351912 | G50: PVC PRE LLAVE BOLA DOBLE U.AMER 25 HI-HI | H50: 10 | I50: Unitario
A51: Conducción Fluidos | B51: PVC PRESION / HIDRÁULICO | C51: LLAVES Y VÁLVULAS PVC PRESIÓN | D51: LL-VAL | F51: 351913 | G51: PVC PRE LLAVE BOLA DOBLE U.AMER 32 HI-HI | H51: 5 | I51: Unitario
A52: Conducción Fluidos | B52: PVC PRESION / HIDRÁULICO | C52: LLAVES Y VÁLVULAS PVC PRESIÓN | D52: LL-VAL | F52: 351914 | G52: PVC PRE LLAVE BOLA DOBLE U.AMER 40 HI-HI | H52: 1 | I52: Unitario
A53: Conducción Fluidos | B53: PVC PRESION / HIDRÁULICO | C53: LLAVES Y VÁLVULAS PVC PRESIÓN | D53: LL-VAL | F53: 351915 | G53: PVC PRE LLAVE BOLA DOBLE U.AMER 50 HI-HI | H53: 1 | I53: Unitario
A54: Conducción Fluidos | B54: PVC PRESION / HIDRÁULICO | C54: LLAVES Y VÁLVULAS PVC PRESIÓN | D54: LL-VAL | F54: 351916 | G54: PVC PRE LLAVE BOLA DOBLE U.AMER 63 HI-HI | H54: 1 | I54: Unitario
A55: Conducción Fluidos | B55: PVC PRESION / HIDRÁULICO | C55: LLAVES Y VÁLVULAS PVC PRESIÓN | D55: LL-VAL | E55: #VALUE! | F55: 351921 | G55: PVC PRE LL/V V. BOLA HI-U.AMER 20 | H55: 10 | I55: Unitario
A56: Conducción Fluidos | B56: PVC PRESION / HIDRÁULICO | C56: LLAVES Y VÁLVULAS PVC PRESIÓN | D56: LL-VAL | F56: 351922 | G56: PVC PRE LL/V V. BOLA HI-U.AMER 25 | H56: 7 | I56: Unitario
A57: Conducción Fluidos | B57: PVC PRESION / HIDRÁULICO | C57: LLAVES Y VÁLVULAS PVC PRESIÓN | D57: LL-VAL | F57: 351923 | G57: PVC PRE LL/V V. BOLA HI-U.AMER 32 | H57: 5 | I57: Unitario
A58: Conducción Fluidos | B58: PVC PRESION / HIDRÁULICO | C58: LLAVES Y VÁLVULAS PVC PRESIÓN | D58: LL-VAL | F58: 351924 | G58: PVC PRE LL/V V. BOLA HI-U.AMER 40 | H58: 1 | I58: Unitario
A59: Conducción Fluidos | B59: PVC PRESION / HIDRÁULICO | C59: LLAVES Y VÁLVULAS PVC PRESIÓN | D59: LL-VAL | F59: 351925 | G59: PVC PRE LL/V V. BOLA HI-U.AMER 50 | H59: 1 | I59: Unitario
A60: Conducción Fluidos | B60: PVC PRESION / HIDRÁULICO | C60: LLAVES Y VÁLVULAS PVC PRESIÓN | D60: LL-VAL | F60: 351926 | G60: PVC PRE LL/V V. BOLA HI-U.AMER 63 | H60: 1 | I60: Unitario
A61: Conducción Fluidos | B61: PVC PRESION / HIDRÁULICO | C61: FITTING PVC PRESION | D61: FT | E61: #VALUE! | F61: 350902 | G61: PVC PRE FT UNION AMERICANA 20 CEM I | H61: 12 | I61: Bolsa
A62: Conducción Fluidos | B62: PVC PRESION / HIDRÁULICO | C62: FITTING PVC PRESION | D62: FT | F62: 350903 | G62: PVC PRE FT UNION AMERICANA 25 CEM I | H62: 9 | I62: Bolsa
A63: Conducción Fluidos | B63: PVC PRESION / HIDRÁULICO | C63: FITTING PVC PRESION | D63: FT | F63: 350904 | G63: PVC PRE FT UNION AMERICANA 32 CEM I | H63: 9 | I63: Bolsa
A64: Conducción Fluidos | B64: PVC PRESION / HIDRÁULICO | C64: FITTING PVC PRESION | D64: FT | F64: 350905 | G64: PVC PRE FT UNION AMERICANA 40 CEM I | H64: 1 | I64: Bolsa
A65: Conducción Fluidos | B65: PVC PRESION / HIDRÁULICO | C65: FITTING PVC PRESION | D65: FT | F65: 350906 | G65: PVC PRE FT UNION AMERICANA 50 CEM I | H65: 1 | I65: Bolsa
A66: Conducción Fluidos | B66: PVC PRESION / HIDRÁULICO | C66: FITTING PVC PRESION | D66: FT | F66: 350907 | G66: PVC PRE FT UNION AMERICANA 63 CEM I | H66: 1 | I66: Unitario
A67: Conducción Fluidos | B67: PVC PRESION / HIDRÁULICO | C67: FITTING PVC PRESION | D67: FT | E67: #VALUE! | F67: 351002 | G67: PVC PRE FT SALIDA ESTANQUE 32 X 1' I | H67: 7 | I67: Bolsa
A68: Conducción Fluidos | B68: PVC PRESION / HIDRÁULICO | C68: FITTING PVC PRESION | D68: FT | F68: 351003 | G68: PVC PRE FT SALIDA ESTANQUE 40 X 1 1/4' I | H68: 7 | I68: Bolsa
A69: Conducción Fluidos | B69: PVC PRESION / HIDRÁULICO | C69: FITTING PVC PRESION | D69: FT | F69: 351004 | G69: PVC PRE FT SALIDA ESTANQUE 50 X 1 1/2' I | H69: 6 | I69: Bolsa
A70: Conducción Fluidos | B70: PVC PRESION / HIDRÁULICO | C70: FITTING PVC PRESION | D70: FT | E70: #VALUE! | F70: 352001 | G70: PVC PRE ACC ABRAZADERA 20 I | H70: 100 | I70: Bolsa
A71: Conducción Fluidos | B71: PVC PRESION / HIDRÁULICO | C71: FITTING PVC PRESION | D71: FT | F71: 352002 | G71: PVC PRE ACC ABRAZADERA 25 I | H71: 100 | I71: Bolsa
A72: Conducción Fluidos | B72: PVC PRESION / HIDRÁULICO | C72: FITTING PVC PRESION | D72: FT | F72: 352003 | G72: PVC PRE ACC ABRAZADERA 32 I | H72: 80 | I72: Bolsa
A73: Conducción Fluidos | B73: PVC PRESION / HIDRÁULICO | C73: FITTING PVC PRESION | D73: FT | F73: 352004 | G73: PVC PRE ACC ABRAZADERA 40 I | H73: 60 | I73: Bolsa
A74: Conducción Fluidos | B74: PVC PRESION / HIDRÁULICO | C74: FITTING PVC PRESION | D74: FT | F74: 352005 | G74: PVC PRE ACC ABRAZADERA 50 I | H74: 30 | I74: Bolsa
A75: Conducción Fluidos | B75: PVC PRESION / HIDRÁULICO | C75: FITTING PVC PRESION | D75: FT | E75: #VALUE! | F75: 350602 | G75: PVC PRE FT CODO 45° 20 CEM I | H75: 50 | I75: Bolsa
A76: Conducción Fluidos | B76: PVC PRESION / HIDRÁULICO | C76: FITTING PVC PRESION | D76: FT | F76: 350603 | G76: PVC PRE FT CODO 45° 25 CEM I | H76: 40 | I76: Bolsa
A77: Conducción Fluidos | B77: PVC PRESION / HIDRÁULICO | C77: FITTING PVC PRESION | D77: FT | F77: 350604 | G77: PVC PRE FT CODO 45° 32 CEM I | H77: 28 | I77: Bolsa
A78: Conducción Fluidos | B78: PVC PRESION / HIDRÁULICO | C78: FITTING PVC PRESION | D78: FT | F78: 350605 | G78: PVC PRE FT CODO 45° 40 CEM I | H78: 20 | I78: Bolsa
A79: Conducción Fluidos | B79: PVC PRESION / HIDRÁULICO | C79: FITTING PVC PRESION | D79: FT | F79: 350606 | G79: PVC PRE FT CODO 45° 50 CEM I | H79: 16 | I79: Bolsa
A80: Conducción Fluidos | B80: PVC PRESION / HIDRÁULICO | C80: FITTING PVC PRESION | D80: FT | F80: 350607 | G80: PVC PRE FT CODO 45° 63 CEM I | H80: 10 | I80: Bolsa
A81: Conducción Fluidos | B81: PVC PRESION / HIDRÁULICO | C81: FITTING PVC PRESION | D81: FT | F81: 350608 | G81: PVC PRE FT CODO 45° 75 CEM I | H81: 1 | I81: Unitario
A82: Conducción Fluidos | B82: PVC PRESION / HIDRÁULICO | C82: FITTING PVC PRESION | D82: FT | F82: 350609 | G82: PVC PRE FT CODO 45° 90 CEM I | H82: 1 | I82: Unitario
A83: Conducción Fluidos | B83: PVC PRESION / HIDRÁULICO | C83: FITTING PVC PRESION | D83: FT | F83: 350610 | G83: PVC PRE FT CODO 45° 110 CEM I | H83: 1 | I83: Unitario
A84: Conducción Fluidos | B84: PVC PRESION / HIDRÁULICO | C84: FITTING PVC PRESION | D84: FT | F84: 350611 | G84: PVC PRE FT CODO 45° 125 CEM I | H84: 1 | I84: Unitario
A85: Conducción Fluidos | B85: PVC PRESION / HIDRÁULICO | C85: FITTING PVC PRESION | D85: FT | F85: 350612 | G85: PVC PRE FT CODO 45° 160 CEM I | H85: 1 | I85: Unitario
A86: Conducción Fluidos | B86: PVC PRESION / HIDRÁULICO | C86: FITTING PVC PRESION | D86: FT | E86: #VALUE! | F86: 350502 | G86: PVC PRE FT CODO 90° 20 CEM I | H86: 40 | I86: Bolsa
A87: Conducción Fluidos | B87: PVC PRESION / HIDRÁULICO | C87: FITTING PVC PRESION | D87: FT | F87: 350503 | G87: PVC PRE FT CODO 90° 25 CEM I | H87: 30 | I87: Bolsa
A88: Conducción Fluidos | B88: PVC PRESION / HIDRÁULICO | C88: FITTING PVC PRESION | D88: FT | F88: 350504 | G88: PVC PRE FT CODO 90° 32 CEM I | H88: 30 | I88: Bolsa
A89: Conducción Fluidos | B89: PVC PRESION / HIDRÁULICO | C89: FITTING PVC PRESION | D89: FT | F89: 350505 | G89: PVC PRE FT CODO 90° 40 CEM I | H89: 25 | I89: Bolsa
A90: Conducción Fluidos | B90: PVC PRESION / HIDRÁULICO | C90: FITTING PVC PRESION | D90: FT | F90: 350506 | G90: PVC PRE FT CODO 90° 50 CEM I | H90: 10 | I90: Bolsa
A91: Conducción Fluidos | B91: PVC PRESION / HIDRÁULICO | C91: FITTING PVC PRESION | D91: FT | F91: 350507 | G91: PVC PRE FT CODO 90° 63 CEM I | H91: 9 | I91: Bolsa
A92: Conducción Fluidos | B92: PVC PRESION / HIDRÁULICO | C92: FITTING PVC PRESION | D92: FT | F92: 350511 | G92: PVC PRE FT CODO 90° 75 CEM I | H92: 1 | I92: Unitario
A93: Conducción Fluidos | B93: PVC PRESION / HIDRÁULICO | C93: FITTING PVC PRESION | D93: FT | F93: 350512 | G93: PVC PRE FT CODO 90° 90 CEM I | H93: 1 | I93: Unitario
A94: Conducción Fluidos | B94: PVC PRESION / HIDRÁULICO | C94: FITTING PVC PRESION | D94: FT | F94: 350508 | G94: PVC PRE FT CODO 90° 110 CEM I | H94: 1 | I94: Unitario
A95: Conducción Fluidos | B95: PVC PRESION / HIDRÁULICO | C95: FITTING PVC PRESION | D95: FT | F95: 350509 | G95: PVC PRE FT CODO 90° 125 CEM I | H95: 1 | I95: Unitario
A96: Conducción Fluidos | B96: PVC PRESION / HIDRÁULICO | C96: FITTING PVC PRESION | D96: FT | F96: 350510 | G96: PVC PRE FT CODO 90° 160 CEM I | H96: 1 | I96: Unitario
A97: Conducción Fluidos | B97: PVC PRESION / HIDRÁULICO | C97: FITTING PVC PRESION | D97: FT | E97: #VALUE! | F97: 350702 | G97: PVC PRE FT CODO 90° HI CEM 20 1/2' I | H97: 50 | I97: Bolsa
A98: Conducción Fluidos | B98: PVC PRESION / HIDRÁULICO | C98: FITTING PVC PRESION | D98: FT | F98: 350703 | G98: PVC PRE FT CODO 90° HI CEM 25 3/4' I | H98: 20 | I98: Bolsa
A99: Conducción Fluidos | B99: PVC PRESION / HIDRÁULICO | C99: FITTING PVC PRESION | D99: FT | F99: 350704 | G99: PVC PRE FT CODO 90° HI CEM 32 1' I | H99: 10 | I99: Bolsa
A100: Conducción Fluidos | B100: PVC PRESION / HIDRÁULICO | C100: FITTING PVC PRESION | D100: FT | E100: #VALUE! | F100: 351701 | G100: PVC PRE FT CODO 90° RED 25 20 I | H100: 40 | I100: Bolsa
A101: Conducción Fluidos | B101: PVC PRESION / HIDRÁULICO | C101: FITTING PVC PRESION | D101: FT | F101: 351702 | G101: PVC PRE FT CODO 90° RED 32 25 I | H101: 20 | I101: Bolsa
A102: Conducción Fluidos | B102: PVC PRESION / HIDRÁULICO | C102: FITTING PVC PRESION | D102: FT | F102: 351703 | G102: PVC PRE FT CODO 90° RED 40 32 I | H102: 12 | I102: Bolsa
A103: Conducción Fluidos | B103: PVC PRESION / HIDRÁULICO | C103: FITTING PVC PRESION | D103: FT | E103: #VALUE! | F103: 350302 | G103: PVC PRE FT TERMINAL HI CEM 20 1/2' I | H103: 50 | I103: Bolsa
A104: Conducción Fluidos | B104: PVC PRESION / HIDRÁULICO | C104: FITTING PVC PRESION | D104: FT | F104: 350303 | G104: PVC PRE FT TERMINAL HI CEM 25 3/4' I | H104: 30 | I104: Bolsa
A105: Conducción Fluidos | B105: PVC PRESION / HIDRÁULICO | C105: FITTING PVC PRESION | D105: FT | F105: 350304 | G105: PVC PRE FT TERMINAL HI CEM 32 1' I | H105: 15 | I105: Bolsa
A106: Conducción Fluidos | B106: PVC PRESION / HIDRÁULICO | C106: FITTING PVC PRESION | D106: FT | F106: 350305 | G106: PVC PRE FT TERMINAL HI CEM 40 1 1/4' I | H106: 12 | I106: Bolsa
A107: Conducción Fluidos | B107: PVC PRESION / HIDRÁULICO | C107: FITTING PVC PRESION | D107: FT | F107: 350306 | G107: PVC PRE FT TERMINAL HI CEM 50 1 1/2' I | H107: 5 | I107: Bolsa
...

Sheet Inst. Baño y Cocina
A1: Volver al menú principal | B1: SISTEMAS HIDRÁULICOS FEBRERO 2026 - LISTA PRECIOS
A2: Categoría Madre | B2: Categoría | C2: Nuevo Grupo SAP | D2: Formato | E2: FOTO | F2: SKU-SH | G2: Descripción SAP 01.26 | H2: UNIDAD MÍNIMA DE VENTA (UNIDADES) | I2: UNIDAD MÍNIMA DE VENTA (FORMATO) | J2: CANTIDAD A COTIZAR
A3: Conducción Fluidos | B3: INSTALACIÓN BAÑO Y COCINA | C3: SIFONES, DESAGÜES Y ACC. | D3: SAL. CURVA | E3: #VALUE! | F3: 344101 | G3: SIFON SALIDA CURVA 40MM E 1 1/2-1 1/4 I | H3: 10 | I3: Unitario
A4: Conducción Fluidos | B4: INSTALACIÓN BAÑO Y COCINA | C4: SIFONES, DESAGÜES Y ACC. | D4: SAL. RECT. | E4: #VALUE! | F4: 344102 | G4: SIFON SALIDA RECTA 40MM E 1 1/2-1 1/4 I | H4: 10 | I4: Unitario
A5: Conducción Fluidos | B5: INSTALACIÓN BAÑO Y COCINA | C5: SIFONES, DESAGÜES Y ACC. | D5: SAL. CURVA | E5: #VALUE! | F5: 344103 | G5: SIFON SALIDA CURVA 32MM E 1 1/4 I | H5: 6 | I5: Unitario
A6: Conducción Fluidos | B6: INSTALACIÓN BAÑO Y COCINA | C6: SIFONES, DESAGÜES Y ACC. | D6: SAL. RECT. | E6: #VALUE! | F6: 344104 | G6: SIFON SALIDA RECTA 32MM E 1 1/4 I | H6: 6 | I6: Unitario
A7: Conducción Fluidos | B7: INSTALACIÓN BAÑO Y COCINA | C7: SIFONES, DESAGÜES Y ACC. | D7: DOBLE | E7: #VALUE! | F7: 344109 | G7: SIFON DOBLE S/40-50 E 1 1/2 I | H7: 8 | I7: Bolsa
A8: Conducción Fluidos | B8: INSTALACIÓN BAÑO Y COCINA | C8: SIFONES, DESAGÜES Y ACC. | D8: DOBLE | E8: #VALUE! | F8: 344112 | G8: SIFON CONEXIÓN DOBLE 1 1/2 I | H8: 10 | I8: Bolsa
A9: Conducción Fluidos | B9: INSTALACIÓN BAÑO Y COCINA | C9: SIFONES, DESAGÜES Y ACC. | D9: FLEX. ELONG. | E9: #VALUE! | F9: 344117 | G9: TUBO FLEXIBLE ELONG 1 ½'-1 ¼'-1' I | H9: 10 | I9: Bolsa
A10: Conducción Fluidos | B10: INSTALACIÓN BAÑO Y COCINA | C10: SIFONES, DESAGÜES Y ACC. | D10: CAPUCHÓN 40X32 | E10: #VALUE! | F10: 344901 | G10: CAPUCHON REDUCCION 40X32 PARA SIFON | H10: 10 | I10: Bolsa
A11: Conducción Fluidos | B11: INSTALACIÓN BAÑO Y COCINA | C11: SIFONES, DESAGÜES Y ACC. | D11: CAPUCHÓN 50X40 | F11: 344900 | G11: CAPUCHON REDUCCION 50X40 PARA SIFON | H11: 10 | I11: Bolsa
A12: Conducción Fluidos | B12: INSTALACIÓN BAÑO Y COCINA | C12: SIFONES, DESAGÜES Y ACC. | D12: CON REBALS. | E12: #VALUE! | F12: 344113 | G12: DESAGÜE UTILITY 1 1/2 CON REBALSE I | H12: 5 | I12: Bolsa
A13: Conducción Fluidos | B13: INSTALACIÓN BAÑO Y COCINA | C13: SIFONES, DESAGÜES Y ACC. | D13: SIN REBALS. | E13: #VALUE! | F13: 344114 | G13: DESAGÜE UTILITY 1 1/2 SIN REBALSE I | H13: 5 | I13: Bolsa
A14: Conducción Fluidos | B14: INSTALACIÓN BAÑO Y COCINA | C14: SIFONES, DESAGÜES Y ACC. | D14: CON REBALS. | E14: #VALUE! | F14: 344115 | G14: DESAGÜE LAVAPLATOS 11/2 C/REBAL-TAP-CAD | H14: 5 | I14: Bolsa
A15: Conducción Fluidos | B15: INSTALACIÓN BAÑO Y COCINA | C15: SIFONES, DESAGÜES Y ACC. | D15: SIN COLA | E15: #VALUE! | F15: 344105 | G15: DESAGÜE S/COLA 1 1/4 I | H15: 10 | I15: Bolsa
A16: Conducción Fluidos | B16: INSTALACIÓN BAÑO Y COCINA | C16: SIFONES, DESAGÜES Y ACC. | D16: SIN COLA | E16: #VALUE! | F16: 344106 | G16: DESAGÜE S/COLA 1 1/2 I | H16: 10 | I16: Bolsa
A17: Conducción Fluidos | B17: INSTALACIÓN BAÑO Y COCINA | C17: SIFONES, DESAGÜES Y ACC. | D17: CON COLA | E17: #VALUE! | F17: 344107 | G17: DESAGÜE C/COLA 1 1/4 I | H17: 10 | I17: Bolsa
A18: Conducción Fluidos | B18: INSTALACIÓN BAÑO Y COCINA | C18: SIFONES, DESAGÜES Y ACC. | D18: CON COLA | E18: #VALUE! | F18: 344108 | G18: DESAGÜE C/COLA 1 1/2 I | H18: 10 | I18: Bolsa
A19: Conducción Fluidos | B19: INSTALACIÓN BAÑO Y COCINA | C19: ACCESORIOS WC | D19: SELLOS | E19: #VALUE! | F19: 41001 | G19: SELLO ANTIFUGAS WC I | H19: 6 | I19: Unitario
A20: Conducción Fluidos | B20: INSTALACIÓN BAÑO Y COCINA | C20: ACCESORIOS WC | D20: KITS | E20: #VALUE! | F20: 41002 | G20: KIT INSTALACION WC I | H20: 10 | I20: Unitario
A21: Conducción Fluidos | B21: INSTALACIÓN BAÑO Y COCINA | C21: ACCESORIOS WC | D21: KITS | E21: #VALUE! | F21: 41101 | G21: COMBO VIRTUAL INSTALACION WC | H21: 1 | I21: Bolsa
A22: Conducción Fluidos | B22: INSTALACIÓN BAÑO Y COCINA | C22: ACCESORIOS WC | D22: KITS | E22: #VALUE! | F22: 41003 | G22: KIT LLAVE ANGULAR MAS FLEXIBLE I | H22: 10 | I22: Blister
A23: Conducción Fluidos | B23: INSTALACIÓN BAÑO Y COCINA | C23: ACCESORIOS WC | D23: KITS | E23: #VALUE! | F23: 341100 | G23: SET PERNO ANCLAJE WC I | H23: 10 | I23: Blister
... A29: Conducción Fluidos | B29: INSTALACIÓN BAÑO Y COCINA | C29: DUCHAS | D29: ACC. DUCHA | E29: #VALUE! | F29: 344204 | G29: DUCHA FLEX 1,7 MT I | H29: 10 | I29: Blister
A30: Conducción Fluidos | B30: INSTALACIÓN BAÑO Y COCINA | C30: DUCHAS | D30: ACC. DUCHA | F30: 344205 | G30: DUCHA FLEX 1,85 MT I | H30: 10 | I30: Blister
A31: Conducción Fluidos | B31: INSTALACIÓN BAÑO Y COCINA | C31: DUCHAS | D31: ACC. DUCHA | E31: #VALUE! | F31: 344206 | G31: DUCHA SOPORTE I | H31: 10 | I31: Blister
A32: Conducción Fluidos | B32: INSTALACIÓN BAÑO Y COCINA | C32: GRIFERIA | D32: COCINA | E32: #VALUE! | F32: 44401 | G32: GRIFERIA MEZCLADORA LAVAP CROM ANTONELLA | H32: 1 | I32: Caja
A33: Conducción Fluidos | B33: INSTALACIÓN BAÑO Y COCINA | C33: GRIFERIA | D33: BAÑO | E33: #VALUE! | F33: 44402 | G33: GRIFERIA MONOMANDO LAVATORIO CROM MIRAGE | H33: 1 | I33: Caja
A34: Conducción Fluidos | B34: INSTALACIÓN BAÑO Y COCINA | C34: GRIFERIA | D34: BAÑO | E34: #VALUE! | F34: 44403 | G34: GRIFERIA MONOMANDO TINA-DUCHA CRO MIRAGE | H34: 1 | I34: Caja
A35: Conducción Fluidos | B35: INSTALACIÓN BAÑO Y COCINA | C35: GRIFERIA | D35: COCINA | E35: #VALUE! | F35: 44404 | G35: GRIFERIA MONOMANDO LAVAPLATO CROM MIRAGE | H35: 1 | I35: Caja
A36: Conducción Fluidos | B36: INSTALACIÓN BAÑO Y COCINA | C36: GRIFERIA | D36: COCINA-JARDÍN | E36: #VALUE! | F36: 44407 | G36: GRIFERIA LLAVE BOLA LAVADERO 1/2' ZAMAK | H36: 1 | I36: Unitario
A37: Conducción Fluidos | B37: INSTALACIÓN BAÑO Y COCINA | C37: GRIFERIA | D37: COCINA-JARDÍN | F37: 44408 | G37: GRIFERIA LLAVE BOLA LAVADERO 3/4' ZAMAK | H37: 1 | I37: Unitario
A38: Conducción Fluidos | B38: INSTALACIÓN BAÑO Y COCINA | C38: GRIFERIA | D38: COCINA-JARDÍN | F38: 44409 | G38: GRIFERIA LLAVE BOLA LAVADERO 1' ZAMAK | H38: 1 | I38: Unitario
A39: Conducción Fluidos | B39: INSTALACIÓN BAÑO Y COCINA | C39: FLEXIBLES | D39: AGUA | E39: #VALUE! | F39: 40001 | G39: FLEXIBLE AGUA HI-HI 1/2 25CM | H39: 10 | I39: Bolsa
A40: Conducción Fluidos | B40: INSTALACIÓN BAÑO Y COCINA | C40: FLEXIBLES | D40: AGUA | F40: 40002 | G40: FLEXIBLE AGUA HI-HI 1/2 30CM | H40: 10 | I40: Bolsa
A41: Conducción Fluidos | B41: INSTALACIÓN BAÑO Y COCINA | C41: FLEXIBLES | D41: AGUA | F41: 40003 | G41: FLEXIBLE AGUA HI-HI 1/2 35CM | H41: 10 | I41: Bolsa
A42: Conducción Fluidos | B42: INSTALACIÓN BAÑO Y COCINA | C42: FLEXIBLES | D42: AGUA | F42: 40004 | G42: FLEXIBLE AGUA HI-HI 1/2 40CM | H42: 10 | I42: Bolsa
A43: Conducción Fluidos | B43: INSTALACIÓN BAÑO Y COCINA | C43: FLEXIBLES | D43: AGUA | F43: 40005 | G43: FLEXIBLE AGUA HI-HI 1/2 50CM | H43: 10 | I43: Bolsa
A44: Conducción Fluidos | B44: INSTALACIÓN BAÑO Y COCINA | C44: FLEXIBLES | D44: AGUA | E44: #VALUE! | F44: 40006 | G44: FLEXIBLE AGUA HE-HI 1/2 25CM | H44: 10 | I44: Bolsa
A45: Conducción Fluidos | B45: INSTALACIÓN BAÑO Y COCINA | C45: FLEXIBLES | D45: AGUA | F45: 40007 | G45: FLEXIBLE AGUA HE-HI 1/2 30CM | H45: 10 | I45: Bolsa
A46: Conducción Fluidos | B46: INSTALACIÓN BAÑO Y COCINA | C46: FLEXIBLES | D46: AGUA | F46: 40008 | G46: FLEXIBLE AGUA HE-HI 1/2 35CM | H46: 10 | I46: Bolsa
A47: Conducción Fluidos | B47: INSTALACIÓN BAÑO Y COCINA | C47: FLEXIBLES | D47: AGUA | F47: 40009 | G47: FLEXIBLE AGUA HE-HI 1/2 40CM | H47: 10 | I47: Bolsa
A48: Conducción Fluidos | B48: INSTALACIÓN BAÑO Y COCINA | C48: FLEXIBLES | D48: AGUA | F48: 40010 | G48: FLEXIBLE AGUA HE-HI 1/2 50CM | H48: 10 | I48: Bolsa
A49: Conducción Fluidos | B49: INSTALACIÓN BAÑO Y COCINA | C49: FLEXIBLES | D49: CALEFONT | E49: #VALUE! | F49: 40011 | G49: FLEXIBLE CALEFONT HI-HI 1/2 25CM | H49: 10 | I49: Bolsa
A50: Conducción Fluidos | B50: INSTALACIÓN BAÑO Y COCINA | C50: FLEXIBLES | D50: CALEFONT | F50: 40012 | G50: FLEXIBLE CALEFONT HI-HI 1/2 35CM | H50: 10 | I50: Bolsa
A51: Conducción Fluidos | B51: INSTALACIÓN BAÑO Y COCINA | C51: FLEXIBLES | D51: CALEFONT | F51: 40013 | G51: FLEXIBLE CALEFONT HE-HI 1/2 25CM | H51: 10 | I51: Bolsa
A52: Conducción Fluidos | B52: INSTALACIÓN BAÑO Y COCINA | C52: FLEXIBLES | D52: CALEFONT | F52: 40014 | G52: FLEXIBLE CALEFONT HE-HI 1/2 35CM | H52: 10 | I52: Bolsa
A53: Conducción Fluidos | B53: INSTALACIÓN BAÑO Y COCINA | C53: FLEXIBLES | D53: GAS | E53: #VALUE! | F53: 40015 | G53: FLEXIBLE GAS IZQ 3/8 X 1/2 60CM | H53: 1 | I53: Unitario
A54: Conducción Fluidos | B54: INSTALACIÓN BAÑO Y COCINA | C54: FLEXIBLES | D54: GAS | F54: 40016 | G54: FLEXIBLE GAS IZQ 3/8 X 1/2 100CM | H54: 1 | I54: Unitario
A55: Conducción Fluidos | B55: INSTALACIÓN BAÑO Y COCINA | C55: FLEXIBLES | D55: GAS | E55: #VALUE! | F55: 40018 | G55: FLEXIBLE GAS HI-HI 1/2 100CM | H55: 1 | I55: Unitario

Sheet Canaletas Techo
A1: Volver al menú principal | B1: SISTEMAS HIDRÁULICOS FEBRERO 2026 - LISTA PRECIOS
A2: Categoría Madre | B2: Categoría | C2: Nuevo Grupo SAP | D2: Formato | E2: FOTO | F2: SKU-SH | G2: Descripción SAP 01.26 | H2: UNIDAD MÍNIMA DE VENTA (UNIDADES) | I2: UNIDAD MÍNIMA DE VENTA (FORMATO) | J2: CANTIDAD A COTIZAR
A3: Conducción Fluidos | B3: SOLUCIÓN CANALETAS PVC | C3: CANALETAS DE TECHO TB/CAN | D3: TB | E3: #VALUE! | F3: 12604 | G3: TUBO BAJADA CANALETA TECHO 3MT BLANCO N | H3: 1 | I3: Unitario
A4: Conducción Fluidos | B4: SOLUCIÓN CANALETAS PVC | C4: CANALETAS DE TECHO TB/CAN | D4: TB | F4: 12604M | G4: TUBO BAJADA CANALETA TECHO 3MT MARRÓN N | H4: 1 | I4: Unitario
A5: Conducción Fluidos | B5: SOLUCIÓN CANALETAS PVC | C5: CANALETAS DE TECHO TB/CAN | D5: TB | F5: 12605 | G5: TUBO BAJADA CANALETA TECHO 5MT BLANCO N | H5: 1 | I5: Unitario
A6: Conducción Fluidos | B6: SOLUCIÓN CANALETAS PVC | C6: CANALETAS DE TECHO TB/CAN | D6: TB | F6: 12605M | G6: TUBO BAJADA CANALETA TECHO 5MT MARRÓN N | H6: 1 | I6: Unitario
A7: Conducción Fluidos | B7: SOLUCIÓN CANALETAS PVC | C7: CANALETAS DE TECHO TB/CAN | D7: CAN | E7: #VALUE! | F7: 346001 | G7: CANALETA TECHO PVC 4MT BLANCO I | H7: 10 | I7: Bolsa
A8: Conducción Fluidos | B8: SOLUCIÓN CANALETAS PVC | C8: CANALETAS DE TECHO TB/CAN | D8: CAN | F8: 346001M | G8: CANALETA TECHO PVC 4MT MARRON I | H8: 10 | I8: Bolsa
A9: Conducción Fluidos | B9: SOLUCIÓN CANALETAS PVC | C9: CANALETAS DE TECHO FT/ ACC | D9: ACC | E9: #VALUE! | F9: 346002 | G9: ACCESORIO BAJADA CANALETA TECHO BLANCO I | H9: 10 | I9: Unitario
A10: Conducción Fluidos | B10: SOLUCIÓN CANALETAS PVC | C10: CANALETAS DE TECHO FT/ ACC | D10: ACC | F10: 346002M | G10: ACCESORIO BAJADA CANALETA TECHO MARRÓN I | H10: 10 | I10: Unitario
A11: Conducción Fluidos | B11: SOLUCIÓN CANALETAS PVC | C11: CANALETAS DE TECHO FT/ ACC | D11: ACC | E11: #VALUE! | F11: 346003 | G11: ACCESORIO UNION CANALETA TECHO BLANCO I | H11: 25 | I11: Unitario
A12: Conducción Fluidos | B12: SOLUCIÓN CANALETAS PVC | C12: CANALETAS DE TECHO FT/ ACC | D12: ACC | F12: 346003M | G12: ACCESORIO UNION CANALETA TECHO MARRÓN I | H12: 25 | I12: Unitario
A13: Conducción Fluidos | B13: SOLUCIÓN CANALETAS PVC | C13: CANALETAS DE TECHO FT/ ACC | D13: ACC | E13: #VALUE! | F13: 346004 | G13: ESQUINERO EXTERIOR CANALETA TECHO BLANCO | H13: 17 | I13: Unitario
A14: Conducción Fluidos | B14: SOLUCIÓN CANALETAS PVC | C14: CANALETAS DE TECHO FT/ ACC | D14: ACC | F14: 346004M | G14: ESQUINERO EXTERIOR CANALETA TECHO MARRÓN | H14: 17 | I14: Unitario
A15: Conducción Fluidos | B15: SOLUCIÓN CANALETAS PVC | C15: CANALETAS DE TECHO FT/ ACC | D15: ACC | E15: #VALUE! | F15: 346014 | G15: ESQUINERO INTERIOR CANALETA TECHO BLANCO | H15: 17 | I15: Unitario
A16: Conducción Fluidos | B16: SOLUCIÓN CANALETAS PVC | C16: CANALETAS DE TECHO FT/ ACC | D16: ACC | F16: 346014M | G16: ESQUINERO INTERIOR CANALETA TECHO BLANCO | H16: 17 | I16: Unitario
A17: Conducción Fluidos | B17: SOLUCIÓN CANALETAS PVC | C17: CANALETAS DE TECHO FT/ ACC | D17: ACC | E17: #VALUE! | F17: 346021 | G17: TAPA UNIVERSAL ACCESORIO CANALETA BLANCO | H17: 10 | I17: Unitario
A18: Conducción Fluidos | B18: SOLUCIÓN CANALETAS PVC | C18: CANALETAS DE TECHO FT/ ACC | D18: ACC | F18: 346021M | G18: TAPA UNIVERSAL ACCESORIO CANALETA MARRON | H18: 10 | I18: Unitario
A19: Conducción Fluidos | B19: SOLUCIÓN CANALETAS PVC | C19: CANALETAS DE TECHO FT/ ACC | D19: ACC | E19: #VALUE! | F19: 346005 | G19: TAPA ACCESORIO CANALETA DERECHA BLANCO I | H19: 10 | I19: Unitario
A20: Conducción Fluidos | B20: SOLUCIÓN CANALETAS PVC | C20: CANALETAS DE TECHO FT/ ACC | D20: ACC | F20: 346005M | G20: TAPA ACCESORIO CANALETA DERECHA MARRÓN I | H20: 10 | I20: Unitario
A21: Conducción Fluidos | B21: SOLUCIÓN CANALETAS PVC | C21: CANALETAS DE TECHO FT/ ACC | D21: ACC | E21: #VALUE! | F21: 346006 | G21: TAPA ACCESORIO CANALETA IZQUIERDA BLANCO | H21: 10 | I21: Unitario
A22: Conducción Fluidos | B22: SOLUCIÓN CANALETAS PVC | C22: CANALETAS DE TECHO FT/ ACC | D22: ACC | F22: 346006M | G22: TAPA ACCESORIO CANALETA IZQUIERDA MARRÓN | H22: 10 | I22: Unitario
A23: Conducción Fluidos | B23: SOLUCIÓN CANALETAS PVC | C23: CANALETAS DE TECHO FT/ ACC | D23: ACC | E23: #VALUE! | F23: 346015 | G23: TAPA UNIVERSAL CANALETA TECHO BLANCO I | H23: 10 | I23: Unitario
A24: Conducción Fluidos | B24: SOLUCIÓN CANALETAS PVC | C24: CANALETAS DE TECHO FT/ ACC | D24: ACC | F24: 346015M | G24: TAPA UNIVERSAL CANALETA TECHO MARRÓN I | H24: 10 | I24: Unitario
A25: Conducción Fluidos | B25: SOLUCIÓN CANALETAS PVC | C25: CANALETAS DE TECHO FT/ ACC | D25: ACC | E25: #VALUE! | F25: 346007 | G25: GANCHO TRADICIONAL CANALETA TECHO BLANCO | H25: 50 | I25: Unitario
A26: Conducción Fluidos | B26: SOLUCIÓN CANALETAS PVC | C26: CANALETAS DE TECHO FT/ ACC | D26: ACC | F26: 346007M | G26: GANCHO TRADICIONAL CANALETA TECHO MARRÓN | H26: 50 | I26: Unitario
A27: Conducción Fluidos | B27: SOLUCIÓN CANALETAS PVC | C27: CANALETAS DE TECHO FT/ ACC | D27: ACC | E27: #VALUE! | F27: 346012 | G27: GANCHO INVISIBLE CANALETA TECHO BLANCO I | H27: 20 | I27: Unitario
A28: Conducción Fluidos | B28: SOLUCIÓN CANALETAS PVC | C28: CANALETAS DE TECHO FT/ ACC | D28: ACC | F28: 346012M | G28: GANCHO INVISIBLE CANALETA TECHO MARRÓN I | H28: 20 | I28: Unitario
A29: Conducción Fluidos | B29: SOLUCIÓN CANALETAS PVC | C29: CANALETAS DE TECHO FT/ ACC | D29: ACC | E29: #VALUE! | F29: 346008 | G29: CODO 45° H-H ACC CANALETA TECHO BLANCO I | H29: 5 | I29: Unitario
A30: Conducción Fluidos | B30: SOLUCIÓN CANALETAS PVC | C30: CANALETAS DE TECHO FT/ ACC | D30: ACC | F30: 346008M | G30: CODO 45° H-H ACC CANALETA TECHO MARRÓN I | H30: 5 | I30: Unitario
A31: Conducción Fluidos | B31: SOLUCIÓN CANALETAS PVC | C31: CANALETAS DE TECHO FT/ ACC | D31: ACC | E31: #VALUE! | F31: 346009 | G31: CODO 90° H-H ACC CANALETA TECHO BLANCO I | H31: 10 | I31: Unitario
A32: Conducción Fluidos | B32: SOLUCIÓN CANALETAS PVC | C32: CANALETAS DE TECHO FT/ ACC | D32: ACC | F32: 346009M | G32: CODO 90° H-H ACC CANALETA TECHO MARRÓN I | H32: 10 | I32: Unitario
A33: Conducción Fluidos | B33: SOLUCIÓN CANALETAS PVC | C33: CANALETAS DE TECHO FT/ ACC | D33: ACC | E33: #VALUE! | F33: 46019 | G33: CANAL TECHO ACC CODO 90° M-H BLANCO N | H33: 1 | I33: Unitario
A34: Conducción Fluidos | B34: SOLUCIÓN CANALETAS PVC | C34: CANALETAS DE TECHO FT/ ACC | D34: ACC | F34: 46019M | G34: CANAL TECHO ACC CODO 90° M-H MARRON N | H34: 1 | I34: Unitario
A35: Conducción Fluidos | B35: SOLUCIÓN CANALETAS PVC | C35: CANALETAS DE TECHO FT/ ACC | D35: ACC | E35: #VALUE! | F35: 346010 | G35: COPLA BAJADA ACC CANALETA TECHO BLANCO I | H35: 10 | I35: Unitario
A36: Conducción Fluidos | B36: SOLUCIÓN CANALETAS PVC | C36: CANALETAS DE TECHO FT/ ACC | D36: ACC | F36: 346010M | G36: COPLA BAJADA ACC CANALETA TECHO MARRÓN I | H36: 10 | I36: Unitario
A37: Conducción Fluidos | B37: SOLUCIÓN CANALETAS PVC | C37: CANALETAS DE TECHO FT/ ACC | D37: ACC | E37: #VALUE! | F37: 346011 | G37: ABRAZADERA TUBO BAJADA CAN. TECHO BLANCO | H37: 10 | I37: Unitario
A38: Conducción Fluidos | B38: SOLUCIÓN CANALETAS PVC | C38: CANALETAS DE TECHO FT/ ACC | D38: ACC | F38: 346011M | G38: ABRAZADERA TUBO BAJADA CAN. TECHO MARRÓN | H38: 10 | I38: Unitario
A39: Conducción Fluidos | B39: SOLUCIÓN CANALETAS PVC | C39: CANALETAS DE TECHO FT/ ACC | D39: ACC | E39: #VALUE! | F39: 346013 | G39: CODO BAJADA ACC CANALETA TECHO BLANCO | H39: 10 | I39: Unitario
A40: Conducción Fluidos | B40: SOLUCIÓN CANALETAS PVC | C40: CANALETAS DE TECHO FT/ ACC | D40: ACC | F40: 346013M | G40: CODO BAJADA ACC CANALETA TECHO MARRÓN | H40: 10 | I40: Unitario
A41: Conducción Fluidos | B41: SOLUCIÓN CANALETAS PVC | C41: CANALETAS DE TECHO FT/ ACC | D41: ACC | E41: #VALUE! | F41: 346017 | G41: BAJADA CONICA ACC CANALETA TECHO BLANCO | H41: 1 | I41: Unitario
A42: Conducción Fluidos | B42: SOLUCIÓN CANALETAS PVC | C42: CANALETAS DE TECHO FT/ ACC | D42: FT | E42: #VALUE! | F42: 346020 | G42: ESQUINERO UNIVERSAL ACC CAN TECHO BLANCO | H42: 10 | I42: Unitario
A43: Conducción Fluidos | B43: SOLUCIÓN CANALETAS PVC | C43: CANALETAS DE TECHO FT/ ACC | D43: FT | F43: 346020M | G43: ESQUINERO UNIVERSAL ACC CAN TECHO MARRON | H43: 10 | I43: Unitario
A44: Conducción Fluidos | B44: SOLUCIÓN CANALETAS PVC | C44: CANALETAS DE TECHO FT/ ACC | D44: FT | E44: #VALUE! | F44: 346022 | G44: DROPPER GUIA GOTAS CANALETA TECHO BLANCO | H44: 10 | I44: Unitario
A45: Conducción Fluidos | B45: SOLUCIÓN CANALETAS PVC | C45: CANALETAS DE TECHO FT/ ACC | D45: FT | F45: 346022M | G45: DROPPER GUIA GOTAS CANALETA TECHO MARRON | H45: 10 | I45: Unitario
A46: Conducción Fluidos | B46: SOLUCIÓN CANALETAS PVC | C46: CANALETAS DE TECHO FT/ ACC | D46: ACC | E46: #VALUE! | F46: 346016 | G46: GANCHO METALICO ACC. CANAL TECHO PLATEAD | H46: 10 | I46: Unitario

Sheet Riego
A1: Volver al menú principal | B1: SISTEMAS HIDRÁULICOS FEBRERO 2026 - LISTA PRECIOS
A2: Categoría Madre | B2: Categoría | C2: Nuevo Grupo SAP | D2: Formato | E2: FOTO | F2: SKU-SH | G2: Descripción SAP 01.26 | H2: UNIDAD MÍNIMA DE VENTA (UNIDADES) | I2: UNIDAD MÍNIMA DE VENTA (FORMATO) | K2: CANTIDAD A COTIZAR
A3: Conducción Fluidos | B3: RIEGO Y DISTRIBUCIÓN HIDRÁULICA | C3: TUBO PLANSA | D3: TB | E3: #VALUE! | F3: 15562 | G3: TUBO PEBD PLANSA VIRG LISA 1/2' 1.0X50M | H3: 1 | I3: Unitario
A4: Conducción Fluidos | B4: RIEGO Y DISTRIBUCIÓN HIDRÁULICA | C4: TUBO PLANSA | D4: TB | F4: 15563 | G4: TUBO PEBD PLANSA VIRG LISA 1/2' 1.0X100M | H4: 1 | I4: Unitario
A5: Conducción Fluidos | B5: RIEGO Y DISTRIBUCIÓN HIDRÁULICA | C5: TUBO PLANSA | D5: TB | F5: 15506 | G5: TUBO PEBD PLANSA RECI LISA 3/4' 1.0X100M | H5: 1 | I5: Unitario
A6: Conducción Fluidos | B6: RIEGO Y DISTRIBUCIÓN HIDRÁULICA | C6: TUBO PLANSA | D6: TB | F6: 15509 | G6: TUBO PEBD PLANSA RECI LISA 1' 1.0X100M | H6: 1 | I6: Unitario
A7: Conducción Fluidos | B7: RIEGO Y DISTRIBUCIÓN HIDRÁULICA | C7: FITTINGS PLANSA | D7: FT | E7: #VALUE! | F7: 15570 | G7: PP VENTOSA DOBLE EFECTO 1 GTR PN 8 | H7: 1 | I7: Unitario
A8: Conducción Fluidos | B8: RIEGO Y DISTRIBUCIÓN HIDRÁULICA | C8: FITTINGS PLANSA | D8: FT | F8: 15571 | G8: PP VENTOSA DOBLE EFECTO 2 GTR PN 16 | H8: 1 | I8: Unitario
A9: Conducción Fluidos | B9: RIEGO Y DISTRIBUCIÓN HIDRÁULICA | C9: FITTINGS PLANSA | D9: FT | E9: #VALUE! | F9: 15572 | G9: PP FT PLANSA CONECTOR INICIAL 16 BILABIA | H9: 100 | I9: Bolsa
A10: Conducción Fluidos | B10: RIEGO Y DISTRIBUCIÓN HIDRÁULICA | C10: FITTINGS PLANSA | D10: FT | E10: #VALUE! | F10: 15573 | G10: PP FT PLANSA GOMA CONECTOR INICIAL 16 | H10: 100 | I10: Bolsa
A11: Conducción Fluidos | B11: RIEGO Y DISTRIBUCIÓN HIDRÁULICA | C11: FITTINGS PLANSA | D11: FT | E11: #VALUE! | F11: 15574 | G11: PP FT PLANSA COPLA 16 | H11: 100 | I11: Bolsa
A12: Conducción Fluidos | B12: RIEGO Y DISTRIBUCIÓN HIDRÁULICA | C12: FITTINGS PLANSA | D12: FT | E12: #VALUE! | F12: 15575 | G12: PP FT PLANSA TEE 16 | H12: 50 | I12: Bolsa
A13: Conducción Fluidos | B13: RIEGO Y DISTRIBUCIÓN HIDRÁULICA | C13: FITTINGS PLANSA | D13: FT | E13: #VALUE! | F13: 15576 | G13: PP FT PLANSA CODO 16 | H13: 100 | I13: Bolsa
A14: Conducción Fluidos | B14: RIEGO Y DISTRIBUCIÓN HIDRÁULICA | C14: FITTINGS PLANSA | D14: FT | E14: #VALUE! | F14: 15577 | G14: PP FT PLANSA TAPON GOTERO 4 | H14: 1000 | I14: Bolsa
A15: Conducción Fluidos | B15: RIEGO Y DISTRIBUCIÓN HIDRÁULICA | C15: FITTINGS PLANSA | D15: FT | E15: #VALUE! | F15: 15578 | G15: PP FT PLANSA ANILLO FINAL 16 (TERMINAL) | H15: 250 | I15: Bolsa
A16: Conducción Fluidos | B16: RIEGO Y DISTRIBUCIÓN HIDRÁULICA | C16: FITTINGS PLANSA | D16: FT | E16: #VALUE! | F16: 15579 | G16: PP FT PLANSA GOTERO REGUL 0-60LTS CHERRY | H16: 100 | I16: Bolsa
A17: Conducción Fluidos | B17: RIEGO Y DISTRIBUCIÓN HIDRÁULICA | C17: FITTINGS PLANSA | D17: FT | E17: #VALUE! | F17: 15581 | G17: PP PLANSA LL/V VALVULA RAMAL NARANJA | H17: 35 | I17: Bolsa
A18: Conducción Fluidos | B18: RIEGO Y DISTRIBUCIÓN HIDRÁULICA | C18: FITTINGS PLANSA | D18: FT | E18: #VALUE! | F18: 15582 | G18: PP FT PLANSA ASPERSOR 1/2' | H18: 1 | I18: Unitario
A19: Conducción Fluidos | B19: RIEGO Y DISTRIBUCIÓN HIDRÁULICA | C19: FITTINGS PLANSA | D19: HERR | E19: #VALUE! | F19: 15580 | G19: PP HERR PLANSA SACABOCADOS 3 MM P.CAR | H19: 1 | I19: Unitario
A20: Conducción Fluidos | B20: RIEGO Y DISTRIBUCIÓN HIDRÁULICA | C20: FITTINGS COMPRESION | D20: FT | E20: #VALUE! | F20: 63400 | G20: PP COMPRES FT COPLA 20 | H20: 20 | I20: Bolsa
A21: Conducción Fluidos | B21: RIEGO Y DISTRIBUCIÓN HIDRÁULICA | C21: FITTINGS COMPRESION | D21: FT | F21: 63401 | G21: PP COMPRES FT COPLA 25 | H21: 10 | I21: Bolsa
A22: Conducción Fluidos | B22: RIEGO Y DISTRIBUCIÓN HIDRÁULICA | C22: FITTINGS COMPRESION | D22: FT | F22: 63402 | G22: PP COMPRES FT COPLA 32 | H22: 7 | I22: Bolsa
A23: Conducción Fluidos | B23: RIEGO Y DISTRIBUCIÓN HIDRÁULICA | C23: FITTINGS COMPRESION | D23: FT | F23: 63403 | G23: PP COMPRES FT COPLA 40 | H23: 4 | I23: Bolsa
A24: Conducción Fluidos | B24: RIEGO Y DISTRIBUCIÓN HIDRÁULICA | C24: FITTINGS COMPRESION | D24: FT | F24: 63404 | G24: PP COMPRES FT COPLA 50 | H24: 1 | I24: Bolsa
A25: Conducción Fluidos | B25: RIEGO Y DISTRIBUCIÓN HIDRÁULICA | C25: FITTINGS COMPRESION | D25: FT | F25: 63405 | G25: PP COMPRES FT COPLA 63 | H25: 1 | I25: Bolsa
A26: Conducción Fluidos | B26: RIEGO Y DISTRIBUCIÓN HIDRÁULICA | C26: FITTINGS COMPRESION | D26: FT | E26: #VALUE! | F26: 63410 | G26: PP COMPRES FT COPLA RED 25X20 | H26: 15 | I26: Bolsa
A27: Conducción Fluidos | B27: RIEGO Y DISTRIBUCIÓN HIDRÁULICA | C27: FITTINGS COMPRESION | D27: FT | F27: 63411 | G27: PP COMPRES FT COPLA RED 32X20 | H27: 8 | I27: Bolsa
A28: Conducción Fluidos | B28: RIEGO Y DISTRIBUCIÓN HIDRÁULICA | C28: FITTINGS COMPRESION | D28: FT | F28: 63412 | G28: PP COMPRES FT COPLA RED 32X25 | H28: 8 | I28: Bolsa
A29: Conducción Fluidos | B29: RIEGO Y DISTRIBUCIÓN HIDRÁULICA | C29: FITTINGS COMPRESION | D29: FT | F29: 63413 | G29: PP COMPRES FT COPLA RED 40X25 | H29: 5 | I29: Bolsa
A30: Conducción Fluidos | B30: RIEGO Y DISTRIBUCIÓN HIDRÁULICA | C30: FITTINGS COMPRESION | D30: FT | F30: 63414 | G30: PP COMPRES FT COPLA RED 40X32 | H30: 4 | I30: Bolsa
A31: Conducción Fluidos | B31: RIEGO Y DISTRIBUCIÓN HIDRÁULICA | C31: FITTINGS COMPRESION | D31: FT | F31: 63415 | G31: PP COMPRES FT COPLA RED 50X20 | H31: 1 | I31: Bolsa
A32: Conducción Fluidos | B32: RIEGO Y DISTRIBUCIÓN HIDRÁULICA | C32: FITTINGS COMPRESION | D32: FT | F32: 63416 | G32: PP COMPRES FT COPLA RED 50X25 | H32: 1 | I32: Bolsa
A33: Conducción Fluidos | B33: RIEGO Y DISTRIBUCIÓN HIDRÁULICA | C33: FITTINGS COMPRESION | D33: FT | F33: 63417 | G33: PP COMPRES FT COPLA RED 50X32 | H33: 1 | I33: Bolsa
A34: Conducción Fluidos | B34: RIEGO Y DISTRIBUCIÓN HIDRÁULICA | C34: FITTINGS COMPRESION | D34: FT | F34: 63418 | G34: PP COMPRES FT COPLA RED 50X40 | H34: 1 | I34: Bolsa
A35: Conducción Fluidos | B35: RIEGO Y DISTRIBUCIÓN HIDRÁULICA | C35: FITTINGS COMPRESION | D35: FT | F35: 63419 | G35: PP COMPRES FT COPLA RED 63X25 | H35: 1 | I35: Bolsa
A36: Conducción Fluidos | B36: RIEGO Y DISTRIBUCIÓN HIDRÁULICA | C36: FITTINGS COMPRESION | D36: FT | F36: 63420 | G36: PP COMPRES FT COPLA RED 63X32 | H36: 1 | I36: Bolsa
A37: Conducción Fluidos | B37: RIEGO Y DISTRIBUCIÓN HIDRÁULICA | C37: FITTINGS COMPRESION | D37: FT | F37: 63421 | G37: PP COMPRES FT COPLA RED 63X40 | H37: 1 | I37: Bolsa
A38: Conducción Fluidos | B38: RIEGO Y DISTRIBUCIÓN HIDRÁULICA | C38: FITTINGS COMPRESION | D38: FT | F38: 63422 | G38: PP COMPRES FT COPLA RED 63X50 | H38: 1 | I38: Bolsa
A39: Conducción Fluidos | B39: RIEGO Y DISTRIBUCIÓN HIDRÁULICA | C39: FITTINGS COMPRESION | D39: FT | E39: #VALUE! | F39: 63503 | G39: PP COMPRES FT TERMINAL C/REF HI 20X1/2 | H39: 30 | I39: Bolsa
A40: Conducción Fluidos | B40: RIEGO Y DISTRIBUCIÓN HIDRÁULICA | C40: FITTINGS COMPRESION | D40: FT | F40: 63506 | G40: PP COMPRES FT TERMINAL C/REF HI 20X3/4 | H40: 20 | I40: Bolsa
A41: Conducción Fluidos | B41: RIEGO Y DISTRIBUCIÓN HIDRÁULICA | C41: FITTINGS COMPRESION | D41: FT | F41: 63507 | G41: PP COMPRES FT TERMINAL C/REF HI 20X1 | H41: 20 | I41: Bolsa
A42: Conducción Fluidos | B42: RIEGO Y DISTRIBUCIÓN HIDRÁULICA | C42: FITTINGS COMPRESION | D42: FT | F42: 63508 | G42: PP COMPRES FT TERMINAL C/REF HI 25X1/2 | H42: 20 | I42: Bolsa
A43: Conducción Fluidos | B43: RIEGO Y DISTRIBUCIÓN HIDRÁULICA | C43: FITTINGS COMPRESION | D43: FT | F43: 63504 | G43: PP COMPRES FT TERMINAL C/REF HI 25X3/4 | H43: 20 | I43: Bolsa
A44: Conducción Fluidos | B44: RIEGO Y DISTRIBUCIÓN HIDRÁULICA | C44: FITTINGS COMPRESION | D44: FT | F44: 63509 | G44: PP COMPRES FT TERMINAL C/REF HI 25X1 | H44: 20 | I44: Bolsa
A45: Conducción Fluidos | B45: RIEGO Y DISTRIBUCIÓN HIDRÁULICA | C45: FITTINGS COMPRESION | D45: FT | F45: 63510 | G45: PP COMPRES FT TERMINAL C/REF HI 32X1/2 | H45: 10 | I45: Bolsa
A46: Conducción Fluidos | B46: RIEGO Y DISTRIBUCIÓN HIDRÁULICA | C46: FITTINGS COMPRESION | D46: FT | F46: 63511 | G46: PP COMPRES FT TERMINAL C/REF HI 32X3/4 | H46: 10 | I46: Bolsa
A47: Conducción Fluidos | B47: RIEGO Y DISTRIBUCIÓN HIDRÁULICA | C47: FITTINGS COMPRESION | D47: FT | F47: 63512 | G47: PP COMPRES FT TERMINAL C/REF HI 32X1 | H47: 10 | I47: Bolsa
A48: Conducción Fluidos | B48: RIEGO Y DISTRIBUCIÓN HIDRÁULICA | C48: FITTINGS COMPRESION | D48: FT | F48: 63513 | G48: PP COMPRES FT TERMINAL C/REF HI 32X1 1/4 | H48: 10 | I48: Bolsa
A49: Conducción Fluidos | B49: RIEGO Y DISTRIBUCIÓN HIDRÁULICA | C49: FITTINGS COMPRESION | D49: FT | F49: 63514 | G49: PP COMPRES FT TERMINAL C/REF HI 40X1 | H49: 6 | I49: Bolsa
A50: Conducción Fluidos | B50: RIEGO Y DISTRIBUCIÓN HIDRÁULICA | C50: FITTINGS COMPRESION | D50: FT | F50: 63515 | G50: PP COMPRES FT TERMINAL C/REF HI 40X1 1/4 | H50: 6 | I50: Bolsa
A51: Conducción Fluidos | B51: RIEGO Y DISTRIBUCIÓN HIDRÁULICA | C51: FITTINGS COMPRESION | D51: FT | F51: 63516 | G51: PP COMPRES FT TERMINAL C/REF HI 40X1 1/2 | H51: 6 | I51: Bolsa
... A57: Conducción Fluidos | B57: RIEGO Y DISTRIBUCIÓN HIDRÁULICA | C57: FITTINGS COMPRESION | D57: FT | F57: 63522 | G57: PP COMPRES FT TERMINAL C/REF HI 63X2 | H57: 1 | I57: Bolsa
A58: Conducción Fluidos | B58: RIEGO Y DISTRIBUCIÓN HIDRÁULICA | C58: FITTINGS COMPRESION | D58: FT | E58: #VALUE! | F58: 63501 | G58: PP COMPRES FT TERMINAL HE 20X1/2 | H58: 30 | I58: Bolsa
A59: Conducción Fluidos | B59: RIEGO Y DISTRIBUCIÓN HIDRÁULICA | C59: FITTINGS COMPRESION | D59: FT | F59: 63530 | G59: PP COMPRES FT TERMINAL HE 20X3/4 | H59: 30 | I59: Bolsa
A60: Conducción Fluidos | B60: RIEGO Y DISTRIBUCIÓN HIDRÁULICA | C60: FITTINGS COMPRESION | D60: FT | F60: 63531 | G60: PP COMPRES FT TERMINAL HE 20X1 | H60: 30 | I60: Bolsa
A61: Conducción Fluidos | B61: RIEGO Y DISTRIBUCIÓN HIDRÁULICA | C61: FITTINGS COMPRESION | D61: FT | F61: 63532 | G61: PP COMPRES FT TERMINAL HE 25X1/2 | H61: 20 | I61: Bolsa
A62: Conducción Fluidos | B62: RIEGO Y DISTRIBUCIÓN HIDRÁULICA | C62: FITTINGS COMPRESION | D62: FT | F62: 63502 | G62: PP COMPRES FT TERMINAL HE 25X3/4 | H62: 20 | I62: Bolsa
A63: Conducción Fluidos | B63: RIEGO Y DISTRIBUCIÓN HIDRÁULICA | C63: FITTINGS COMPRESION | D63: FT | F63: 63533 | G63: PP COMPRES FT TERMINAL HE 25X1 | H63: 20 | I63: Bolsa
A64: Conducción Fluidos | B64: RIEGO Y DISTRIBUCIÓN HIDRÁULICA | C64: FITTINGS COMPRESION | D64: FT | F64: 63534 | G64: PP COMPRES FT TERMINAL HE 32X1/2 | H64: 10 | I64: Bolsa
A65: Conducción Fluidos | B65: RIEGO Y DISTRIBUCIÓN HIDRÁULICA | C65: FITTINGS COMPRESION | D65: FT | F65: 63535 | G65: PP COMPRES FT TERMINAL HE 32X3/4 | H65: 10 | I65: Bolsa
A66: Conducción Fluidos | B66: RIEGO Y DISTRIBUCIÓN HIDRÁULICA | C66: FITTINGS COMPRESION | D66: FT | F66: 63536 | G66: PP COMPRES FT TERMINAL HE 32X1 | H66: 10 | I66: Bolsa
A67: Conducción Fluidos | B67: RIEGO Y DISTRIBUCIÓN HIDRÁULICA | C67: FITTINGS COMPRESION | D67: FT | F67: 63537 | G67: PP COMPRES FT TERMINAL HE 32X1 1/4 | H67: 10 | I67: Bolsa
A68: Conducción Fluidos | B68: RIEGO Y DISTRIBUCIÓN HIDRÁULICA | C68: FITTINGS COMPRESION | D68: FT | F68: 63538 | G68: PP COMPRES FT TERMINAL HE 40X1 | H68: 6 | I68: Bolsa
A69: Conducción Fluidos | B69: RIEGO Y DISTRIBUCIÓN HIDRÁULICA | C69: FITTINGS COMPRESION | D69: FT | F69: 63539 | G69: PP COMPRES FT TERMINAL HE 40X1 1/4 | H69: 6 | I69: Bolsa
A70: Conducción Fluidos | B70: RIEGO Y DISTRIBUCIÓN HIDRÁULICA | C70: FITTINGS COMPRESION | D70: FT | F70: 63540 | G70: PP COMPRES FT TERMINAL HE 40X1 1/2 | H70: 6 | I70: Bolsa
... A78: Conducción Fluidos | B78: RIEGO Y DISTRIBUCIÓN HIDRÁULICA | C78: FITTINGS COMPRESION | D78: FT | F78: 63548 | G78: PP COMPRES FT TERMINAL HE 63X2 1/2 | H78: 1 | I78: Bolsa
A79: Conducción Fluidos | B79: RIEGO Y DISTRIBUCIÓN HIDRÁULICA | C79: FITTINGS COMPRESION | D79: FT | E79: #VALUE! | F79: 63560 | G79: PP COMPRES FT TAPON 20 | H79: 30 | I79: Bolsa
A80: Conducción Fluidos | B80: RIEGO Y DISTRIBUCIÓN HIDRÁULICA | C80: FITTINGS COMPRESION | D80: FT | F80: 63561 | G80: PP COMPRES FT TAPON 25 | H80: 20 | I80: Bolsa
A81: Conducción Fluidos | B81: RIEGO Y DISTRIBUCIÓN HIDRÁULICA | C81: FITTINGS COMPRESION | D81: FT | F81: 63562 | G81: PP COMPRES FT TAPON 32 | H81: 10 | I81: Bolsa
A82: Conducción Fluidos | B82: RIEGO Y DISTRIBUCIÓN HIDRÁULICA | C82: FITTINGS COMPRESION | D82: FT | F82: 63563 | G82: PP COMPRES FT TAPON 40 | H82: 8 | I82: Bolsa
A83: Conducción Fluidos | B83: RIEGO Y DISTRIBUCIÓN HIDRÁULICA | C83: FITTINGS COMPRESION | D83: FT | F83: 63564 | G83: PP COMPRES FT TAPON 50 | H83: 1 | I83: Bolsa
A84: Conducción Fluidos | B84: RIEGO Y DISTRIBUCIÓN HIDRÁULICA | C84: FITTINGS COMPRESION | D84: FT | F84: 63565 | G84: PP COMPRES FT TAPON 63 | H84: 1 | I84: Bolsa
A85: Conducción Fluidos | B85: RIEGO Y DISTRIBUCIÓN HIDRÁULICA | C85: FITTINGS COMPRESION | D85: FT | E85: #VALUE! | F85: 63570 | G85: PP COMPRES FT TEE 20 | H85: 10 | I85: Bolsa
A86: Conducción Fluidos | B86: RIEGO Y DISTRIBUCIÓN HIDRÁULICA | C86: FITTINGS COMPRESION | D86: FT | F86: 63571 | G86: PP COMPRES FT TEE 25 | H86: 6 | I86: Bolsa
A87: Conducción Fluidos | B87: RIEGO Y DISTRIBUCIÓN HIDRÁULICA | C87: FITTINGS COMPRESION | D87: FT | F87: 63572 | G87: PP COMPRES FT TEE 32 | H87: 4 | I87: Bolsa
A88: Conducción Fluidos | B88: RIEGO Y DISTRIBUCIÓN HIDRÁULICA | C88: FITTINGS COMPRESION | D88: FT | F88: 63573 | G88: PP COMPRES FT TEE 40 | H88: 2 | I88: Bolsa
A89: Conducción Fluidos | B89: RIEGO Y DISTRIBUCIÓN HIDRÁULICA | C89: FITTINGS COMPRESION | D89: FT | F89: 63574 | G89: PP COMPRES FT TEE 50 | H89: 1 | I89: Bolsa
A90: Conducción Fluidos | B90: RIEGO Y DISTRIBUCIÓN HIDRÁULICA | C90: FITTINGS COMPRESION | D90: FT | F90: 63575 | G90: PP COMPRES FT TEE 63 | H90: 1 | I90: Bolsa
A91: Conducción Fluidos | B91: RIEGO Y DISTRIBUCIÓN HIDRÁULICA | C91: FITTINGS COMPRESION | D91: FT | E91: #VALUE! | F91: 63580 | G91: PP COMPRES FT TEE REDUCCION 25X20X25 | H91: 6 | I91: Bolsa
A92: Conducción Fluidos | B92: RIEGO Y DISTRIBUCIÓN HIDRÁULICA | C92: FITTINGS COMPRESION | D92: FT | F92: 63581 | G92: PP COMPRES FT TEE REDUCCION 32X20X32 | H92: 5 | I92: Bolsa
A93: Conducción Fluidos | B93: RIEGO Y DISTRIBUCIÓN HIDRÁULICA | C93: FITTINGS COMPRESION | D93: FT | F93: 63582 | G93: PP COMPRES FT TEE REDUCCION 32X25X32 | H93: 5 | I93: Bolsa
A94: Conducción Fluidos | B94: RIEGO Y DISTRIBUCIÓN HIDRÁULICA | C94: FITTINGS COMPRESION | D94: FT | F94: 63583 | G94: PP COMPRES FT TEE REDUCCION 40X20X40 | H94: 2 | I94: Bolsa
A95: Conducción Fluidos | B95: RIEGO Y DISTRIBUCIÓN HIDRÁULICA | C95: FITTINGS COMPRESION | D95: FT | F95: 63584 | G95: PP COMPRES FT TEE REDUCCION 40X32X40 | H95: 2 | I95: Bolsa
A96: Conducción Fluidos | B96: RIEGO Y DISTRIBUCIÓN HIDRÁULICA | C96: FITTINGS COMPRESION | D96: FT | F96: 63585 | G96: PP COMPRES FT TEE REDUCCION 50X25X50 | H96: 1 | I96: Bolsa
A97: Conducción Fluidos | B97: RIEGO Y DISTRIBUCIÓN HIDRÁULICA | C97: FITTINGS COMPRESION | D97: FT | F97: 63586 | G97: PP COMPRES FT TEE REDUCCION 50X32X50 | H97: 1 | I97: Bolsa
A98: Conducción Fluidos | B98: RIEGO Y DISTRIBUCIÓN HIDRÁULICA | C98: FITTINGS COMPRESION | D98: FT | F98: 63587 | G98: PP COMPRES FT TEE REDUCCION 50X40X50 | H98: 1 | I98: Bolsa
A99: Conducción Fluidos | B99: RIEGO Y DISTRIBUCIÓN HIDRÁULICA | C99: FITTINGS COMPRESION | D99: FT | F99: 63588 | G99: PP COMPRES FT TEE REDUCCION 63X25X63 | H99: 1 | I99: Bolsa
A100: Conducción Fluidos | B100: RIEGO Y DISTRIBUCIÓN HIDRÁULICA | C100: FITTINGS COMPRESION | D100: FT | F100: 63589 | G100: PP COMPRES FT TEE REDUCCION 63X32X63 | H100: 1 | I100: Bolsa
A101: Conducción Fluidos | B101: RIEGO Y DISTRIBUCIÓN HIDRÁULICA | C101: FITTINGS COMPRESION | D101: FT | F101: 63590 | G101: PP COMPRES FT TEE REDUCCION 63X40X63 | H101: 1 | I101: Bolsa
A102: Conducción Fluidos | B102: RIEGO Y DISTRIBUCIÓN HIDRÁULICA | C102: FITTINGS COMPRESION | D102: FT | F102: 63591 | G102: PP COMPRES FT TEE REDUCCION 63X50X63 | H102: 1 | I102: Bolsa
A103: Conducción Fluidos | B103: RIEGO Y DISTRIBUCIÓN HIDRÁULICA | C103: FITTINGS COMPRESION | D103: FT | E103: #VALUE! | F103: 63700 | G103: PP COMPRES FT TEE C/REFUERZO HI 20X1/2 | H103: 15 | I103: Bolsa
A104: Conducción Fluidos | B104: RIEGO Y DISTRIBUCIÓN HIDRÁULICA | C104: FITTINGS COMPRESION | D104: FT | F104: 63701 | G104: PP COMPRES FT TEE C/REFUERZO HI 20X3/4 | H104: 15 | I104: Bolsa
A105: Conducción Fluidos | B105: RIEGO Y DISTRIBUCIÓN HIDRÁULICA | C105: FITTINGS COMPRESION | D105: FT | F105: 63702 | G105: PP COMPRES FT TEE C/REFUERZO HI 20X1 | H105: 15 | I105: Bolsa
A106: Conducción Fluidos | B106: RIEGO Y DISTRIBUCIÓN HIDRÁULICA | C106: FITTINGS COMPRESION | D106: FT | F106: 63703 | G106: PP COMPRES FT TEE C/REFUERZO HI 25X1/2 | H106: 8 | I106: Bolsa
A107: Conducción Fluidos | B107: RIEGO Y DISTRIBUCIÓN HIDRÁULICA | C107: FITTINGS COMPRESION | D107: FT | F107: 63704 | G107: PP COMPRES FT TEE C/REFUERZO HI 25X3/4 | H107: 8 | I107: Bolsa
A108: Conducción Fluidos | B108: RIEGO Y DISTRIBUCIÓN HIDRÁULICA | C108: FITTINGS COMPRESION | D108: FT | F108: 63705 | G108: PP COMPRES FT TEE C/REFUERZO HI 25X1 | H108: 8 | I108: Bolsa
A109: Conducción Fluidos | B109: RIEGO Y DISTRIBUCIÓN HIDRÁULICA | C109: FITTINGS COMPRESION | D109: FT | F109: 63706 | G109: PP COMPRES FT TEE C/REFUERZO HI 32X1/2 | H109: 5 | I109: Bolsa
A110: Conducción Fluidos | B110: RIEGO Y DISTRIBUCIÓN HIDRÁULICA | C110: FITTINGS COMPRESION | D110: FT | F110: 63707 | G110: PP COMPRES FT TEE C/REFUERZO HI 32X3/4 | H110: 5 | I110: Bolsa
A111: Conducción Fluidos | B111: RIEGO Y DISTRIBUCIÓN HIDRÁULICA | C111: FITTINGS COMPRESION | D111: FT | F111: 63708 | G111: PP COMPRES FT TEE C/REFUERZO HI 32X1 | H111: 5 | I111: Bolsa
A112: Conducción Fluidos | B112: RIEGO Y DISTRIBUCIÓN HIDRÁULICA | C112: FITTINGS COMPRESION | D112: FT | F112: 63709 | G112: PP COMPRES FT TEE C/REFUERZO HI 40X1 | H112: 2 | I112: Bolsa
...

Sheet Mangueras
A1: Volver al menú principal | B1: SISTEMAS HIDRÁULICOS FEBRERO 2026 - LISTA PRECIOS
A2: Categoría Madre | B2: Categoría | C2: Nuevo Grupo SAP | D2: Formato | E2: FOTO | F2: SKU-SH | G2: Descripción SAP 01.26 | H2: UNIDAD MÍNIMA DE VENTA (UNIDADES) | I2: UNIDAD MÍNIMA DE VENTA (FORMATO) | K2: CANTIDAD A COTIZAR
A3: Conducción Fluidos | B3: MANGUERAS Y ACCESORIOS | C3: MANGUERAS Y ACC. PISCINA | D3: ROLLO 10 MT | E3: #VALUE! | F3: 90034 | G3: MANGUERA PISCINA SWIMBOY 38mm 10 MT | H3: 1 | I3: Unitario
A4: Conducción Fluidos | B4: MANGUERAS Y ACCESORIOS | C4: MANGUERAS Y ACC. PISCINA | D4: ROLLO 15 MT | F4: 90035 | G4: MANGUERA PISCINA SWIMBOY 38mm 15 MT | H4: 1 | I4: Unitario
A5: Conducción Fluidos | B5: MANGUERAS Y ACCESORIOS | C5: MANGUERAS Y ACC. PISCINA | D5: ROLLO 20 MT | F5: 90036 | G5: MANGUERA PISCINA SWIMBOY 38mm 20 MT | H5: 1 | I5: Unitario
A6: Conducción Fluidos | B6: MANGUERAS Y ACCESORIOS | C6: MANGUERAS Y ACC. PISCINA | D6: ROLLO 25 MT | F6: 90037 | G6: MANGUERA PISCINA SWIMBOY 38mm 25 MT | H6: 1 | I6: Unitario
A7: Conducción Fluidos | B7: MANGUERAS Y ACCESORIOS | C7: MANGUERAS Y ACC. PISCINA | D7: SET | E7: #VALUE! | F7: 90038 | G7: CONECTOR MANGUERA PISCINA | H7: 1 | I7: Unitario
A8: Conducción Fluidos | B8: MANGUERAS Y ACCESORIOS | C8: MANGUERAS Y ACC. RIEGO JARDÍN | D8: ROLLO 100 MT | E8: #VALUE! | F8: 90001 | G8: MANGUERA 1/2" ESTRIADA BICOLOR 100 MT | H8: 1 | I8: Unitario
A9: Conducción Fluidos | B9: MANGUERAS Y ACCESORIOS | C9: MANGUERAS Y ACC. RIEGO JARDÍN | D9: ROLLO 100 MT | E9: #VALUE! | F9: 90002 | G9: MANGUERA 1/2" ESTRIADA CRISTAL 100 MT | H9: 1 | I9: Unitario
A10: Conducción Fluidos | B10: MANGUERAS Y ACCESORIOS | C10: MANGUERAS Y ACC. RIEGO JARDÍN | D10: ROLLO 10 MT | E10: #VALUE! | F10: 90003 | G10: MANGUERA 1/2" ESTRIADA BICOLOR 10 MTS | H10: 1 | I10: Unitario
A11: Conducción Fluidos | B11: MANGUERAS Y ACCESORIOS | C11: MANGUERAS Y ACC. RIEGO JARDÍN | D11: ROLLO 15 MT | F11: 90004 | G11: MANGUERA 1/2" ESTRIADA BICOLOR 15 MTS | H11: 1 | I11: Unitario
A12: Conducción Fluidos | B12: MANGUERAS Y ACCESORIOS | C12: MANGUERAS Y ACC. RIEGO JARDÍN | D12: ROLLO 20 MT | F12: 90005 | G12: MANGUERA 1/2" ESTRIADA BICOLOR 20 MTS | H12: 1 | I12: Unitario
A13: Conducción Fluidos | B13: MANGUERAS Y ACCESORIOS | C13: MANGUERAS Y ACC. RIEGO JARDÍN | D13: ROLLO 10 MT | E13: #VALUE! | F13: 90006 | G13: SET MANGUERA 1/2" ESTRIADA BICOLOR 10 MT | H13: 1 | I13: Unitario
A14: Conducción Fluidos | B14: MANGUERAS Y ACCESORIOS | C14: MANGUERAS Y ACC. RIEGO JARDÍN | D14: ROLLO 15 MT | F14: 90007 | G14: SET MANGUERA 1/2" ESTRIADA BICOLOR 15 MT | H14: 1 | I14: Unitario
A15: Conducción Fluidos | B15: MANGUERAS Y ACCESORIOS | C15: MANGUERAS Y ACC. RIEGO JARDÍN | D15: ROLLO 20 MT | F15: 90008 | G15: SET MANGUERA 1/2" ESTRIADA BICOLOR 20 MT | H15: 1 | I15: Unitario
A16: Conducción Fluidos | B16: MANGUERAS Y ACCESORIOS | C16: MANGUERAS Y ACC. RIEGO JARDÍN | D16: ROLLO 100 MT | E16: #VALUE! | F16: 90009 | G16: MANGUERA EXTRA DUOCOLOR 1/2" 100 MT | H16: 1 | I16: Unitario
A17: Conducción Fluidos | B17: MANGUERAS Y ACCESORIOS | C17: MANGUERAS Y ACC. RIEGO JARDÍN | D17: ROLLO 100 MT | E17: #VALUE! | F17: 90010 | G17: MANGUERA EXTRA CRISTAL 1/2" 100 MT (V/C) | H17: 1 | I17: Unitario
A18: Conducción Fluidos | B18: MANGUERAS Y ACCESORIOS | C18: MANGUERAS Y ACC. RIEGO JARDÍN | D18: ROLLO 100 MT | F18: 90011 | G18: MANGUERA EXTRA CRISTAL 3/4" 100 MT (V/C) | H18: 1 | I18: Unitario
A19: Conducción Fluidos | B19: MANGUERAS Y ACCESORIOS | C19: MANGUERAS Y ACC. RIEGO JARDÍN | D19: ROLLO 101 MT | F19: 90012 | G19: MANGUERA EXTRA CRISTAL 1" 100 MT (V/C) | H19: 1 | I19: Unitario
A20: Conducción Fluidos | B20: MANGUERAS Y ACCESORIOS | C20: MANGUERAS Y ACC. RIEGO JARDÍN | D20: ROLLO 102 MT | E20: #VALUE! | F20: 90013 | G20: MANGUERA EXTRA VERDE 1/2" 100 MT (V) | H20: 1 | I20: Unitario
A21: Conducción Fluidos | B21: MANGUERAS Y ACCESORIOS | C21: MANGUERAS Y ACC. RIEGO JARDÍN | D21: ROLLO 103 MT | F21: 90014 | G21: MANGUERA EXTRA VERDE 3/4" 100 MT (V) | H21: 1 | I21: Unitario
A22: Conducción Fluidos | B22: MANGUERAS Y ACCESORIOS | C22: MANGUERAS Y ACC. RIEGO JARDÍN | D22: ROLLO 104 MT | F22: 90015 | G22: MANGUERA EXTRA VERDE 1" 100 MT (V) | H22: 1 | I22: Unitario
A23: Conducción Fluidos | B23: MANGUERAS Y ACCESORIOS | C23: MANGUERAS Y ACC. RIEGO JARDÍN | D23: ROLLO 105 MT | E23: #VALUE! | F23: 90016 | G23: MANGUERA EXTRA BICOLOR 3/4" 100 MT (V/B) | H23: 1 | I23: Unitario
A24: Conducción Fluidos | B24: MANGUERAS Y ACCESORIOS | C24: MANGUERAS Y ACC. RIEGO JARDÍN | D24: ROLLO 106 MT | F24: 90017 | G24: MANGUERA EXTRA BICOLOR 1" 100 MT (V/B) | H24: 1 | I24: Unitario
A25: Conducción Fluidos | B25: MANGUERAS Y ACCESORIOS | C25: MANGUERAS Y ACC. RIEGO JARDÍN | D25: ROLLO 10 MT | E25: #VALUE! | F25: 90018 | G25: MANGUERA CRISTAL 1/2" 10 MT (C) | H25: 1 | I25: Unitario
A26: Conducción Fluidos | B26: MANGUERAS Y ACCESORIOS | C26: MANGUERAS Y ACC. RIEGO JARDÍN | D26: ROLLO 15 MT | F26: 90019 | G26: MANGUERA CRISTAL 1/2" 15 MT (C) | H26: 1 | I26: Unitario
A27: Conducción Fluidos | B27: MANGUERAS Y ACCESORIOS | C27: MANGUERAS Y ACC. RIEGO JARDÍN | D27: ROLLO 20 MT | F27: 90020 | G27: MANGUERA CRISTAL 1/2" 20 MT (C) | H27: 1 | I27: Unitario
A28: Conducción Fluidos | B28: MANGUERAS Y ACCESORIOS | C28: MANGUERAS Y ACC. RIEGO JARDÍN | D28: ROLLO 10 MT | F28: 90021 | G28: SET MANGUERA CRISTAL 1/2" 10 MT (C) | H28: 1 | I28: Unitario
A29: Conducción Fluidos | B29: MANGUERAS Y ACCESORIOS | C29: MANGUERAS Y ACC. RIEGO JARDÍN | D29: ROLLO 15 MT | F29: 90022 | G29: SET MANGUERA CRISTAL 1/2" 15 MT (C) | H29: 1 | I29: Unitario
A30: Conducción Fluidos | B30: MANGUERAS Y ACCESORIOS | C30: MANGUERAS Y ACC. RIEGO JARDÍN | D30: ROLLO 20 MT | F30: 90023 | G30: SET MANGUERA CRISTAL 1/2" 20 MT (C) | H30: 1 | I30: Unitario
A31: Conducción Fluidos | B31: MANGUERAS Y ACCESORIOS | C31: MANGUERAS Y ACC. RIEGO JARDÍN | D31: ROLLO 10 MT | F31: 90024 | G31: MANGUERA DOUCOLOR 1/2" 10 MT | H31: 1 | I31: Unitario
A32: Conducción Fluidos | B32: MANGUERAS Y ACCESORIOS | C32: MANGUERAS Y ACC. RIEGO JARDÍN | D32: ROLLO 15 MT | F32: 90025 | G32: MANGUERA DOUCOLOR 1/2" 15 MT | H32: 1 | I32: Unitario
A33: Conducción Fluidos | B33: MANGUERAS Y ACCESORIOS | C33: MANGUERAS Y ACC. RIEGO JARDÍN | D33: ROLLO 20 MT | F33: 90026 | G33: MANGUERA DOUCOLOR 1/2" 20 MT | H33: 1 | I33: Unitario
A34: Conducción Fluidos | B34: MANGUERAS Y ACCESORIOS | C34: MANGUERAS Y ACC. RIEGO JARDÍN | D34: ROLLO 10 MT | F34: 90027 | G34: SET MANGUERA DOUCOLOR 1/2" 10 MT | H34: 1 | I34: Unitario
A35: Conducción Fluidos | B35: MANGUERAS Y ACCESORIOS | C35: MANGUERAS Y ACC. RIEGO JARDÍN | D35: ROLLO 15 MT | F35: 90028 | G35: SET MANGUERA DOUCOLOR 1/2" 15 MT | H35: 1 | I35: Unitario
A36: Conducción Fluidos | B36: MANGUERAS Y ACCESORIOS | C36: MANGUERAS Y ACC. RIEGO JARDÍN | D36: ROLLO 20 MT | F36: 90029 | G36: SET MANGUERA DOUCOLOR 1/2" 20 MT | H36: 1 | I36: Unitario
A37: Conducción Fluidos | B37: MANGUERAS Y ACCESORIOS | C37: MANGUERAS Y ACC. RIEGO JARDÍN | D37: ROLLO 50 MT | E37: #VALUE! | F37: 90030 | G37: MANGUERA MUNICIPAL 1" VERDE 50 MT | H37: 1 | I37: Unitario
A38: Conducción Fluidos | B38: MANGUERAS Y ACCESORIOS | C38: MANGUERAS Y ACC. RIEGO JARDÍN | D38: ROLLO 50 MT | F38: 90031 | G38: MANGUERA MUNICIPAL 1 1/4" VERDE 50 MT | H38: 1 | I38: Unitario
A39: Conducción Fluidos | B39: MANGUERAS Y ACCESORIOS | C39: MANGUERAS Y ACC. RIEGO JARDÍN | D39: ROLLO 50 MT | F39: 90032 | G39: MANGUERA MUNICIPAL 1 1/2" VERDE 50 MT | H39: 1 | I39: Unitario
A40: Conducción Fluidos | B40: MANGUERAS Y ACCESORIOS | C40: MANGUERAS Y ACC. RIEGO JARDÍN | D40: ROLLO 50 MT | F40: 90033 | G40: MANGUERA MUNICIPAL 2" VERDE 50 MT | H40: 1 | I40: Unitario
A41: Conducción Fluidos | B41: MANGUERAS Y ACCESORIOS | C41: MANGUERAS Y ACC. RIEGO JARDÍN | D41: ROLLO 100 MT | E41: #VALUE! | F41: 90039 | G41: MANGUERA MALLAFLEX JARD 1/2" VERD 100 MT | H41: 1 | I41: Unitario
A42: Conducción Fluidos | B42: MANGUERAS Y ACCESORIOS | C42: MANGUERAS Y ACC. RIEGO JARDÍN | D42: ROLLO 100 MT | F42: 90040 | G42: MANGUERA MALLAFLEX JARD 3/4" VERD 100 MT | H42: 1 | I42: Unitario
A43: Conducción Fluidos | B43: MANGUERAS Y ACCESORIOS | C43: MANGUERAS Y ACC. RIEGO JARDÍN | D43: ROLLO 50 MT | F43: 90041 | G43: MANGUERA MALLAFLEX JARDIN 1" VERDE 50 MT | H43: 1 | I43: Unitario
A44: Conducción Fluidos | B44: MANGUERAS Y ACCESORIOS | C44: MANGUERAS Y ACC. RIEGO JARDÍN | D44: ROLLO 10 MT | E44: #VALUE! | F44: 90042 | G44: SET MANGUERA MALLAFLEX JARDIN 1/2" 10 MT | H44: 1 | I44: Unitario
A45: Conducción Fluidos | B45: MANGUERAS Y ACCESORIOS | C45: MANGUERAS Y ACC. RIEGO JARDÍN | D45: ROLLO 15 MT | F45: 90043 | G45: SET MANGUERA MALLAFLEX JARDIN 1/2" 15 MT | H45: 1 | I45: Unitario
A46: Conducción Fluidos | B46: MANGUERAS Y ACCESORIOS | C46: MANGUERAS Y ACC. RIEGO JARDÍN | D46: ROLLO 20 MT | F46: 90044 | G46: SET MANGUERA MALLAFLEX JARDIN 1/2" 20 MT | H46: 1 | I46: Unitario
A47: Conducción Fluidos | B47: MANGUERAS Y ACCESORIOS | C47: MANGUERAS Y ACC. RIEGO JARDÍN | D47: ROLLO 100 MT | E47: #VALUE! | F47: 90045 | G47: MANGUERA MALLAFLEX A/TORS VERD 1/2 100MT | H47: 1 | I47: Unitario
A48: Conducción Fluidos | B48: MANGUERAS Y ACCESORIOS | C48: MANGUERAS Y ACC. RIEGO JARDÍN | D48: ROLLO 100 MT | F48: 90046 | G48: MANGUERA MALLAFLEX A/TORS VERD 3/4 100MT | H48: 1 | I48: Unitario
A49: Conducción Fluidos | B49: MANGUERAS Y ACCESORIOS | C49: MANGUERAS Y ACC. RIEGO JARDÍN | D49: ROLLO 50 MT | F49: 90047 | G49: MANGUERA MALLAFLEX A/TORS VERDE 1" 50 MT | H49: 1 | I49: Unitario
A50: Conducción Fluidos | B50: MANGUERAS Y ACCESORIOS | C50: MANGUERAS Y ACC. RIEGO JARDÍN | D50: ROLLO 10 MT | E50: #VALUE! | F50: 90048 | G50: SET MANGUERA MALLAFLEX A/TORS 1/2" 10 MT | H50: 1 | I50: Unitario
A51: Conducción Fluidos | B51: MANGUERAS Y ACCESORIOS | C51: MANGUERAS Y ACC. RIEGO JARDÍN | D51: ROLLO 15 MT | F51: 90049 | G51: SET MANGUERA MALLAFLEX A/TORS 1/2" 15 MT | H51: 1 | I51: Unitario
A52: Conducción Fluidos | B52: MANGUERAS Y ACCESORIOS | C52: MANGUERAS Y ACC. RIEGO JARDÍN | D52: ROLLO 20 MT | F52: 90050 | G52: SET MANGUERA MALLAFLEX A/TORS 1/2" 20 MT | H52: 1 | I52: Unitario
A53: Conducción Fluidos | B53: MANGUERAS Y ACCESORIOS | C53: MANGUERAS Y ACC. RIEGO JARDÍN | D53: ROLLO 1 / 2 | E53: #VALUE! | F53: 90051 | G53: SET CONECTOR RAPIDO 1/2" C/ PITON AJUST. | H53: 1 | I53: Unitario
A54: Conducción Fluidos | B54: MANGUERAS Y ACCESORIOS | C54: MANGUERAS Y ACC. RIEGO JARDÍN | D54: ROLLO 5 / 8 | F54: 90052 | G54: SET CONECTOR RAPIDO 5/8" C/ PITON AJUST. | H54: 1 | I54: Unitario
A55: Conducción Fluidos | B55: MANGUERAS Y ACCESORIOS | C55: MANGUERAS Y ACC. RIEGO JARDÍN | D55: SET | F55: 90053 | G55: PORTAMANGUERA | H55: 1 | I55: Unitario
A56: Conducción Fluidos | B56: MANGUERAS Y ACCESORIOS | C56: MANGUERAS INDUSTRIALES | D56: ROLLO 25 MT | E56: #VALUE! | F56: 90060 | G56: MANGUERA LIQUIFLEX 3/4' ROLLO 25MT | H56: 1 | I56: Unitario
A57: Conducción Fluidos | B57: MANGUERAS Y ACCESORIOS | C57: MANGUERAS INDUSTRIALES | D57: ROLLO 50 MT | F57: 90061 | G57: MANGUERA LIQUIFLEX 1' ROLLO 50MT | H57: 1 | I57: Unitario
A58: Conducción Fluidos | B58: MANGUERAS Y ACCESORIOS | C58: MANGUERAS INDUSTRIALES | D58: ROLLO 50 MT | F58: 90062 | G58: MANGUERA LIQUIFLEX 1 1/4' ROLLO 50MT | H58: 1 | I58: Unitario
A59: Conducción Fluidos | B59: MANGUERAS Y ACCESORIOS | C59: MANGUERAS INDUSTRIALES | D59: ROLLO 50 MT | F59: 90063 | G59: MANGUERA LIQUIFLEX 1 1/2' ROLLO 50MT | H59: 1 | I59: Unitario
A60: Conducción Fluidos | B60: MANGUERAS Y ACCESORIOS | C60: MANGUERAS INDUSTRIALES | D60: ROLLO 50 MT | F60: 90064 | G60: MANGUERA LIQUIFLEX 2' ROLLO 50MT | H60: 1 | I60: Unitario
A61: Conducción Fluidos | B61: MANGUERAS Y ACCESORIOS | C61: MANGUERAS INDUSTRIALES | D61: ROLLO 25 MT | F61: 90065 | G61: MANGUERA LIQUIFLEX 2 1/2' ROLLO 25MT | H61: 1 | I61: Unitario
A62: Conducción Fluidos | B62: MANGUERAS Y ACCESORIOS | C62: MANGUERAS INDUSTRIALES | D62: ROLLO 25 MT | F62: 90066 | G62: MANGUERA LIQUIFLEX 3' ROLLO 25MT | H62: 1 | I62: Unitario
A63: Conducción Fluidos | B63: MANGUERAS Y ACCESORIOS | C63: MANGUERAS INDUSTRIALES | D63: ROLLO 25 MT | F63: 90067 | G63: MANGUERA LIQUIFLEX 4' ROLLO 25MT | H63: 1 | I63: Unitario
A64: Conducción Fluidos | B64: MANGUERAS Y ACCESORIOS | C64: MANGUERAS INDUSTRIALES | D64: ROLLO 25 MT | F64: 90069 | G64: MANGUERA LIQUIFLEX 6' ROLLO 25MT | H64: 1 | I64: Unitario
A65: Conducción Fluidos | B65: MANGUERAS Y ACCESORIOS | C65: MANGUERAS INDUSTRIALES | D65: ROLLO 10 MT | F65: 90070 | G65: MANGUERA LIQUIFLEX 8' TIRA 10MT | H65: 1 | I65: Unitario
A66: Conducción Fluidos | B66: MANGUERAS Y ACCESORIOS | C66: MANGUERAS INDUSTRIALES | D66: ROLLO 10 MT | F66: 90071 | G66: MANGUERA LIQUIFLEX 10' TIRA 10MT | H66: 1 | I66: Unitario
A67: Conducción Fluidos | B67: MANGUERAS Y ACCESORIOS | C67: MANGUERAS INDUSTRIALES | D67: ROLLO 50 MT | E67: #VALUE! | F67: 90073 | G67: MANGUERA AQUAFLEX 1' ROLLO 50MT | H67: 1 | I67: Unitario
A68: Conducción Fluidos | B68: MANGUERAS Y ACCESORIOS | C68: MANGUERAS INDUSTRIALES | D68: ROLLO 50 MT | F68: 90074 | G68: MANGUERA AQUAFLEX 1 1/4' ROLLO 50MT | H68: 1 | I68: Unitario
A69: Conducción Fluidos | B69: MANGUERAS Y ACCESORIOS | C69: MANGUERAS INDUSTRIALES | D69: ROLLO 50 MT | F69: 90075 | G69: MANGUERA AQUAFLEX 2' ROLLO 50MT | H69: 1 | I69: Unitario
A70: Conducción Fluidos | B70: MANGUERAS Y ACCESORIOS | C70: MANGUERAS INDUSTRIALES | D70: ROLLO 25 MT | F70: 90076 | G70: MANGUERA AQUAFLEX 3' ROLLO 25MT | H70: 1 | I70: Unitario
A71: Conducción Fluidos | B71: MANGUERAS Y ACCESORIOS | C71: MANGUERAS INDUSTRIALES | D71: ROLLO 25 MT | F71: 90077 | G71: MANGUERA AQUAFLEX 4' ROLLO 25MT | H71: 1 | I71: Unitario
A72: Conducción Fluidos | B72: MANGUERAS Y ACCESORIOS | C72: MANGUERAS INDUSTRIALES | D72: ROLLO 50 MT | E72: #VALUE! | F72: 90080 | G72: MANGUERA CRISTALFLEX ATÓXICA 1 1/2' 50MT | H72: 1 | I72: Unitario
A73: Conducción Fluidos | B73: MANGUERAS Y ACCESORIOS | C73: MANGUERAS INDUSTRIALES | D73: ROLLO 50 MT | F73: 90081 | G73: MANGUERA CRISTALFLEX ATÓXICA 2' 50MT | H73: 1 | I73: Unitario
A74: Conducción Fluidos | B74: MANGUERAS Y ACCESORIOS | C74: MANGUERAS INDUSTRIALES | D74: ROLLO 25 MT | F74: 90082 | G74: MANGUERA CRISTALFLEX ATÓXICA 3' 25MT | H74: 1 | I74: Unitario
A75: Conducción Fluidos | B75: MANGUERAS Y ACCESORIOS | C75: MANGUERAS INDUSTRIALES | D75: ROLLO 25 MT | F75: 90083 | G75: MANGUERA CRISTALFLEX ATÓXICA 4' 25MT | H75: 1 | I75: Unitario
A76: Conducción Fluidos | B76: MANGUERAS Y ACCESORIOS | C76: MANGUERAS INDUSTRIALES | D76: ROLLO 50 MT | E76: #VALUE! | F76: 90084 | G76: MANGUERA AGROFLEX 1' 50MT | H76: 1 | I76: Unitario
A77: Conducción Fluidos | B77: MANGUERAS Y ACCESORIOS | C77: MANGUERAS INDUSTRIALES | D77: ROLLO 50 MT | F77: 90085 | G77: MANGUERA AGROFLEX 1 1/2' 50MT | H77: 1 | I77: Unitario
A78: Conducción Fluidos | B78: MANGUERAS Y ACCESORIOS | C78: MANGUERAS INDUSTRIALES | D78: ROLLO 50 MT | F78: 90086 | G78: MANGUERA AGROFLEX 2' 50MT | H78: 1 | I78: Unitario
A79: Conducción Fluidos | B79: MANGUERAS Y ACCESORIOS | C79: MANGUERAS INDUSTRIALES | D79: ROLLO 25 MT | F79: 90087 | G79: MANGUERA AGROFLEX 3' 25MT | H79: 1 | I79: Unitario
A80: Conducción Fluidos | B80: MANGUERAS Y ACCESORIOS | C80: MANGUERAS INDUSTRIALES | D80: ROLLO 25 MT | F80: 90088 | G80: MANGUERA AGROFLEX 4' 25MT | H80: 1 | I80: Unitario
A81: Conducción Fluidos | B81: MANGUERAS Y ACCESORIOS | C81: MANGUERAS INDUSTRIALES | D81: ROLLO 25 MT | F81: 90089 | G81: MANGUERA AGROFLEX 6' 25MT | H81: 1 | I81: Unitario
A82: Conducción Fluidos | B82: MANGUERAS Y ACCESORIOS | C82: MANGUERAS INDUSTRIALES | D82: ROLLO 50 MT | E82: #VALUE! | F82: 90090 | G82: MANGUERA ENOFLEX 1 1/2' 50MT | H82: 1 | I82: Unitario
A83: Conducción Fluidos | B83: MANGUERAS Y ACCESORIOS | C83: MANGUERAS INDUSTRIALES | D83: ROLLO 50 MT | F83: 90091 | G83: MANGUERA ENOFLEX 2' 50MT | H83: 1 | I83: Unitario
A84: Conducción Fluidos | B84: MANGUERAS Y ACCESORIOS | C84: MANGUERAS INDUSTRIALES | D84: ROLLO 25 MT | F84: 90092 | G84: MANGUERA ENOFLEX 2 1/2' 25MT | H84: 1 | I84: Unitario
A85: Conducción Fluidos | B85: MANGUERAS Y ACCESORIOS | C85: MANGUERAS INDUSTRIALES | D85: ROLLO 25 MT | F85: 90093 | G85: MANGUERA ENOFLEX 3' 25MT | H85: 1 | I85: Unitario
A86: Conducción Fluidos | B86: MANGUERAS Y ACCESORIOS | C86: MANGUERAS INDUSTRIALES | D86: ROLLO 25 MT | F86: 90094 | G86: MANGUERA ENOFLEX 4' 25MT | H86: 1 | I86: Unitario
A87: Conducción Fluidos | B87: MANGUERAS Y ACCESORIOS | C87: MANGUERAS INDUSTRIALES | D87: ROLLO 25 MT | F87: 90095 | G87: MANGUERA ENOFLEX 5' 25MT | H87: 1 | I87: Unitario
A88: Conducción Fluidos | B88: MANGUERAS Y ACCESORIOS | C88: MANGUERAS INDUSTRIALES | D88: ROLLO 50 MT | E88: #VALUE! | F88: 90096 | G88: MANGUERA LACTOFLEX ATÓXICA 1 1/2' 50MT | H88: 1 | I88: Unitario
A89: Conducción Fluidos | B89: MANGUERAS Y ACCESORIOS | C89: MANGUERAS INDUSTRIALES | D89: ROLLO 50 MT | F89: 90097 | G89: MANGUERA LACTOFLEX ATÓXICA 2' 50MT | H89: 1 | I89: Unitario
A90: Conducción Fluidos | B90: MANGUERAS Y ACCESORIOS | C90: MANGUERAS INDUSTRIALES | D90: ROLLO 25 MT | F90: 90098 | G90: MANGUERA LACTOFLEX ATÓXICA 3' 25MT | H90: 1 | I90: Unitario
A91: Conducción Fluidos | B91: MANGUERAS Y ACCESORIOS | C91: MANGUERAS INDUSTRIALES | D91: ROLLO 50 MT | E91: #VALUE! | F91: 90099 | G91: MANGUERA CRISTALFLEX ATÓXICA 1 1/2 50MT | H91: 1 | I91: Unitario
A92: Conducción Fluidos | B92: MANGUERAS Y ACCESORIOS | C92: MANGUERAS INDUSTRIALES | D92: ROLLO 50 MT | F92: 90100 | G92: MANGUERA CRISTALFLEX ATÓXICA 2' 50MT | H92: 1 | I92: Unitario
A93: Conducción Fluidos | B93: MANGUERAS Y ACCESORIOS | C93: MANGUERAS INDUSTRIALES | D93: ROLLO 25 MT | F93: 90101 | G93: MANGUERA CRISTALFLEX ATÓXICA 3' 25MT | H93: 1 | I93: Unitario
A94: Conducción Fluidos | B94: MANGUERAS Y ACCESORIOS | C94: MANGUERAS INDUSTRIALES | D94: ROLLO 25 MT | F94: 90102 | G94: MANGUERA CRISTALFLEX ATÓXICA 4' 25MT | H94: 1 | I94: Unitario
A95: Conducción Fluidos | B95: MANGUERAS Y ACCESORIOS | C95: MANGUERAS INDUSTRIALES | D95: ROLLO 25 MT | E95: #VALUE! | F95: 90103 | G95: MANGUERA AIRFLEX LIVIANA 3/4' 25MT | H95: 1 | I95: Unitario
A96: Conducción Fluidos | B96: MANGUERAS Y ACCESORIOS | C96: MANGUERAS INDUSTRIALES | D96: ROLLO 50 MT | F96: 90104 | G96: MANGUERA AIRFLEX LIVIANA 1' 50MT | H96: 1 | I96: Unitario
A97: Conducción Fluidos | B97: MANGUERAS Y ACCESORIOS | C97: MANGUERAS INDUSTRIALES | D97: ROLLO 50 MT | F97: 90105 | G97: MANGUERA AIRFLEX LIVIANA 1 1/4' 50MT | H97: 1 | I97: Unitario
A98: Conducción Fluidos | B98: MANGUERAS Y ACCESORIOS | C98: MANGUERAS INDUSTRIALES | D98: ROLLO 50 MT | F98: 90106 | G98: MANGUERA AIRFLEX LIVIANA 1 1/2' 50MT | H98: 1 | I98: Unitario
A99: Conducción Fluidos | B99: MANGUERAS Y ACCESORIOS | C99: MANGUERAS INDUSTRIALES | D99: ROLLO 50 MT | F99: 90107 | G99: MANGUERA AIRFLEX LIVIANA 2' 50MT | H99: 1 | I99: Unitario
A100: Conducción Fluidos | B100: MANGUERAS Y ACCESORIOS | C100: MANGUERAS INDUSTRIALES | D100: ROLLO 25 MT | F100: 90108 | G100: MANGUERA AIRFLEX LIVIANA 2 1/2' 25MT | H100: 1 | I100: Unitario
...

Sheet Bombas
A1: Volver al menú principal | B1: SISTEMAS HIDRÁULICOS FEBRERO 2026 - LISTA PRECIOS | M1: ALIANZA - FIDELIDAD - SIN ACUERDO COMERCIAL
A2: Categoría Madre | B2: Categoría | C2: Nuevo Grupo SAP | D2: Formato | E2: FOTO | F2: SKU-SH | G2: Descripción SAP 01.26 | H2: UNIDAD MÍNIMA DE VENTA (UNIDADES) | I2: UNIDAD MÍNIMA DE VENTA (FORMATO) | J2: UNIDAD EMPAQUE VENTA (UNIDADES) | K2: UNIDAD EMPAQUE VENTA (FORMATO) | L2: Modo Venta | M2: Precio Lista 2026 | N2: Descuento | O2: Precio Final | Q2: CANTIDAD A COTIZAR
A3: BOMBAS | B3: BOMBAS Y ACCESORIOS | C3: BOMBAS, CONTROLADORES Y KITS | D3: CENTRIFUFA | E3: #VALUE! | F3: 80001 | G3: BOMBA CENTRIFUGA 1HP 1' X 1' BTCM 158-CE | H3: 1 | I3: Unitario | J3: 1 | K3: Unitario | L3: A pedido | M3: A pedido | N3: A pedido | O3: A pedido
A4: BOMBAS | B4: BOMBAS Y ACCESORIOS | C4: BOMBAS, CONTROLADORES Y KITS | D4: CENTRIFUFA | E4: #VALUE! | F4: 80002 | G4: BOMBA CENTRIFUGA 1HP 2' X 2' BTCM 75B2 | H4: 1 | I4: Unitario | J4: 1 | K4: Unitario | L4: A pedido | M4: A pedido | N4: A pedido | O4: A pedido
A5: BOMBAS | B5: BOMBAS Y ACCESORIOS | C5: BOMBAS, CONTROLADORES Y KITS | D5: CENTRIFUFA | E5: #VALUE! | F5: 80003 | G5: BOMBA CENTRIFUGA 1.5HP BTCM 110 | H5: 1 | I5: Unitario | J5: 1 | K5: Unitario | L5: A pedido | M5: A pedido | N5: A pedido | O5: A pedido
A6: BOMBAS | B6: BOMBAS Y ACCESORIOS | C6: BOMBAS, CONTROLADORES Y KITS | D6: PERIFERICA | E6: #VALUE! | F6: 80004 | G6: BOMBA PERIFERICA 1HP 1' X 1' BTPM 75 | H6: 1 | I6: Unitario | J6: 1 | K6: Unitario | L6: A pedido | M6: A pedido | N6: A pedido | O6: A pedido
A7: BOMBAS | B7: BOMBAS Y ACCESORIOS | C7: BOMBAS, CONTROLADORES Y KITS | D7: PERIFERICA | E7: #VALUE! | F7: 80005 | G7: BOMBA PERIFERICA 0.5HP BTPM 37-CE | H7: 1 | I7: Unitario | J7: 1 | K7: Unitario | L7: A pedido | M7: A pedido | N7: A pedido | O7: A pedido
A8: BOMBAS | B8: BOMBAS Y ACCESORIOS | C8: BOMBAS, CONTROLADORES Y KITS | D8: SUMERGIBLE | E8: #VALUE! | F8: 80006 | G8: BOMBA SUMERGIBLE 1HP CBLE30MT 4SSM 4/10 | H8: 1 | I8: Unitario | J8: 1 | K8: Unitario | L8: A pedido | M8: A pedido | N8: A pedido | O8: A pedido
A9: BOMBAS | B9: BOMBAS Y ACCESORIOS | C9: BOMBAS, CONTROLADORES Y KITS | D9: SUMERGIBLE | E9: #VALUE! | F9: 80007 | G9: BOMBA SUMERGIBLE 0.75HP BSK-VP 750/G | H9: 1 | I9: Unitario | J9: 1 | K9: Unitario | L9: A pedido | M9: A pedido | N9: A pedido | O9: A pedido
A10: BOMBAS | B10: BOMBAS Y ACCESORIOS | C10: BOMBAS, CONTROLADORES Y KITS | D10: PRESURIZADA | E10: #VALUE! | F10: 80008 | G10: BOMBA PRESURIZADA 1' X 1' RSCE 12/9G | H10: 1 | I10: Unitario | J10: 1 | K10: Unitario | L10: A pedido | M10: A pedido | N10: A pedido | O10: A pedido
A11: BOMBAS | B11: BOMBAS Y ACCESORIOS | C11: BOMBAS, CONTROLADORES Y KITS | D11: PRESURIZADA | E11: #VALUE! | F11: 80009 | G11: BOMBA PRESURIZADA 1 1/4' RSCE20/12Z | H11: 1 | I11: Unitario | J11: 1 | K11: Unitario | L11: A pedido | M11: A pedido | N11: A pedido | O11: A pedido
A12: BOMBAS | B12: BOMBAS Y ACCESORIOS | C12: BOMBAS, CONTROLADORES Y KITS | D12: PRESURIZADA | E12: #VALUE! | F12: 80010 | G12: BOMBA PRESURIZADA 1' X 1' RS12/9G | H12: 1 | I12: Unitario | J12: 1 | K12: Unitario | L12: A pedido | M12: A pedido | N12: A pedido | O12: A pedido
A13: BOMBAS | B13: BOMBAS Y ACCESORIOS | C13: BOMBAS, CONTROLADORES Y KITS | D13: PRESURIZADA | E13: #VALUE! | F13: 80011 | G13: BOMBA PRESURIZADA 1 1/4' RS20/12Z | H13: 1 | I13: Unitario | J13: 1 | K13: Unitario | L13: A pedido | M13: A pedido | N13: A pedido | O13: A pedido
A14: BOMBAS | B14: BOMBAS Y ACCESORIOS | C14: BOMBAS, CONTROLADORES Y KITS | D14: CONTROL PRES. | E14: #VALUE! | F14: 80012 | G14: CONTROLADO PRESIÓN CONTROLPUMP BESTOFLOW | H14: 1 | I14: Unitario | J14: 1 | K14: Unitario | L14: A pedido | M14: A pedido | N14: A pedido | O14: A pedido
... A16: BOMBAS | B16: BOMBAS Y ACCESORIOS | C16: BOMBAS, CONTROLADORES Y KITS | D16: KIT HIDRO | E16: #VALUE! | F16: 80014 | G16: HIDRONEUMATICO KIT 24LT. BESTFLOW FSG-2 | H16: 1 | I16: Unitario | J16: 1 | K16: Unitario | L16: A pedido | M16: A pedido | N16: A pedido | O16: A pedido

Sheet _Datos
A1: Pestaña | B1: Categoría Madre | C1: Categoría | D1: SKU-SH | E1: Descripción | F1: Unidad Mín. Venta | G1: Formato | H1: Cantidad | I1: Rank
A2: PVC Conduit y Libre Halógeno | B2: ='PVC Conduit y Libre Halógeno'!A3 -> Canalización Eléctrica | C2: ='PVC Conduit y Libre Halógeno'!B3 -> PVC CONDUIT | D2: ='PVC Conduit y Libre Halógeno'!F3 -> 15301 | E2: ='PVC Conduit y Libre Halógeno'!G3 -> PVC CONDUIT TUBO 3M 16 CLASE IV N | F2: ='PVC Conduit y Libre Halógeno'!H3 -> 50 | G2: ='PVC Conduit y Libre Halógeno'!I3 -> Bolsa | H2: =IFERROR(IF('PVC Conduit y Libre Halógeno'!J3="",0,'PVC Conduit y Libre Halógeno'!J3),0) -> 0 | I2: =IF(H2>0, MAX(I$1:I1)+1, "")
A3: PVC Conduit y Libre Halógeno | B3: ='PVC Conduit y Libre Halógeno'!A4 -> Canalización Eléctrica | C3: ='PVC Conduit y Libre Halógeno'!B4 -> PVC CONDUIT | D3: ='PVC Conduit y Libre Halógeno'!F4 -> 15302 | E3: ='PVC Conduit y Libre Halógeno'!G4 -> PVC CONDUIT TUBO 3M 20 CLASE IV N | F3: ='PVC Conduit y Libre Halógeno'!H4 -> 20 | G3: ='PVC Conduit y Libre Halógeno'!I4 -> Bolsa | H3: =IFERROR(IF('PVC Conduit y Libre Halógeno'!J4="",0,'PVC Conduit y Libre Halógeno'!J4),0) -> 0 | I3: =IF(H3>0, MAX(I$1:I2)+1, "")
A4: PVC Conduit y Libre Halógeno | B4: ='PVC Conduit y Libre Halógeno'!A5 -> Canalización Eléctrica | C4: ='PVC Conduit y Libre Halógeno'!B5 -> PVC CONDUIT | D4: ='PVC Conduit y Libre Halógeno'!F5 -> 15310 | E4: ='PVC Conduit y Libre Halógeno'!G5 -> PVC CONDUIT TUBO 3M 25 CLASE III N | F4: ='PVC Conduit y Libre Halógeno'!H5 -> 20 | G4: ='PVC Conduit y Libre Halógeno'!I5 -> Bolsa | H4: =IFERROR(IF('PVC Conduit y Libre Halógeno'!J5="",0,'PVC Conduit y Libre Halógeno'!J5),0) -> 0 | I4: =IF(H4>0, MAX(I$1:I3)+1, "")
A5: PVC Conduit y Libre Halógeno | B5: ='PVC Conduit y Libre Halógeno'!A6 -> Canalización Eléctrica | C5: ='PVC Conduit y Libre Halógeno'!B6 -> PVC CONDUIT | D5: ='PVC Conduit y Libre Halógeno'!F6 -> 15311 | E5: ='PVC Conduit y Libre Halógeno'!G6 -> PVC CONDUIT TUBO 3M 32 CLASE III N | F5: ='PVC Conduit y Libre Halógeno'!H6 -> 10 | G5: ='PVC Conduit y Libre Halógeno'!I6 -> unitario | H5: =IFERROR(IF('PVC Conduit y Libre Halógeno'!J6="",0,'PVC Conduit y Libre Halógeno'!J6),0) -> 0 | I5: =IF(H5>0, MAX(I$1:I4)+1, "")
A6: PVC Conduit y Libre Halógeno | B6: ='PVC Conduit y Libre Halógeno'!A7 -> Canalización Eléctrica | C6: ='PVC Conduit y Libre Halógeno'!B7 -> PVC CONDUIT | D6: ='PVC Conduit y Libre Halógeno'!F7 -> 15320 | E6: ='PVC Conduit y Libre Halógeno'!G7 -> PVC CONDUIT TUBO 3M 40 CLASE II N | F6: ='PVC Conduit y Libre Halógeno'!H7 -> 1 | G6: ='PVC Conduit y Libre Halógeno'!I7 -> unitario | H6: =IFERROR(IF('PVC Conduit y Libre Halógeno'!J7="",0,'PVC Conduit y Libre Halógeno'!J7),0) -> 0 | I6: =IF(H6>0, MAX(I$1:I5)+1, "")
A7: PVC Conduit y Libre Halógeno | B7: ='PVC Conduit y Libre Halógeno'!A8 -> Canalización Eléctrica | C7: ='PVC Conduit y Libre Halógeno'!B8 -> PVC CONDUIT | D7: ='PVC Conduit y Libre Halógeno'!F8 -> 15321 | E7: ='PVC Conduit y Libre Halógeno'!G8 -> PVC CONDUIT TUBO 3M 50 CLASE II N | F7: ='PVC Conduit y Libre Halógeno'!H8 -> 1 | G7: ='PVC Conduit y Libre Halógeno'!I8 -> unitario | H7: =IFERROR(IF('PVC Conduit y Libre Halógeno'!J8="",0,'PVC Conduit y Libre Halógeno'!J8),0) -> 0 | I7: =IF(H7>0, MAX(I$1:I6)+1, "")
A8: PVC Conduit y Libre Halógeno | B8: ='PVC Conduit y Libre Halógeno'!A9 -> Canalización Eléctrica | C8: ='PVC Conduit y Libre Halógeno'!B9 -> PVC CONDUIT | D8: ='PVC Conduit y Libre Halógeno'!F9 -> 15340 | E8: ='PVC Conduit y Libre Halógeno'!G9 -> PVC CONDUIT TUBO 6M 16 CLASE IV N | F8: ='PVC Conduit y Libre Halógeno'!H9 -> 25 | G8: ='PVC Conduit y Libre Halógeno'!I9 -> Bolsa | H8: =IFERROR(IF('PVC Conduit y Libre Halógeno'!J9="",0,'PVC Conduit y Libre Halógeno'!J9),0) -> 0 | I8: =IF(H8>0, MAX(I$1:I7)+1, "")
A9: PVC Conduit y Libre Halógeno | B9: ='PVC Conduit y Libre Halógeno'!A10 -> Canalización Eléctrica | C9: ='PVC Conduit y Libre Halógeno'!B10 -> PVC CONDUIT | D9: ='PVC Conduit y Libre Halógeno'!F10 -> 15341 | E9: ='PVC Conduit y Libre Halógeno'!G10 -> PVC CONDUIT TUBO 6M 20 CLASE IV N | F9: ='PVC Conduit y Libre Halógeno'!H10 -> 20 | G9: ='PVC Conduit y Libre Halógeno'!I10 -> Bolsa | H9: =IFERROR(IF('PVC Conduit y Libre Halógeno'!J10="",0,'PVC Conduit y Libre Halógeno'!J10),0) -> 0 | I9: =IF(H9>0, MAX(I$1:I8)+1, "")
A10: PVC Conduit y Libre Halógeno | B10: ='PVC Conduit y Libre Halógeno'!A11 -> Canalización Eléctrica | C10: ='PVC Conduit y Libre Halógeno'!B11 -> PVC CONDUIT | D10: ='PVC Conduit y Libre Halógeno'!F11 -> 15350 | E10: ='PVC Conduit y Libre Halógeno'!G11 -> PVC CONDUIT TUBO 6M 25 CLASE III N | F10: ='PVC Conduit y Libre Halógeno'!H11 -> 20 | G10: ='PVC Conduit y Libre Halógeno'!I11 -> Bolsa | H10: =IFERROR(IF('PVC Conduit y Libre Halógeno'!J11="",0,'PVC Conduit y Libre Halógeno'!J11),0) -> 0 | I10: =IF(H10>0, MAX(I$1:I9)+1, "")
A11: PVC Conduit y Libre Halógeno | B11: ='PVC Conduit y Libre Halógeno'!A12 -> Canalización Eléctrica | C11: ='PVC Conduit y Libre Halógeno'!B12 -> PVC CONDUIT | D11: ='PVC Conduit y Libre Halógeno'!F12 -> 15351 | E11: ='PVC Conduit y Libre Halógeno'!G12 -> PVC CONDUIT TUBO 6M 32 CLASE III N | F11: ='PVC Conduit y Libre Halógeno'!H12 -> 10 | G11: ='PVC Conduit y Libre Halógeno'!I12 -> Bolsa | H11: =IFERROR(IF('PVC Conduit y Libre Halógeno'!J12="",0,'PVC Conduit y Libre Halógeno'!J12),0) -> 0 | I11: =IF(H11>0, MAX(I$1:I10)+1, "")
A12: PVC Conduit y Libre Halógeno | B12: ='PVC Conduit y Libre Halógeno'!A13 -> Canalización Eléctrica | C12: ='PVC Conduit y Libre Halógeno'!B13 -> PVC CONDUIT | D12: ='PVC Conduit y Libre Halógeno'!F13 -> 15360 | E12: ='PVC Conduit y Libre Halógeno'!G13 -> PVC CONDUIT TUBO 6M 40 CLASE II N | F12: ='PVC Conduit y Libre Halógeno'!H13 -> 1 | G12: ='PVC Conduit y Libre Halógeno'!I13 -> unitario | H12: =IFERROR(IF('PVC Conduit y Libre Halógeno'!J13="",0,'PVC Conduit y Libre Halógeno'!J13),0) -> 0 | I12: =IF(H12>0, MAX(I$1:I11)+1, "")
