Workbook
Name ACUERDOS: #REF!
Name ACUERDOS: #REF!
Name ACUERDOS: #REF!
Name ACUERDOS: #REF!
Name ACUERDOS: #REF!
Name ACUERDOS: #REF!
Name ACUERDOS: #REF!
Name ACUERDOS: #REF!
Name ACUERDOS: #REF!
Name ACUERDOS: #REF!
Name ACUERDOS: #REF!
Name ACUERDOS: #REF!
Name ACUERDOS: #REF!
Name ACUERDOS: #REF!
Name ACUERDOS: #REF!
Name ACUERDOS: #REF!
Name AFC: #REF!
Name AFC: #REF!
Name AFC: #REF!
Name AFC: #REF!
Name AFC: #REF!
Name AFC: #REF!
Name AFC: #REF!
Name AFC: #REF!
Name AFC: #REF!
Name AFC: #REF!
Name AFC: #REF!
Name AFC: #REF!
Name AFC: #REF!
Name AFC: #REF!
Name AFC: #REF!
Name AFC: #REF!
Name AFP: #REF!
Name AFP: #REF!
Name AFP: #REF!
Name AFP: #REF!
Name AFP: #REF!
Name AFP: #REF!
Name AFP: #REF!
Name AFP: #REF!
Name AFP: #REF!
Name AFP: #REF!
Name AFP: #REF!
Name AFP: #REF!
Name AFP: #REF!
Name AFP: #REF!
Name AFP: #REF!
Name AFP: #REF!
Name años: #REF!
Name años: #REF!
Name años: #REF!
Name años: #REF!
Name años: #REF!
Name años: #REF!
Name años: #REF!
Name años: #REF!
Name años: #REF!
Name años: #REF!
Name años: #REF!
Name años: #REF!

Sheet RESUMEN COTIZACIÓN
A1: RESUMEN COTIZACIÓN — SISTEMAS HIDRÁULICOS
A2: Esta pestaña muestra automáticamente sólo los productos con CANTIDAD > 0 que hayas indicado en cada pestaña de categoría.
A4: Total ítems distintos cotizados: | C4: =COUNTIF(_Datos!H2:H1234,">0") -> 0 | E4: Fecha: | F4: =TODAY() -> 46147
A5: Total unidades cotizadas: | C5: =SUM(_Datos!H2:H1234) -> 0
A6: Si no ves productos en la tabla, vuelve al "Menú por Categoría" y completa la columna CANTIDAD A COTIZAR en las pestañas que necesites.
A7: Pestaña | B7: Categoría Madre | C7: Categoría | D7: SKU | E7: Descripción | F7: Unidad Mín. Venta | G7: Formato | H7: Cantidad
A8: =IFERROR(INDEX(_Datos!A:A,MATCH(1,_Datos!$I:$I,0)),"") | B8: =IFERROR(INDEX(_Datos!B:B,MATCH(1,_Datos!$I:$I,0)),"") | C8: =IFERROR(INDEX(_Datos!C:C,MATCH(1,_Datos!$I:$I,0)),"") | D8: =IFERROR(INDEX(_Datos!D:D,MATCH(1,_Datos!$I:$I,0)),"") | E8: =IFERROR(INDEX(_Datos!E:E,MATCH(1,_Datos!$I:$I,0)),"") | F8: =IFERROR(INDEX(_Datos!F:F,MATCH(1,_Datos!$I:$I,0)),"") | G8: =IFERROR(INDEX(_Datos!G:G,MATCH(1,_Datos!$I:$I,0)),"") | H8: =IFERROR(INDEX(_Datos!H:H,MATCH(1,_Datos!$I:$I,0)),"")
A9: =IFERROR(INDEX(_Datos!A:A,MATCH(2,_Datos!$I:$I,0)),"") | B9: =IFERROR(INDEX(_Datos!B:B,MATCH(2,_Datos!$I:$I,0)),"") | C9: =IFERROR(INDEX(_Datos!C:C,MATCH(2,_Datos!$I:$I,0)),"") | D9: =IFERROR(INDEX(_Datos!D:D,MATCH(2,_Datos!$I:$I,0)),"") | E9: =IFERROR(INDEX(_Datos!E:E,MATCH(2,_Datos!$I:$I,0)),"") | F9: =IFERROR(INDEX(_Datos!F:F,MATCH(2,_Datos!$I:$I,0)),"") | G9: =IFERROR(INDEX(_Datos!G:G,MATCH(2,_Datos!$I:$I,0)),"") | H9: =IFERROR(INDEX(_Datos!H:H,MATCH(2,_Datos!$I:$I,0)),"")
A10: =IFERROR(INDEX(_Datos!A:A,MATCH(3,_Datos!$I:$I,0)),"") | B10: =IFERROR(INDEX(_Datos!B:B,MATCH(3,_Datos!$I:$I,0)),"") | C10: =IFERROR(INDEX(_Datos!C:C,MATCH(3,_Datos!$I:$I,0)),"") | D10: =IFERROR(INDEX(_Datos!D:D,MATCH(3,_Datos!$I:$I,0)),"") | E10: =IFERROR(INDEX(_Datos!E:E,MATCH(3,_Datos!$I:$I,0)),"") | F10: =IFERROR(INDEX(_Datos!F:F,MATCH(3,_Datos!$I:$I,0)),"") | G10: =IFERROR(INDEX(_Datos!G:G,MATCH(3,_Datos!$I:$I,0)),"") | H10: =IFERROR(INDEX(_Datos!H:H,MATCH(3,_Datos!$I:$I,0)),"")
A11: =IFERROR(INDEX(_Datos!A:A,MATCH(4,_Datos!$I:$I,0)),"") | B11: =IFERROR(INDEX(_Datos!B:B,MATCH(4,_Datos!$I:$I,0)),"") | C11: =IFERROR(INDEX(_Datos!C:C,MATCH(4,_Datos!$I:$I,0)),"") | D11: =IFERROR(INDEX(_Datos!D:D,MATCH(4,_Datos!$I:$I,0)),"") | E11: =IFERROR(INDEX(_Datos!E:E,MATCH(4,_Datos!$I:$I,0)),"") | F11: =IFERROR(INDEX(_Datos!F:F,MATCH(4,_Datos!$I:$I,0)),"") | G11: =IFERROR(INDEX(_Datos!G:G,MATCH(4,_Datos!$I:$I,0)),"") | H11: =IFERROR(INDEX(_Datos!H:H,MATCH(4,_Datos!$I:$I,0)),"")
A12: =IFERROR(INDEX(_Datos!A:A,MATCH(5,_Datos!$I:$I,0)),"") | B12: =IFERROR(INDEX(_Datos!B:B,MATCH(5,_Datos!$I:$I,0)),"") | C12: =IFERROR(INDEX(_Datos!C:C,MATCH(5,_Datos!$I:$I,0)),"") | D12: =IFERROR(INDEX(_Datos!D:D,MATCH(5,_Datos!$I:$I,0)),"") | E12: =IFERROR(INDEX(_Datos!E:E,MATCH(5,_Datos!$I:$I,0)),"") | F12: =IFERROR(INDEX(_Datos!F:F,MATCH(5,_Datos!$I:$I,0)),"") | G12: =IFERROR(INDEX(_Datos!G:G,MATCH(5,_Datos!$I:$I,0)),"") | H12: =IFERROR(INDEX(_Datos!H:H,MATCH(5,_Datos!$I:$I,0)),"")
A13: =IFERROR(INDEX(_Datos!A:A,MATCH(6,_Datos!$I:$I,0)),"") | B13: =IFERROR(INDEX(_Datos!B:B,MATCH(6,_Datos!$I:$I,0)),"") | C13: =IFERROR(INDEX(_Datos!C:C,MATCH(6,_Datos!$I:$I,0)),"") | D13: =IFERROR(INDEX(_Datos!D:D,MATCH(6,_Datos!$I:$I,0)),"") | E13: =IFERROR(INDEX(_Datos!E:E,MATCH(6,_Datos!$I:$I,0)),"") | F13: =IFERROR(INDEX(_Datos!F:F,MATCH(6,_Datos!$I:$I,0)),"") | G13: =IFERROR(INDEX(_Datos!G:G,MATCH(6,_Datos!$I:$I,0)),"") | H13: =IFERROR(INDEX(_Datos!H:H,MATCH(6,_Datos!$I:$I,0)),"")
A14: =IFERROR(INDEX(_Datos!A:A,MATCH(7,_Datos!$I:$I,0)),"") | B14: =IFERROR(INDEX(_Datos!B:B,MATCH(7,_Datos!$I:$I,0)),"") | C14: =IFERROR(INDEX(_Datos!C:C,MATCH(7,_Datos!$I:$I,0)),"") | D14: =IFERROR(INDEX(_Datos!D:D,MATCH(7,_Datos!$I:$I,0)),"") | E14: =IFERROR(INDEX(_Datos!E:E,MATCH(7,_Datos!$I:$I,0)),"") | F14: =IFERROR(INDEX(_Datos!F:F,MATCH(7,_Datos!$I:$I,0)),"") | G14: =IFERROR(INDEX(_Datos!G:G,MATCH(7,_Datos!$I:$I,0)),"") | H14: =IFERROR(INDEX(_Datos!H:H,MATCH(7,_Datos!$I:$I,0)),"")
A15: =IFERROR(INDEX(_Datos!A:A,MATCH(8,_Datos!$I:$I,0)),"") | B15: =IFERROR(INDEX(_Datos!B:B,MATCH(8,_Datos!$I:$I,0)),"") | C15: =IFERROR(INDEX(_Datos!C:C,MATCH(8,_Datos!$I:$I,0)),"") | D15: =IFERROR(INDEX(_Datos!D:D,MATCH(8,_Datos!$I:$I,0)),"") | E15: =IFERROR(INDEX(_Datos!E:E,MATCH(8,_Datos!$I:$I,0)),"") | F15: =IFERROR(INDEX(_Datos!F:F,MATCH(8,_Datos!$I:$I,0)),"") | G15: =IFERROR(INDEX(_Datos!G:G,MATCH(8,_Datos!$I:$I,0)),"") | H15: =IFERROR(INDEX(_Datos!H:H,MATCH(8,_Datos!$I:$I,0)),"")
A16: =IFERROR(INDEX(_Datos!A:A,MATCH(9,_Datos!$I:$I,0)),"") | B16: =IFERROR(INDEX(_Datos!B:B,MATCH(9,_Datos!$I:$I,0)),"") | C16: =IFERROR(INDEX(_Datos!C:C,MATCH(9,_Datos!$I:$I,0)),"") | D16: =IFERROR(INDEX(_Datos!D:D,MATCH(9,_Datos!$I:$I,0)),"") | E16: =IFERROR(INDEX(_Datos!E:E,MATCH(9,_Datos!$I:$I,0)),"") | F16: =IFERROR(INDEX(_Datos!F:F,MATCH(9,_Datos!$I:$I,0)),"") | G16: =IFERROR(INDEX(_Datos!G:G,MATCH(9,_Datos!$I:$I,0)),"") | H16: =IFERROR(INDEX(_Datos!H:H,MATCH(9,_Datos!$I:$I,0)),"")
A17: =IFERROR(INDEX(_Datos!A:A,MATCH(10,_Datos!$I:$I,0)),"") | B17: =IFERROR(INDEX(_Datos!B:B,MATCH(10,_Datos!$I:$I,0)),"") | C17: =IFERROR(INDEX(_Datos!C:C,MATCH(10,_Datos!$I:$I,0)),"") | D17: =IFERROR(INDEX(_Datos!D:D,MATCH(10,_Datos!$I:$I,0)),"") | E17: =IFERROR(INDEX(_Datos!E:E,MATCH(10,_Datos!$I:$I,0)),"") | F17: =IFERROR(INDEX(_Datos!F:F,MATCH(10,_Datos!$I:$I,0)),"") | G17: =IFERROR(INDEX(_Datos!G:G,MATCH(10,_Datos!$I:$I,0)),"") | H17: =IFERROR(INDEX(_Datos!H:H,MATCH(10,_Datos!$I:$I,0)),"")
A18: =IFERROR(INDEX(_Datos!A:A,MATCH(11,_Datos!$I:$I,0)),"") | B18: =IFERROR(INDEX(_Datos!B:B,MATCH(11,_Datos!$I:$I,0)),"") | C18: =IFERROR(INDEX(_Datos!C:C,MATCH(11,_Datos!$I:$I,0)),"") | D18: =IFERROR(INDEX(_Datos!D:D,MATCH(11,_Datos!$I:$I,0)),"") | E18: =IFERROR(INDEX(_Datos!E:E,MATCH(11,_Datos!$I:$I,0)),"") | F18: =IFERROR(INDEX(_Datos!F:F,MATCH(11,_Datos!$I:$I,0)),"") | G18: =IFERROR(INDEX(_Datos!G:G,MATCH(11,_Datos!$I:$I,0)),"") | H18: =IFERROR(INDEX(_Datos!H:H,MATCH(11,_Datos!$I:$I,0)),"")
A19: =IFERROR(INDEX(_Datos!A:A,MATCH(12,_Datos!$I:$I,0)),"") | B19: =IFERROR(INDEX(_Datos!B:B,MATCH(12,_Datos!$I:$I,0)),"") | C19: =IFERROR(INDEX(_Datos!C:C,MATCH(12,_Datos!$I:$I,0)),"") | D19: =IFERROR(INDEX(_Datos!D:D,MATCH(12,_Datos!$I:$I,0)),"") | E19: =IFERROR(INDEX(_Datos!E:E,MATCH(12,_Datos!$I:$I,0)),"") | F19: =IFERROR(INDEX(_Datos!F:F,MATCH(12,_Datos!$I:$I,0)),"") | G19: =IFERROR(INDEX(_Datos!G:G,MATCH(12,_Datos!$I:$I,0)),"") | H19: =IFERROR(INDEX(_Datos!H:H,MATCH(12,_Datos!$I:$I,0)),"")
A20: =IFERROR(INDEX(_Datos!A:A,MATCH(13,_Datos!$I:$I,0)),"") | B20: =IFERROR(INDEX(_Datos!B:B,MATCH(13,_Datos!$I:$I,0)),"") | C20: =IFERROR(INDEX(_Datos!C:C,MATCH(13,_Datos!$I:$I,0)),"") | D20: =IFERROR(INDEX(_Datos!D:D,MATCH(13,_Datos!$I:$I,0)),"") | E20: =IFERROR(INDEX(_Datos!E:E,MATCH(13,_Datos!$I:$I,0)),"") | F20: =IFERROR(INDEX(_Datos!F:F,MATCH(13,_Datos!$I:$I,0)),"") | G20: =IFERROR(INDEX(_Datos!G:G,MATCH(13,_Datos!$I:$I,0)),"") | H20: =IFERROR(INDEX(_Datos!H:H,MATCH(13,_Datos!$I:$I,0)),"")
A21: =IFERROR(INDEX(_Datos!A:A,MATCH(14,_Datos!$I:$I,0)),"") | B21: =IFERROR(INDEX(_Datos!B:B,MATCH(14,_Datos!$I:$I,0)),"") | C21: =IFERROR(INDEX(_Datos!C:C,MATCH(14,_Datos!$I:$I,0)),"") | D21: =IFERROR(INDEX(_Datos!D:D,MATCH(14,_Datos!$I:$I,0)),"") | E21: =IFERROR(INDEX(_Datos!E:E,MATCH(14,_Datos!$I:$I,0)),"") | F21: =IFERROR(INDEX(_Datos!F:F,MATCH(14,_Datos!$I:$I,0)),"") | G21: =IFERROR(INDEX(_Datos!G:G,MATCH(14,_Datos!$I:$I,0)),"") | H21: =IFERROR(INDEX(_Datos!H:H,MATCH(14,_Datos!$I:$I,0)),"")
A22: =IFERROR(INDEX(_Datos!A:A,MATCH(15,_Datos!$I:$I,0)),"") | B22: =IFERROR(INDEX(_Datos!B:B,MATCH(15,_Datos!$I:$I,0)),"") | C22: =IFERROR(INDEX(_Datos!C:C,MATCH(15,_Datos!$I:$I,0)),"") | D22: =IFERROR(INDEX(_Datos!D:D,MATCH(15,_Datos!$I:$I,0)),"") | E22: =IFERROR(INDEX(_Datos!E:E,MATCH(15,_Datos!$I:$I,0)),"") | F22: =IFERROR(INDEX(_Datos!F:F,MATCH(15,_Datos!$I:$I,0)),"") | G22: =IFERROR(INDEX(_Datos!G:G,MATCH(15,_Datos!$I:$I,0)),"") | H22: =IFERROR(INDEX(_Datos!H:H,MATCH(15,_Datos!$I:$I,0)),"")
A23: =IFERROR(INDEX(_Datos!A:A,MATCH(16,_Datos!$I:$I,0)),"") | B23: =IFERROR(INDEX(_Datos!B:B,MATCH(16,_Datos!$I:$I,0)),"") | C23: =IFERROR(INDEX(_Datos!C:C,MATCH(16,_Datos!$I:$I,0)),"") | D23: =IFERROR(INDEX(_Datos!D:D,MATCH(16,_Datos!$I:$I,0)),"") | E23: =IFERROR(INDEX(_Datos!E:E,MATCH(16,_Datos!$I:$I,0)),"") | F23: =IFERROR(INDEX(_Datos!F:F,MATCH(16,_Datos!$I:$I,0)),"") | G23: =IFERROR(INDEX(_Datos!G:G,MATCH(16,_Datos!$I:$I,0)),"") | H23: =IFERROR(INDEX(_Datos!H:H,MATCH(16,_Datos!$I:$I,0)),"")
A24: =IFERROR(INDEX(_Datos!A:A,MATCH(17,_Datos!$I:$I,0)),"") | B24: =IFERROR(INDEX(_Datos!B:B,MATCH(17,_Datos!$I:$I,0)),"") | C24: =IFERROR(INDEX(_Datos!C:C,MATCH(17,_Datos!$I:$I,0)),"") | D24: =IFERROR(INDEX(_Datos!D:D,MATCH(17,_Datos!$I:$I,0)),"") | E24: =IFERROR(INDEX(_Datos!E:E,MATCH(17,_Datos!$I:$I,0)),"") | F24: =IFERROR(INDEX(_Datos!F:F,MATCH(17,_Datos!$I:$I,0)),"") | G24: =IFERROR(INDEX(_Datos!G:G,MATCH(17,_Datos!$I:$I,0)),"") | H24: =IFERROR(INDEX(_Datos!H:H,MATCH(17,_Datos!$I:$I,0)),"")
A25: =IFERROR(INDEX(_Datos!A:A,MATCH(18,_Datos!$I:$I,0)),"") | B25: =IFERROR(INDEX(_Datos!B:B,MATCH(18,_Datos!$I:$I,0)),"") | C25: =IFERROR(INDEX(_Datos!C:C,MATCH(18,_Datos!$I:$I,0)),"") | D25: =IFERROR(INDEX(_Datos!D:D,MATCH(18,_Datos!$I:$I,0)),"") | E25: =IFERROR(INDEX(_Datos!E:E,MATCH(18,_Datos!$I:$I,0)),"") | F25: =IFERROR(INDEX(_Datos!F:F,MATCH(18,_Datos!$I:$I,0)),"") | G25: =IFERROR(INDEX(_Datos!G:G,MATCH(18,_Datos!$I:$I,0)),"") | H25: =IFERROR(INDEX(_Datos!H:H,MATCH(18,_Datos!$I:$I,0)),"")
A26: =IFERROR(INDEX(_Datos!A:A,MATCH(19,_Datos!$I:$I,0)),"") | B26: =IFERROR(INDEX(_Datos!B:B,MATCH(19,_Datos!$I:$I,0)),"") | C26: =IFERROR(INDEX(_Datos!C:C,MATCH(19,_Datos!$I:$I,0)),"") | D26: =IFERROR(INDEX(_Datos!D:D,MATCH(19,_Datos!$I:$I,0)),"") | E26: =IFERROR(INDEX(_Datos!E:E,MATCH(19,_Datos!$I:$I,0)),"") | F26: =IFERROR(INDEX(_Datos!F:F,MATCH(19,_Datos!$I:$I,0)),"") | G26: =IFERROR(INDEX(_Datos!G:G,MATCH(19,_Datos!$I:$I,0)),"") | H26: =IFERROR(INDEX(_Datos!H:H,MATCH(19,_Datos!$I:$I,0)),"")
A27: =IFERROR(INDEX(_Datos!A:A,MATCH(20,_Datos!$I:$I,0)),"") | B27: =IFERROR(INDEX(_Datos!B:B,MATCH(20,_Datos!$I:$I,0)),"") | C27: =IFERROR(INDEX(_Datos!C:C,MATCH(20,_Datos!$I:$I,0)),"") | D27: =IFERROR(INDEX(_Datos!D:D,MATCH(20,_Datos!$I:$I,0)),"") | E27: =IFERROR(INDEX(_Datos!E:E,MATCH(20,_Datos!$I:$I,0)),"") | F27: =IFERROR(INDEX(_Datos!F:F,MATCH(20,_Datos!$I:$I,0)),"") | G27: =IFERROR(INDEX(_Datos!G:G,MATCH(20,_Datos!$I:$I,0)),"") | H27: =IFERROR(INDEX(_Datos!H:H,MATCH(20,_Datos!$I:$I,0)),"")
A28: =IFERROR(INDEX(_Datos!A:A,MATCH(21,_Datos!$I:$I,0)),"") | B28: =IFERROR(INDEX(_Datos!B:B,MATCH(21,_Datos!$I:$I,0)),"") | C28: =IFERROR(INDEX(_Datos!C:C,MATCH(21,_Datos!$I:$I,0)),"") | D28: =IFERROR(INDEX(_Datos!D:D,MATCH(21,_Datos!$I:$I,0)),"") | E28: =IFERROR(INDEX(_Datos!E:E,MATCH(21,_Datos!$I:$I,0)),"") | F28: =IFERROR(INDEX(_Datos!F:F,MATCH(21,_Datos!$I:$I,0)),"") | G28: =IFERROR(INDEX(_Datos!G:G,MATCH(21,_Datos!$I:$I,0)),"") | H28: =IFERROR(INDEX(_Datos!H:H,MATCH(21,_Datos!$I:$I,0)),"")
A29: =IFERROR(INDEX(_Datos!A:A,MATCH(22,_Datos!$I:$I,0)),"") | B29: =IFERROR(INDEX(_Datos!B:B,MATCH(22,_Datos!$I:$I,0)),"") | C29: =IFERROR(INDEX(_Datos!C:C,MATCH(22,_Datos!$I:$I,0)),"") | D29: =IFERROR(INDEX(_Datos!D:D,MATCH(22,_Datos!$I:$I,0)),"") | E29: =IFERROR(INDEX(_Datos!E:E,MATCH(22,_Datos!$I:$I,0)),"") | F29: =IFERROR(INDEX(_Datos!F:F,MATCH(22,_Datos!$I:$I,0)),"") | G29: =IFERROR(INDEX(_Datos!G:G,MATCH(22,_Datos!$I:$I,0)),"") | H29: =IFERROR(INDEX(_Datos!H:H,MATCH(22,_Datos!$I:$I,0)),"")
A30: =IFERROR(INDEX(_Datos!A:A,MATCH(23,_Datos!$I:$I,0)),"") | B30: =IFERROR(INDEX(_Datos!B:B,MATCH(23,_Datos!$I:$I,0)),"") | C30: =IFERROR(INDEX(_Datos!C:C,MATCH(23,_Datos!$I:$I,0)),"") | D30: =IFERROR(INDEX(_Datos!D:D,MATCH(23,_Datos!$I:$I,0)),"") | E30: =IFERROR(INDEX(_Datos!E:E,MATCH(23,_Datos!$I:$I,0)),"") | F30: =IFERROR(INDEX(_Datos!F:F,MATCH(23,_Datos!$I:$I,0)),"") | G30: =IFERROR(INDEX(_Datos!G:G,MATCH(23,_Datos!$I:$I,0)),"") | H30: =IFERROR(INDEX(_Datos!H:H,MATCH(23,_Datos!$I:$I,0)),"")
A31: =IFERROR(INDEX(_Datos!A:A,MATCH(24,_Datos!$I:$I,0)),"") | B31: =IFERROR(INDEX(_Datos!B:B,MATCH(24,_Datos!$I:$I,0)),"") | C31: =IFERROR(INDEX(_Datos!C:C,MATCH(24,_Datos!$I:$I,0)),"") | D31: =IFERROR(INDEX(_Datos!D:D,MATCH(24,_Datos!$I:$I,0)),"") | E31: =IFERROR(INDEX(_Datos!E:E,MATCH(24,_Datos!$I:$I,0)),"") | F31: =IFERROR(INDEX(_Datos!F:F,MATCH(24,_Datos!$I:$I,0)),"") | G31: =IFERROR(INDEX(_Datos!G:G,MATCH(24,_Datos!$I:$I,0)),"") | H31: =IFERROR(INDEX(_Datos!H:H,MATCH(24,_Datos!$I:$I,0)),"")
A32: =IFERROR(INDEX(_Datos!A:A,MATCH(25,_Datos!$I:$I,0)),"") | B32: =IFERROR(INDEX(_Datos!B:B,MATCH(25,_Datos!$I:$I,0)),"") | C32: =IFERROR(INDEX(_Datos!C:C,MATCH(25,_Datos!$I:$I,0)),"") | D32: =IFERROR(INDEX(_Datos!D:D,MATCH(25,_Datos!$I:$I,0)),"") | E32: =IFERROR(INDEX(_Datos!E:E,MATCH(25,_Datos!$I:$I,0)),"") | F32: =IFERROR(INDEX(_Datos!F:F,MATCH(25,_Datos!$I:$I,0)),"") | G32: =IFERROR(INDEX(_Datos!G:G,MATCH(25,_Datos!$I:$I,0)),"") | H32: =IFERROR(INDEX(_Datos!H:H,MATCH(25,_Datos!$I:$I,0)),"")
A33: =IFERROR(INDEX(_Datos!A:A,MATCH(26,_Datos!$I:$I,0)),"") | B33: =IFERROR(INDEX(_Datos!B:B,MATCH(26,_Datos!$I:$I,0)),"") | C33: =IFERROR(INDEX(_Datos!C:C,MATCH(26,_Datos!$I:$I,0)),"") | D33: =IFERROR(INDEX(_Datos!D:D,MATCH(26,_Datos!$I:$I,0)),"") | E33: =IFERROR(INDEX(_Datos!E:E,MATCH(26,_Datos!$I:$I,0)),"") | F33: =IFERROR(INDEX(_Datos!F:F,MATCH(26,_Datos!$I:$I,0)),"") | G33: =IFERROR(INDEX(_Datos!G:G,MATCH(26,_Datos!$I:$I,0)),"") | H33: =IFERROR(INDEX(_Datos!H:H,MATCH(26,_Datos!$I:$I,0)),"")
A34: =IFERROR(INDEX(_Datos!A:A,MATCH(27,_Datos!$I:$I,0)),"") | B34: =IFERROR(INDEX(_Datos!B:B,MATCH(27,_Datos!$I:$I,0)),"") | C34: =IFERROR(INDEX(_Datos!C:C,MATCH(27,_Datos!$I:$I,0)),"") | D34: =IFERROR(INDEX(_Datos!D:D,MATCH(27,_Datos!$I:$I,0)),"") | E34: =IFERROR(INDEX(_Datos!E:E,MATCH(27,_Datos!$I:$I,0)),"") | F34: =IFERROR(INDEX(_Datos!F:F,MATCH(27,_Datos!$I:$I,0)),"") | G34: =IFERROR(INDEX(_Datos!G:G,MATCH(27,_Datos!$I:$I,0)),"") | H34: =IFERROR(INDEX(_Datos!H:H,MATCH(27,_Datos!$I:$I,0)),"")
A35: =IFERROR(INDEX(_Datos!A:A,MATCH(28,_Datos!$I:$I,0)),"") | B35: =IFERROR(INDEX(_Datos!B:B,MATCH(28,_Datos!$I:$I,0)),"") | C35: =IFERROR(INDEX(_Datos!C:C,MATCH(28,_Datos!$I:$I,0)),"") | D35: =IFERROR(INDEX(_Datos!D:D,MATCH(28,_Datos!$I:$I,0)),"") | E35: =IFERROR(INDEX(_Datos!E:E,MATCH(28,_Datos!$I:$I,0)),"") | F35: =IFERROR(INDEX(_Datos!F:F,MATCH(28,_Datos!$I:$I,0)),"") | G35: =IFERROR(INDEX(_Datos!G:G,MATCH(28,_Datos!$I:$I,0)),"") | H35: =IFERROR(INDEX(_Datos!H:H,MATCH(28,_Datos!$I:$I,0)),"")
A36: =IFERROR(INDEX(_Datos!A:A,MATCH(29,_Datos!$I:$I,0)),"") | B36: =IFERROR(INDEX(_Datos!B:B,MATCH(29,_Datos!$I:$I,0)),"") | C36: =IFERROR(INDEX(_Datos!C:C,MATCH(29,_Datos!$I:$I,0)),"") | D36: =IFERROR(INDEX(_Datos!D:D,MATCH(29,_Datos!$I:$I,0)),"") | E36: =IFERROR(INDEX(_Datos!E:E,MATCH(29,_Datos!$I:$I,0)),"") | F36: =IFERROR(INDEX(_Datos!F:F,MATCH(29,_Datos!$I:$I,0)),"") | G36: =IFERROR(INDEX(_Datos!G:G,MATCH(29,_Datos!$I:$I,0)),"") | H36: =IFERROR(INDEX(_Datos!H:H,MATCH(29,_Datos!$I:$I,0)),"")
A37: =IFERROR(INDEX(_Datos!A:A,MATCH(30,_Datos!$I:$I,0)),"") | B37: =IFERROR(INDEX(_Datos!B:B,MATCH(30,_Datos!$I:$I,0)),"") | C37: =IFERROR(INDEX(_Datos!C:C,MATCH(30,_Datos!$I:$I,0)),"") | D37: =IFERROR(INDEX(_Datos!D:D,MATCH(30,_Datos!$I:$I,0)),"") | E37: =IFERROR(INDEX(_Datos!E:E,MATCH(30,_Datos!$I:$I,0)),"") | F37: =IFERROR(INDEX(_Datos!F:F,MATCH(30,_Datos!$I:$I,0)),"") | G37: =IFERROR(INDEX(_Datos!G:G,MATCH(30,_Datos!$I:$I,0)),"") | H37: =IFERROR(INDEX(_Datos!H:H,MATCH(30,_Datos!$I:$I,0)),"")
A38: =IFERROR(INDEX(_Datos!A:A,MATCH(31,_Datos!$I:$I,0)),"") | B38: =IFERROR(INDEX(_Datos!B:B,MATCH(31,_Datos!$I:$I,0)),"") | C38: =IFERROR(INDEX(_Datos!C:C,MATCH(31,_Datos!$I:$I,0)),"") | D38: =IFERROR(INDEX(_Datos!D:D,MATCH(31,_Datos!$I:$I,0)),"") | E38: =IFERROR(INDEX(_Datos!E:E,MATCH(31,_Datos!$I:$I,0)),"") | F38: =IFERROR(INDEX(_Datos!F:F,MATCH(31,_Datos!$I:$I,0)),"") | G38: =IFERROR(INDEX(_Datos!G:G,MATCH(31,_Datos!$I:$I,0)),"") | H38: =IFERROR(INDEX(_Datos!H:H,MATCH(31,_Datos!$I:$I,0)),"")
A39: =IFERROR(INDEX(_Datos!A:A,MATCH(32,_Datos!$I:$I,0)),"") | B39: =IFERROR(INDEX(_Datos!B:B,MATCH(32,_Datos!$I:$I,0)),"") | C39: =IFERROR(INDEX(_Datos!C:C,MATCH(32,_Datos!$I:$I,0)),"") | D39: =IFERROR(INDEX(_Datos!D:D,MATCH(32,_Datos!$I:$I,0)),"") | E39: =IFERROR(INDEX(_Datos!E:E,MATCH(32,_Datos!$I:$I,0)),"") | F39: =IFERROR(INDEX(_Datos!F:F,MATCH(32,_Datos!$I:$I,0)),"") | G39: =IFERROR(INDEX(_Datos!G:G,MATCH(32,_Datos!$I:$I,0)),"") | H39: =IFERROR(INDEX(_Datos!H:H,MATCH(32,_Datos!$I:$I,0)),"")
A40: =IFERROR(INDEX(_Datos!A:A,MATCH(33,_Datos!$I:$I,0)),"") | B40: =IFERROR(INDEX(_Datos!B:B,MATCH(33,_Datos!$I:$I,0)),"") | C40: =IFERROR(INDEX(_Datos!C:C,MATCH(33,_Datos!$I:$I,0)),"") | D40: =IFERROR(INDEX(_Datos!D:D,MATCH(33,_Datos!$I:$I,0)),"") | E40: =IFERROR(INDEX(_Datos!E:E,MATCH(33,_Datos!$I:$I,0)),"") | F40: =IFERROR(INDEX(_Datos!F:F,MATCH(33,_Datos!$I:$I,0)),"") | G40: =IFERROR(INDEX(_Datos!G:G,MATCH(33,_Datos!$I:$I,0)),"") | H40: =IFERROR(INDEX(_Datos!H:H,MATCH(33,_Datos!$I:$I,0)),"")
A41: =IFERROR(INDEX(_Datos!A:A,MATCH(34,_Datos!$I:$I,0)),"") | B41: =IFERROR(INDEX(_Datos!B:B,MATCH(34,_Datos!$I:$I,0)),"") | C41: =IFERROR(INDEX(_Datos!C:C,MATCH(34,_Datos!$I:$I,0)),"") | D41: =IFERROR(INDEX(_Datos!D:D,MATCH(34,_Datos!$I:$I,0)),"") | E41: =IFERROR(INDEX(_Datos!E:E,MATCH(34,_Datos!$I:$I,0)),"") | F41: =IFERROR(INDEX(_Datos!F:F,MATCH(34,_Datos!$I:$I,0)),"") | G41: =IFERROR(INDEX(_Datos!G:G,MATCH(34,_Datos!$I:$I,0)),"") | H41: =IFERROR(INDEX(_Datos!H:H,MATCH(34,_Datos!$I:$I,0)),"")
...

Sheet Menú por Categoría
A1: Menú principal - Lista de precios Abril 2026
E2: Roberto
E3: Russell
C5: ➤ IR A RESUMEN COTIZACIÓN
B7: Categoría Madre | C7: Categoría
B8: Conducción de fluidos | C8: PP-RCT | D8: Para acceder al detalle de productos por categoría favor hacer clic sobre el nombre de la categoría.
C9: PP-R
C10: Adhesivos, lubricantes y teflón
C11: PVC Sanitario Gris
C12: PVC Gris Oscuro No Certificado
C13: PVC Colector
C14: PVC Sanitario Blanco
C15: PVC Presión
C16: Instalación Baño y Cocina
C17: PVC Canaletas Techo
C18: Riego
C19: Mangueras
C20: Bombas
B21: Canalización Eléctrica | C21: PVC Conduit
C22: Conduit Libre de Halógeno
C25: Lista Completa (todas las categorías)

Sheet Lista Cliente TOP todos prod.
A1: Volver al menú principal | B1: SISTEMAS HIDRÁULICOS FEBRERO 2026 - LISTA PRECIOS COMPLETA
A2: Categoría Madre | B2: Categoría | C2: Nuevo Grupo SAP | D2: Formato | E2: FOTO | F2: SKU-SH | G2: Descripción SAP 01.26 | H2: UNIDAD MÍNIMA DE VENTA (UNIDADES) | I2: UNIDAD MÍNIMA DE VENTA (FORMATO)
A3: Conducción Fluidos | B3: PP-RCT | C3: TUBO BETA | D3: TB | E3: #VALUE! | F3: 11402 | G3: PP-RCT TUBO 6M 20 PN16 N | H3: 25 | I3: Bolsa
A4: Conducción Fluidos | B4: PP-RCT | C4: TUBO BETA | D4: TB | F4: 11403 | G4: PP-RCT TUBO 6M 25 PN16 N | H4: 20 | I4: Bolsa
A5: Conducción Fluidos | B5: PP-RCT | C5: TUBO BETA | D5: TB | F5: 11404 | G5: PP-RCT TUBO 6M 32 PN16 N | H5: 10 | I5: Bolsa
A6: Conducción Fluidos | B6: PP-RCT | C6: TUBO BETA | D6: TB | F6: 11405 | G6: PP-RCT TUBO 6M 40 PN16 N | H6: 1 | I6: Bolsa
A7: Conducción Fluidos | B7: PP-RCT | C7: TUBO BETA | D7: TB | F7: 11406 | G7: PP-RCT TUBO 6M 50 PN16 N | H7: 1 | I7: Bolsa
A8: Conducción Fluidos | B8: PP-RCT | C8: TUBO BETA | D8: TB | F8: 11407 | G8: PP-RCT TUBO 6M 63 PN16 N | H8: 1 | I8: Bolsa
A9: Conducción Fluidos | B9: PP-RCT | C9: TUBO BETA | D9: TB | F9: 11408 | G9: PP-RCT TUBO 6M 75 PN16 N | H9: 1 | I9: Bolsa
A10: Conducción Fluidos | B10: PP-RCT | C10: TUBO BETA | D10: TB | F10: 11409 | G10: PP-RCT TUBO 6M 90 PN16 N | H10: 1 | I10: Bolsa
A11: Conducción Fluidos | B11: PP-RCT | C11: TUBO BETA | D11: TB | F11: 11410 | G11: PP-RCT TUBO 6M 110 PN16 N | H11: 1 | I11: Bolsa
A12: Conducción Fluidos | B12: PP-R | C12: TUBOS PPR DG | D12: TB | E12: #VALUE! | F12: 12002 | G12: PPR TUBO 6M 20 PN16 N | H12: 25 | I12: Bolsa
A13: Conducción Fluidos | B13: PP-R | C13: TUBOS PPR DG | D13: TB | F13: 12003 | G13: PPR TUBO 6M 25 PN16 N | H13: 20 | I13: Bolsa
A14: Conducción Fluidos | B14: PP-R | C14: TUBOS PPR DG | D14: TB | F14: 12004 | G14: PPR TUBO 6M 32 PN16 N | H14: 10 | I14: Bolsa
A15: Conducción Fluidos | B15: PP-R | C15: TUBOS PPR DG | D15: TB | F15: 12005 | G15: PPR TUBO 6M 40 PN16 N | H15: 1 | I15: Bolsa
A16: Conducción Fluidos | B16: PP-R | C16: TUBOS PPR DG | D16: TB | F16: 12006 | G16: PPR TUBO 6M 50 PN16 N | H16: 1 | I16: Bolsa
A17: Conducción Fluidos | B17: PP-R | C17: TUBOS PPR DG | D17: TB | F17: 12007 | G17: PPR TUBO 6M 63 PN16 N | H17: 1 | I17: Bolsa
A18: Conducción Fluidos | B18: PP-R | C18: TUBOS PPR DG | D18: TB | F18: 12008 | G18: PPR TUBO 6M 75 PN16 N | H18: 1 | I18: Bolsa
A19: Conducción Fluidos | B19: PP-R | C19: TUBOS PPR DG | D19: TB | F19: 12009 | G19: PPR TUBO 6M 90 PN16 N | H19: 1 | I19: Bolsa
A20: Conducción Fluidos | B20: PP-R | C20: TUBOS PPR DG | D20: TB | F20: 12010 | G20: PPR TUBO 6M 110 PN16 N | H20: 1 | I20: Bolsa
A21: Conducción Fluidos | B21: PP-R | C21: TUBOS PPR DG | D21: TB | E21: #VALUE! | F21: 12102 | G21: PPR TUBO 6M 20 PN20 N | H21: 25 | I21: Bolsa
A22: Conducción Fluidos | B22: PP-R | C22: TUBOS PPR DG | D22: TB | F22: 12103 | G22: PPR TUBO 6M 25 PN20 N | H22: 20 | I22: Bolsa
A23: Conducción Fluidos | B23: PP-R | C23: TUBOS PPR DG | D23: TB | F23: 12104 | G23: PPR TUBO 6M 32 PN20 N | H23: 10 | I23: Bolsa
A24: Conducción Fluidos | B24: PP-R | C24: TUBOS PPR DG | D24: TB | F24: 12105 | G24: PPR TUBO 6M 40 PN20 N | H24: 1 | I24: Bolsa
A25: Conducción Fluidos | B25: PP-R | C25: TUBOS PPR DG | D25: TB | F25: 12106 | G25: PPR TUBO 6M 50 PN20 N | H25: 1 | I25: Bolsa
A26: Conducción Fluidos | B26: PP-R | C26: TUBOS PPR DG | D26: TB | F26: 12107 | G26: PPR TUBO 6M 63 PN20 N | H26: 1 | I26: Bolsa
A27: Conducción Fluidos | B27: PP-R | C27: TUBOS PPR DG | D27: TB | F27: 12108 | G27: PPR TUBO 6M 75 PN20 N | H27: 1 | I27: Bolsa
A28: Conducción Fluidos | B28: PP-R | C28: TUBOS PPR DG | D28: TB | F28: 12109 | G28: PPR TUBO 6M 90 PN20 N | H28: 1 | I28: Bolsa
A29: Conducción Fluidos | B29: PP-R | C29: TUBOS PPR DG | D29: TB | F29: 12110 | G29: PPR TUBO 6M 110 PN20 N | H29: 1 | I29: Bolsa
A30: Conducción Fluidos | B30: PP-R | C30: FITTING PPR IMPORTAD | D30: FT | E30: #VALUE! | F30: 331202 | G30: PPR FT CODO 45° 20 I | H30: 40 | I30: Bolsa
A31: Conducción Fluidos | B31: PP-R | C31: FITTING PPR IMPORTAD | D31: FT | F31: 331203 | G31: PPR FT CODO 45° 25 I | H31: 25 | I31: Bolsa
A32: Conducción Fluidos | B32: PP-R | C32: FITTING PPR IMPORTAD | D32: FT | F32: 331204 | G32: PPR FT CODO 45° 32 I | H32: 10 | I32: Bolsa
A33: Conducción Fluidos | B33: PP-R | C33: FITTING PPR IMPORTAD | D33: FT | F33: 331205 | G33: PPR FT CODO 45° 40 I | H33: 10 | I33: Bolsa
A34: Conducción Fluidos | B34: PP-R | C34: FITTING PPR IMPORTAD | D34: FT | F34: 331206 | G34: PPR FT CODO 45° 50 I | H34: 9 | I34: Bolsa
A35: Conducción Fluidos | B35: PP-R | C35: FITTING PPR IMPORTAD | D35: FT | F35: 331207 | G35: PPR FT CODO 45° 63 I | H35: 9 | I35: Bolsa
A36: Conducción Fluidos | B36: PP-R | C36: FITTING PPR IMPORTAD | D36: FT | F36: 331208 | G36: PPR FT CODO 45° 75 I | H36: 6 | I36: Bolsa
A37: Conducción Fluidos | B37: PP-R | C37: FITTING PPR IMPORTAD | D37: FT | F37: 331209 | G37: PPR FT CODO 45° 90 I | H37: 1 | I37: Bolsa
A38: Conducción Fluidos | B38: PP-R | C38: FITTING PPR IMPORTAD | D38: FT | F38: 331210 | G38: PPR FT CODO 45° 110 I | H38: 1 | I38: Bolsa
A39: Conducción Fluidos | B39: PP-R | C39: FITTING PPR IMPORTAD | D39: FT | E39: #VALUE! | F39: 331102 | G39: PPR FT CODO 90° 20 I | H39: 60 | I39: Bolsa
A40: Conducción Fluidos | B40: PP-R | C40: FITTING PPR IMPORTAD | D40: FT | F40: 331103 | G40: PPR FT CODO 90° 25 I | H40: 20 | I40: Bolsa
...

Sheet PVC Conduit y Libre Halógeno
A1: Volver al menú principal | B1: SISTEMAS HIDRÁULICOS FEBRERO 2026 - LISTA PRECIOS
A2: Categoría Madre | B2: Categoría | C2: Nuevo Grupo SAP | D2: Formato | E2: FOTO | F2: SKU-SH | G2: Descripción SAP 01.26 | H2: UNIDAD MÍNIMA DE VENTA (UNIDADES) | I2: UNIDAD MÍNIMA DE VENTA (FORMATO) | J2: CANTIDAD A COTIZAR
A3: Canalización Eléctrica | B3: PVC CONDUIT | C3: TUBO PVC CONDUIT | D3: TB | E3: #VALUE! | F3: 15301 | G3: PVC CONDUIT TUBO 3M 16 CLASE IV N | H3: 50 | I3: Bolsa
A4: Canalización Eléctrica | B4: PVC CONDUIT | C4: TUBO PVC CONDUIT | D4: TB | F4: 15302 | G4: PVC CONDUIT TUBO 3M 20 CLASE IV N | H4: 20 | I4: Bolsa
A5: Canalización Eléctrica | B5: PVC CONDUIT | C5: TUBO PVC CONDUIT | D5: TB | F5: 15310 | G5: PVC CONDUIT TUBO 3M 25 CLASE III N | H5: 20 | I5: Bolsa
A6: Canalización Eléctrica | B6: PVC CONDUIT | C6: TUBO PVC CONDUIT | D6: TB | F6: 15311 | G6: PVC CONDUIT TUBO 3M 32 CLASE III N | H6: 10 | I6: unitario
A7: Canalización Eléctrica | B7: PVC CONDUIT | C7: TUBO PVC CONDUIT | D7: TB | F7: 15320 | G7: PVC CONDUIT TUBO 3M 40 CLASE II N | H7: 1 | I7: unitario
A8: Canalización Eléctrica | B8: PVC CONDUIT | C8: TUBO PVC CONDUIT | D8: TB | F8: 15321 | G8: PVC CONDUIT TUBO 3M 50 CLASE II N | H8: 1 | I8: unitario
A9: Canalización Eléctrica | B9: PVC CONDUIT | C9: TUBO PVC CONDUIT | D9: TB | F9: 15340 | G9: PVC CONDUIT TUBO 6M 16 CLASE IV N | H9: 25 | I9: Bolsa
A10: Canalización Eléctrica | B10: PVC CONDUIT | C10: TUBO PVC CONDUIT | D10: TB | F10: 15341 | G10: PVC CONDUIT TUBO 6M 20 CLASE IV N | H10: 20 | I10: Bolsa
A11: Canalización Eléctrica | B11: PVC CONDUIT | C11: TUBO PVC CONDUIT | D11: TB | F11: 15350 | G11: PVC CONDUIT TUBO 6M 25 CLASE III N | H11: 20 | I11: Bolsa
A12: Canalización Eléctrica | B12: PVC CONDUIT | C12: TUBO PVC CONDUIT | D12: TB | F12: 15351 | G12: PVC CONDUIT TUBO 6M 32 CLASE III N | H12: 10 | I12: Bolsa
A13: Canalización Eléctrica | B13: PVC CONDUIT | C13: TUBO PVC CONDUIT | D13: TB | F13: 15360 | G13: PVC CONDUIT TUBO 6M 40 CLASE II N | H13: 1 | I13: unitario
A14: Canalización Eléctrica | B14: PVC CONDUIT | C14: TUBO PVC CONDUIT | D14: TB | F14: 15361 | G14: PVC CONDUIT TUBO 6M 50 CLASE II N | H14: 1 | I14: unitario
A15: Canalización Eléctrica | B15: PVC CONDUIT | C15: TUBO PVC CONDUIT CORRUGADO | D15: TB | E15: #VALUE! | F15: 15390 | G15: PVC CONDUIT TUBO CURVABLE 16 4422 FUERTE | H15: 1 | I15: Unitario
A16: Canalización Eléctrica | B16: PVC CONDUIT | C16: TUBO PVC CONDUIT CORRUGADO | D16: TB | F16: 15391 | G16: PVC CONDUIT TUBO CURVABLE 20 4422 FUERTE | H16: 1 | I16: Unitario
A17: Canalización Eléctrica | B17: PVC CONDUIT | C17: TUBO PVC CONDUIT CORRUGADO | D17: TB | F17: 15392 | G17: PVC CONDUIT TUBO CURVABLE 25 4422 FUERTE | H17: 1 | I17: Unitario
A18: Canalización Eléctrica | B18: PVC CONDUIT | C18: FITTING CONDUIT | D18: FT | E18: #VALUE! | F18: 53001 | G18: PVC CONDUIT FT CURVA 90° 16 N | H18: 50 | I18: bolsa
A19: Canalización Eléctrica | B19: PVC CONDUIT | C19: FITTING CONDUIT | D19: FT | F19: 353002 | G19: PVC CONDUIT FT CURVA 90° 20 I | H19: 30 | I19: bolsa
A20: Canalización Eléctrica | B20: PVC CONDUIT | C20: FITTING CONDUIT | D20: FT | F20: 353003 | G20: PVC CONDUIT FT CURVA 90° 25 I | H20: 20 | I20: bolsa
A21: Canalización Eléctrica | B21: PVC CONDUIT | C21: FITTING CONDUIT | D21: FT | F21: 353004 | G21: PVC CONDUIT FT CURVA 90° 32 I | H21: 20 | I21: bolsa
A22: Canalización Eléctrica | B22: PVC CONDUIT | C22: FITTING CONDUIT | D22: FT | E22: #VALUE! | F22: 353101 | G22: PVC CONDUIT FT COPLA 16 I | H22: 50 | I22: bolsa
A23: Canalización Eléctrica | B23: PVC CONDUIT | C23: FITTING CONDUIT | D23: FT | F23: 353102 | G23: PVC CONDUIT FT COPLA 20 I | H23: 50 | I23: bolsa
A24: Canalización Eléctrica | B24: PVC CONDUIT | C24: FITTING CONDUIT | D24: FT | F24: 353103 | G24: PVC CONDUIT FT COPLA 25 I | H24: 20 | I24: bolsa
A25: Canalización Eléctrica | B25: PVC CONDUIT | C25: FITTING CONDUIT | D25: FT | F25: 353104 | G25: PVC CONDUIT FT COPLA 32 I | H25: 10 | I25: bolsa
A26: Canalización Eléctrica | B26: PVC CONDUIT | C26: FITTING CONDUIT | D26: FT | E26: #VALUE! | F26: 353202 | G26: PVC CONDUIT FT TERMINALIN C/TUERCA 20 I | H26: 50 | I26: bolsa
A27: Canalización Eléctrica | B27: PVC CONDUIT | C27: FITTING CONDUIT | D27: FT | F27: 353203 | G27: PVC CONDUIT FT TERMINALIN C/TUERCA 25 I | H27: 20 | I27: bolsa
A28: Canalización Eléctrica | B28: PVC CONDUIT | C28: FITTING CONDUIT | D28: FT | F28: 353204 | G28: PVC CONDUIT FT TERMINALIN C/TUERCA 32 I | H28: 10 | I28: Bolsa
A29: Canalización Eléctrica | B29: PVC CONDUIT | C29: FITTING CONDUIT | D29: FT | E29: #VALUE! | F29: 353501 | G29: SALIDA CAJA CONDUIT 16MM I | H29: 50 | I29: bolsa
A30: Canalización Eléctrica | B30: PVC CONDUIT | C30: FITTING CONDUIT | D30: FT | F30: 353502 | G30: SALIDA CAJA CONDUIT 20MM I | H30: 30 | I30: bolsa
A31: Canalización Eléctrica | B31: PVC CONDUIT | C31: FITTING CONDUIT | D31: FT | F31: 353503 | G31: SALIDA CAJA CONDUIT 25MM I | H31: 28 | I31: bolsa
A32: Canalización Eléctrica | B32: PVC CONDUIT | C32: FITTING CONDUIT | D32: FT | F32: 353504 | G32: SALIDA CAJA CONDUIT 32MM I | H32: 14 | I32: bolsa
A33: Canalización Eléctrica | B33: PVC CONDUIT | C33: FITTING CONDUIT | D33: FT | E33: #VALUE! | F33: 353301 | G33: PVC CONDUIT FT ABRAZADERA 16 I | H33: 50 | I33: bolsa
A34: Canalización Eléctrica | B34: PVC CONDUIT | C34: FITTING CONDUIT | D34: FT | F34: 353302 | G34: PVC CONDUIT FT ABRAZADERA 20 I | H34: 50 | I34: bolsa
A35: Canalización Eléctrica | B35: PVC CONDUIT | C35: FITTING CONDUIT | D35: FT | F35: 353303 | G35: PVC CONDUIT FT ABRAZADERA 25 I | H35: 20 | I35: bolsa
A36: Canalización Eléctrica | B36: PVC CONDUIT | C36: FITTING CONDUIT | D36: FT | F36: 353304 | G36: PVC CONDUIT FT ABRAZADERA 32 I | H36: 10 | I36: bolsa
A37: Canalización Eléctrica | B37: PVC CONDUIT | C37: FITTING CONDUIT | D37: FT | E37: #VALUE! | F37: 53505 | G37: PVC CONDUIT CAMARA REGISTRO 110X20 | H37: 1 | I37: Unitario
A38: Canalización Eléctrica | B38: PVC CONDUIT | C38: FITTING CONDUIT | D38: FT | F38: 53506 | G38: PVC CONDUIT CAMARA REGISTRO 110X25 | H38: 1 | I38: Unitario
A39: Canalización Eléctrica | B39: PVC CONDUIT | C39: CAJAS ELÉCTRICAS CONDUIT | D39: FT | E39: #VALUE! | F39: 53401 | G39: CAJA CONDUIT TABIQUE C/ORE MET 16-20 GRI | H39: 10 | I39: Unitario
A40: Canalización Eléctrica | B40: PVC CONDUIT | C40: CAJAS ELÉCTRICAS CONDUIT | D40: FT | E40: #VALUE! | F40: 53402 | G40: PVC CONDUIT CAJA CORRIENTE 16-20 N GRI | H40: 10 | I40: Unitario
...

Sheet PPRCT
A1: Volver al menú principal | B1: SISTEMAS HIDRÁULICOS FEBRERO 2026 - LISTA PRECIOS
A2: Categoría Madre | B2: Categoría | C2: Nuevo Grupo SAP | D2: Formato | E2: FOTO | F2: SKU-SH | G2: Descripción SAP 01.26 | H2: UNIDAD MÍNIMA DE VENTA (UNIDADES) | I2: UNIDAD MÍNIMA DE VENTA (FORMATO) | J2: CANTIDAD A COTIZAR
A3: Conducción Fluidos | B3: PP-RCT | C3: TUBO BETA | D3: TB | E3: #VALUE! | F3: 11402 | G3: PP-RCT TUBO 6M 20 PN16 N | H3: 25 | I3: Bolsa
A4: Conducción Fluidos | B4: PP-RCT | C4: TUBO BETA | D4: TB | F4: 11403 | G4: PP-RCT TUBO 6M 25 PN16 N | H4: 20 | I4: Bolsa
A5: Conducción Fluidos | B5: PP-RCT | C5: TUBO BETA | D5: TB | F5: 11404 | G5: PP-RCT TUBO 6M 32 PN16 N | H5: 10 | I5: Bolsa
A6: Conducción Fluidos | B6: PP-RCT | C6: TUBO BETA | D6: TB | F6: 11405 | G6: PP-RCT TUBO 6M 40 PN16 N | H6: 1 | I6: Bolsa
A7: Conducción Fluidos | B7: PP-RCT | C7: TUBO BETA | D7: TB | F7: 11406 | G7: PP-RCT TUBO 6M 50 PN16 N | H7: 1 | I7: Bolsa
A8: Conducción Fluidos | B8: PP-RCT | C8: TUBO BETA | D8: TB | F8: 11407 | G8: PP-RCT TUBO 6M 63 PN16 N | H8: 1 | I8: Bolsa
A9: Conducción Fluidos | B9: PP-RCT | C9: TUBO BETA | D9: TB | F9: 11408 | G9: PP-RCT TUBO 6M 75 PN16 N | H9: 1 | I9: Bolsa
A10: Conducción Fluidos | B10: PP-RCT | C10: TUBO BETA | D10: TB | F10: 11409 | G10: PP-RCT TUBO 6M 90 PN16 N | H10: 1 | I10: Bolsa
A11: Conducción Fluidos | B11: PP-RCT | C11: TUBO BETA | D11: TB | F11: 11410 | G11: PP-RCT TUBO 6M 110 PN16 N | H11: 1 | I11: Bolsa

Sheet PPR
A1: Volver al menú principal | B1: SISTEMAS HIDRÁULICOS FEBRERO 2026 - LISTA PRECIOS
A2: Categoría Madre | B2: Categoría | C2: Nuevo Grupo SAP | D2: Formato | E2: FOTO | F2: SKU-SH | G2: Descripción SAP 01.26 | H2: UNIDAD MÍNIMA DE VENTA (UNIDADES) | I2: UNIDAD MÍNIMA DE VENTA (FORMATO) | J2: CANTIDAD A COTIZAR
A3: Conducción Fluidos | B3: PP-R | C3: TUBOS PPR DG | D3: TB | E3: #VALUE! | F3: 12002 | G3: PPR TUBO 6M 20 PN16 N | H3: 25 | I3: Bolsa
A4: Conducción Fluidos | B4: PP-R | C4: TUBOS PPR DG | D4: TB | F4: 12003 | G4: PPR TUBO 6M 25 PN16 N | H4: 20 | I4: Bolsa
A5: Conducción Fluidos | B5: PP-R | C5: TUBOS PPR DG | D5: TB | F5: 12004 | G5: PPR TUBO 6M 32 PN16 N | H5: 10 | I5: Bolsa
A6: Conducción Fluidos | B6: PP-R | C6: TUBOS PPR DG | D6: TB | F6: 12005 | G6: PPR TUBO 6M 40 PN16 N | H6: 1 | I6: Bolsa
A7: Conducción Fluidos | B7: PP-R | C7: TUBOS PPR DG | D7: TB | F7: 12006 | G7: PPR TUBO 6M 50 PN16 N | H7: 1 | I7: Bolsa
A8: Conducción Fluidos | B8: PP-R | C8: TUBOS PPR DG | D8: TB | F8: 12007 | G8: PPR TUBO 6M 63 PN16 N | H8: 1 | I8: Bolsa
A9: Conducción Fluidos | B9: PP-R | C9: TUBOS PPR DG | D9: TB | F9: 12008 | G9: PPR TUBO 6M 75 PN16 N | H9: 1 | I9: Bolsa
A10: Conducción Fluidos | B10: PP-R | C10: TUBOS PPR DG | D10: TB | F10: 12009 | G10: PPR TUBO 6M 90 PN16 N | H10: 1 | I10: Bolsa
A11: Conducción Fluidos | B11: PP-R | C11: TUBOS PPR DG | D11: TB | F11: 12010 | G11: PPR TUBO 6M 110 PN16 N | H11: 1 | I11: Bolsa
A12: Conducción Fluidos | B12: PP-R | C12: TUBOS PPR DG | D12: TB | E12: #VALUE! | F12: 12102 | G12: PPR TUBO 6M 20 PN20 N | H12: 25 | I12: Bolsa
A13: Conducción Fluidos | B13: PP-R | C13: TUBOS PPR DG | D13: TB | F13: 12103 | G13: PPR TUBO 6M 25 PN20 N | H13: 20 | I13: Bolsa
A14: Conducción Fluidos | B14: PP-R | C14: TUBOS PPR DG | D14: TB | F14: 12104 | G14: PPR TUBO 6M 32 PN20 N | H14: 10 | I14: Bolsa
A15: Conducción Fluidos | B15: PP-R | C15: TUBOS PPR DG | D15: TB | F15: 12105 | G15: PPR TUBO 6M 40 PN20 N | H15: 1 | I15: Bolsa
A16: Conducción Fluidos | B16: PP-R | C16: TUBOS PPR DG | D16: TB | F16: 12106 | G16: PPR TUBO 6M 50 PN20 N | H16: 1 | I16: Bolsa
A17: Conducción Fluidos | B17: PP-R | C17: TUBOS PPR DG | D17: TB | F17: 12107 | G17: PPR TUBO 6M 63 PN20 N | H17: 1 | I17: Bolsa
A18: Conducción Fluidos | B18: PP-R | C18: TUBOS PPR DG | D18: TB | F18: 12108 | G18: PPR TUBO 6M 75 PN20 N | H18: 1 | I18: Bolsa
A19: Conducción Fluidos | B19: PP-R | C19: TUBOS PPR DG | D19: TB | F19: 12109 | G19: PPR TUBO 6M 90 PN20 N | H19: 1 | I19: Bolsa
A20: Conducción Fluidos | B20: PP-R | C20: TUBOS PPR DG | D20: TB | F20: 12110 | G20: PPR TUBO 6M 110 PN20 N | H20: 1 | I20: Bolsa
A21: Conducción Fluidos | B21: PP-R | C21: FITTING PPR IMPORTAD | D21: FT | E21: #VALUE! | F21: 331202 | G21: PPR FT CODO 45° 20 I | H21: 40 | I21: Bolsa
A22: Conducción Fluidos | B22: PP-R | C22: FITTING PPR IMPORTAD | D22: FT | F22: 331203 | G22: PPR FT CODO 45° 25 I | H22: 25 | I22: Bolsa
A23: Conducción Fluidos | B23: PP-R | C23: FITTING PPR IMPORTAD | D23: FT | F23: 331204 | G23: PPR FT CODO 45° 32 I | H23: 10 | I23: Bolsa
A24: Conducción Fluidos | B24: PP-R | C24: FITTING PPR IMPORTAD | D24: FT | F24: 331205 | G24: PPR FT CODO 45° 40 I | H24: 10 | I24: Bolsa
A25: Conducción Fluidos | B25: PP-R | C25: FITTING PPR IMPORTAD | D25: FT | F25: 331206 | G25: PPR FT CODO 45° 50 I | H25: 9 | I25: Bolsa
A26: Conducción Fluidos | B26: PP-R | C26: FITTING PPR IMPORTAD | D26: FT | F26: 331207 | G26: PPR FT CODO 45° 63 I | H26: 9 | I26: Bolsa
A27: Conducción Fluidos | B27: PP-R | C27: FITTING PPR IMPORTAD | D27: FT | F27: 331208 | G27: PPR FT CODO 45° 75 I | H27: 6 | I27: Bolsa
A28: Conducción Fluidos | B28: PP-R | C28: FITTING PPR IMPORTAD | D28: FT | F28: 331209 | G28: PPR FT CODO 45° 90 I | H28: 1 | I28: Bolsa
A29: Conducción Fluidos | B29: PP-R | C29: FITTING PPR IMPORTAD | D29: FT | F29: 331210 | G29: PPR FT CODO 45° 110 I | H29: 1 | I29: Bolsa
A30: Conducción Fluidos | B30: PP-R | C30: FITTING PPR IMPORTAD | D30: FT | E30: #VALUE! | F30: 331102 | G30: PPR FT CODO 90° 20 I | H30: 60 | I30: Bolsa
A31: Conducción Fluidos | B31: PP-R | C31: FITTING PPR IMPORTAD | D31: FT | F31: 331103 | G31: PPR FT CODO 90° 25 I | H31: 20 | I31: Bolsa
A32: Conducción Fluidos | B32: PP-R | C32: FITTING PPR IMPORTAD | D32: FT | F32: 331104 | G32: PPR FT CODO 90° 32 I | H32: 20 | I32: Bolsa
A33: Conducción Fluidos | B33: PP-R | C33: FITTING PPR IMPORTAD | D33: FT | F33: 331105 | G33: PPR FT CODO 90° 40 I | H33: 10 | I33: Bolsa
A34: Conducción Fluidos | B34: PP-R | C34: FITTING PPR IMPORTAD | D34: FT | F34: 331106 | G34: PPR FT CODO 90° 50 I | H34: 9 | I34: Bolsa
A35: Conducción Fluidos | B35: PP-R | C35: FITTING PPR IMPORTAD | D35: FT | F35: 331107 | G35: PPR FT CODO 90° 63 I | H35: 6 | I35: Bolsa
A36: Conducción Fluidos | B36: PP-R | C36: FITTING PPR IMPORTAD | D36: FT | F36: 331108 | G36: PPR FT CODO 90° 75 I | H36: 4 | I36: Bolsa
A37: Conducción Fluidos | B37: PP-R | C37: FITTING PPR IMPORTAD | D37: FT | F37: 331109 | G37: PPR FT CODO 90° 90 I | H37: 2 | I37: Bolsa
A38: Conducción Fluidos | B38: PP-R | C38: FITTING PPR IMPORTAD | D38: FT | F38: 331110 | G38: PPR FT CODO 90° 110 I | H38: 1 | I38: Bolsa
A39: Conducción Fluidos | B39: PP-R | C39: FITTING PPR IMPORTAD | D39: FT | E39: #VALUE! | F39: 332302 | G39: PPR FT CODO 90° HE MET 20 1/2' I | H39: 10 | I39: Bolsa
A40: Conducción Fluidos | B40: PP-R | C40: FITTING PPR IMPORTAD | D40: FT | F40: 332308 | G40: PPR FT CODO 90° HE MET 20 3/4' I | H40: 10 | I40: Bolsa
...

Sheet Adhes. Lubric Teflón
A1: Volver al menú principal | B1: SISTEMAS HIDRÁULICOS FEBRERO 2026 - LISTA PRECIOS
A2: Categoría Madre | B2: Categoría | C2: Nuevo Grupo SAP | D2: Formato | E2: FOTO | F2: SKU-SH | G2: Descripción SAP 01.26 | H2: UNIDAD MÍNIMA DE VENTA (UNIDADES) | I2: UNIDAD MÍNIMA DE VENTA (FORMATO) | J2: CANTIDAD A COTIZAR
A3: Conducción Fluidos | B3: ADH. LUB. PVC Y TEFLÓN | C3: ADHESIVOS Y LUBRICANTE PVC, TEFLÓN | D3: POMO 20 CC | E3: #VALUE! | F3: 345001 | G3: ADHESIVO PVC TRANSP POMO 20CC S.H | H3: 30 | I3: Caja
A4: Conducción Fluidos | B4: ADH. LUB. PVC Y TEFLÓN | C4: ADHESIVOS Y LUBRICANTE PVC, TEFLÓN | D4: POMO 60 CC | E4: #VALUE! | F4: 345002 | G4: ADHESIVO PVC TRANSP POMO 60CC S.H. | H4: 30 | I4: Caja
A5: Conducción Fluidos | B5: ADH. LUB. PVC Y TEFLÓN | C5: ADHESIVOS Y LUBRICANTE PVC, TEFLÓN | D5: TARRO 118 CC | E5: #VALUE! | F5: 345003 | G5: ADHESIVO PVC TRANSP LATA 118ML S.H. | H5: 24 | I5: Caja
A6: Conducción Fluidos | B6: ADH. LUB. PVC Y TEFLÓN | C6: ADHESIVOS Y LUBRICANTE PVC, TEFLÓN | D6: TARRO 237 CC | E6: #VALUE! | F6: 345004 | G6: ADHESIVO PVC TRANSP LATA 237ML S.H. | H6: 12 | I6: Caja
A7: Conducción Fluidos | B7: ADH. LUB. PVC Y TEFLÓN | C7: ADHESIVOS Y LUBRICANTE PVC, TEFLÓN | D7: TARRO 118 CC | E7: #VALUE! | F7: 345005 | G7: ADHESIVO PVC HUMED LATA 118ML S.H. | H7: 24 | I7: Caja
A8: Conducción Fluidos | B8: ADH. LUB. PVC Y TEFLÓN | C8: ADHESIVOS Y LUBRICANTE PVC, TEFLÓN | D8: TARRO 237 CC | E8: #VALUE! | F8: 345006 | G8: ADHESIVO PVC HUMED LATA 237ML S.H. | H8: 12 | I8: Caja
A9: Conducción Fluidos | B9: ADH. LUB. PVC Y TEFLÓN | C9: ADHESIVOS Y LUBRICANTE PVC, TEFLÓN | D9: LUBRICANTE | E9: #VALUE! | F9: 45038 | G9: LUBRICANTE PVC 1/2 LT | H9: 1 | I9: Unitario
A10: Conducción Fluidos | B10: ADH. LUB. PVC Y TEFLÓN | C10: ADHESIVOS Y LUBRICANTE PVC, TEFLÓN | D10: CIRC. DISPENSADOR | E10: #VALUE! | F10: 44405 | G10: COMP TEFLÓN DOMESTICO 1/2' | H10: 250 | I10: Caja
A11: Conducción Fluidos | B11: ADH. LUB. PVC Y TEFLÓN | C11: ADHESIVOS Y LUBRICANTE PVC, TEFLÓN | D11: CIRC. DISPENSADOR | F11: 44406 | G11: COMP TEFLÓN DOMESTICO 3/4' | H11: 250 | I11: Caja

Sheet PVC Sanit Gris
A1: Volver al menú principal | B1: SISTEMAS HIDRÁULICOS FEBRERO 2026 - LISTA PRECIOS
A2: Categoría Madre | B2: Categoría | C2: Nuevo Grupo SAP | D2: Formato | E2: FOTO | F2: SKU-SH | G2: Descripción SAP 01.26 | H2: UNIDAD MÍNIMA DE VENTA (UNIDADES) | I2: UNIDAD MÍNIMA DE VENTA (FORMATO) | J2: CANTIDAD A COTIZAR
A3: Conducción Fluidos | B3: PVC SANITARIO GRIS | C3: TUBOS SANT GRIS | D3: TB | E3: #VALUE! | F3: 13005NN | G3: PVC SAN GRIS TUBO N.NORMA 6M 40 N | H3: 1 | I3: Unitario
A4: Conducción Fluidos | B4: PVC SANITARIO GRIS | C4: TUBOS SANT GRIS | D4: TB | F4: 13006NN | G4: PVC SAN GRIS TUBO N.NORMA 6M 50 N | H4: 1 | I4: Unitario
A5: Conducción Fluidos | B5: PVC SANITARIO GRIS | C5: TUBOS SANT GRIS | D5: TB | F5: 13008NN | G5: PVC SAN GRIS TUBO N.NORMA 6M 75 N | H5: 1 | I5: Unitario
A6: Conducción Fluidos | B6: PVC SANITARIO GRIS | C6: TUBOS SANT GRIS | D6: TB | F6: 13010NN | G6: PVC SAN GRIS TUBO N.NORMA 6M 110 N | H6: 1 | I6: Unitario
A7: Conducción Fluidos | B7: PVC SANITARIO GRIS | C7: TUBOS SANT GRIS | D7: TB | F7: 13105NN | G7: PVC SAN GRIS TUBO N.NORMA 3M 40 N | H7: 1 | I7: Unitario
A8: Conducción Fluidos | B8: PVC SANITARIO GRIS | C8: TUBOS SANT GRIS | D8: TB | F8: 13106NN | G8: PVC SAN GRIS TUBO N.NORMA 3M 50 N | H8: 1 | I8: Unitario
A9: Conducción Fluidos | B9: PVC SANITARIO GRIS | C9: TUBOS SANT GRIS | D9: TB | F9: 13108NN | G9: PVC SAN GRIS TUBO N.NORMA 3M 75 N | H9: 1 | I9: Unitario
A10: Conducción Fluidos | B10: PVC SANITARIO GRIS | C10: TUBOS SANT GRIS | D10: TB | F10: 13110NN | G10: PVC SAN GRIS TUBO N.NORMA 3M 110 N | H10: 1 | I10: Unitario
A11: Conducción Fluidos | B11: PVC SANITARIO GRIS | C11: TUBOS SANT GRIS | D11: TB | F11: 13205NN | G11: PVC SAN GRIS TUBO N.NORMA 1M 40 N | H11: 10 | I11: Unitario
A12: Conducción Fluidos | B12: PVC SANITARIO GRIS | C12: TUBOS SANT GRIS | D12: TB | F12: 13206NN | G12: PVC SAN GRIS TUBO N.NORMA 1M 50 N | H12: 10 | I12: Unitario
A13: Conducción Fluidos | B13: PVC SANITARIO GRIS | C13: TUBOS SANT GRIS | D13: TB | F13: 13208NN | G13: PVC SAN GRIS TUBO N.NORMA 1M 75 N | H13: 10 | I13: Unitario
A14: Conducción Fluidos | B14: PVC SANITARIO GRIS | C14: TUBOS SANT GRIS | D14: TB | F14: 13210NN | G14: PVC SAN GRIS TUBO N.NORMA 1M 110 N | H14: 5 | I14: Unitario
A15: Conducción Fluidos | B15: PVC SANITARIO GRIS | C15: FITTING SANT GRIS | D15: FT | E15: #VALUE! | F15: 341205 | G15: PVC SAN GRIS FT CODO 45° 40 I | H15: 48 | I15: Caja
A16: Conducción Fluidos | B16: PVC SANITARIO GRIS | C16: FITTING SANT GRIS | D16: FT | F16: 341206 | G16: PVC SAN GRIS FT CODO 45° 50 I | H16: 36 | I16: Caja
A17: Conducción Fluidos | B17: PVC SANITARIO GRIS | C17: FITTING SANT GRIS | D17: FT | F17: 341208 | G17: PVC SAN GRIS FT CODO 45° 75 I | H17: 18 | I17: Caja
A18: Conducción Fluidos | B18: PVC SANITARIO GRIS | C18: FITTING SANT GRIS | D18: FT | F18: 341210 | G18: PVC SAN GRIS FT CODO 45° 110 I | H18: 10 | I18: Caja
A19: Conducción Fluidos | B19: PVC SANITARIO GRIS | C19: FITTING SANT GRIS | D19: FT | E19: #VALUE! | F19: 341105 | G19: PVC SAN GRIS FT CODO 87,5° 40 I | H19: 36 | I19: Caja
A20: Conducción Fluidos | B20: PVC SANITARIO GRIS | C20: FITTING SANT GRIS | D20: FT | F20: 341106 | G20: PVC SAN GRIS FT CODO 87,5° 50 I | H20: 30 | I20: Caja
A21: Conducción Fluidos | B21: PVC SANITARIO GRIS | C21: FITTING SANT GRIS | D21: FT | F21: 341108 | G21: PVC SAN GRIS FT CODO 87,5° 75 I | H21: 30 | I21: Caja
A22: Conducción Fluidos | B22: PVC SANITARIO GRIS | C22: FITTING SANT GRIS | D22: FT | F22: 341110 | G22: PVC SAN GRIS FT CODO 87,5° 110 I | H22: 12 | I22: Caja
A23: Conducción Fluidos | B23: PVC SANITARIO GRIS | C23: FITTING SANT GRIS | D23: FT | E23: #VALUE! | F23: 341405 | G23: PVC SAN GRIS FT COPLA 40 I | H23: 30 | I23: Caja
A24: Conducción Fluidos | B24: PVC SANITARIO GRIS | C24: FITTING SANT GRIS | D24: FT | F24: 341406 | G24: PVC SAN GRIS FT COPLA 50 I | H24: 24 | I24: Caja
A25: Conducción Fluidos | B25: PVC SANITARIO GRIS | C25: FITTING SANT GRIS | D25: FT | F25: 341408 | G25: PVC SAN GRIS FT COPLA 75 I | H25: 20 | I25: Caja
A26: Conducción Fluidos | B26: PVC SANITARIO GRIS | C26: FITTING SANT GRIS | D26: FT | F26: 341410 | G26: PVC SAN GRIS FT COPLA 110 I | H26: 10 | I26: Caja
A27: Conducción Fluidos | B27: PVC SANITARIO GRIS | C27: FITTING SANT GRIS | D27: FT | E27: #VALUE! | F27: 341005 | G27: PVC SAN GRIS FT COPLA RED 50 40 I | H27: 50 | I27: Caja
A28: Conducción Fluidos | B28: PVC SANITARIO GRIS | C28: FITTING SANT GRIS | D28: FT | F28: 341006 | G28: PVC SAN GRIS FT COPLA RED 75 50 I | H28: 30 | I28: Caja
A29: Conducción Fluidos | B29: PVC SANITARIO GRIS | C29: FITTING SANT GRIS | D29: FT | F29: 341008 | G29: PVC SAN GRIS FT COPLA RED 110 50 I | H29: 20 | I29: Caja
A30: Conducción Fluidos | B30: PVC SANITARIO GRIS | C30: FITTING SANT GRIS | D30: FT | F30: 341010 | G30: PVC SAN GRIS FT COPLA RED 110 75 I | H30: 12 | I30: Caja
A31: Conducción Fluidos | B31: PVC SANITARIO GRIS | C31: FITTING SANT GRIS | D31: FT | E31: #VALUE! | F31: 341505 | G31: PVC SAN GRIS FT TAPA 40 I | H31: 20 | I31: Caja
A32: Conducción Fluidos | B32: PVC SANITARIO GRIS | C32: FITTING SANT GRIS | D32: FT | F32: 341506 | G32: PVC SAN GRIS FT TAPA 50 I | H32: 20 | I32: Caja
A33: Conducción Fluidos | B33: PVC SANITARIO GRIS | C33: FITTING SANT GRIS | D33: FT | F33: 341508 | G33: PVC SAN GRIS FT TAPA 75 I | H33: 10 | I33: Caja
A34: Conducción Fluidos | B34: PVC SANITARIO GRIS | C34: FITTING SANT GRIS | D34: FT | F34: 341510 | G34: PVC SAN GRIS FT TAPA 110 I | H34: 6 | I34: Caja
A35: Conducción Fluidos | B35: PVC SANITARIO GRIS | C35: FITTING SANT GRIS | D35: FT | E35: #VALUE! | F35: 341305 | G35: PVC SAN GRIS FT TEE 40 40 I | H35: 18 | I35: Caja
A36: Conducción Fluidos | B36: PVC SANITARIO GRIS | C36: FITTING SANT GRIS | D36: FT | F36: 341306 | G36: PVC SAN GRIS FT TEE 50 50 I | H36: 10 | I36: Caja
A37: Conducción Fluidos | B37: PVC SANITARIO GRIS | C37: FITTING SANT GRIS | D37: FT | F37: 341308 | G37: PVC SAN GRIS FT TEE 75 75 I | H37: 9 | I37: Caja
A38: Conducción Fluidos | B38: PVC SANITARIO GRIS | C38: FITTING SANT GRIS | D38: FT | F38: 341310 | G38: PVC SAN GRIS FT TEE 110 110 I | H38: 6 | I38: Caja
A39: Conducción Fluidos | B39: PVC SANITARIO GRIS | C39: FITTING SANT GRIS | D39: FT | E39: #VALUE! | F39: 41312 | G39: PVC SAN GRIS FT TEE RED 75 40 N | H39: 18 | I39: Caja
A40: Conducción Fluidos | B40: PVC SANITARIO GRIS | C40: FITTING SANT GRIS | D40: FT | F40: 341313 | G40: PVC SAN GRIS FT TEE RED 75 50 I | H40: 24 | I40: Caja
...

Sheet PVC Gris Oscuro No Certif.
A1: Volver al menú principal | B1: SISTEMAS HIDRÁULICOS FEBRERO 2026 - LISTA PRECIOS
A2: Categoría Madre | B2: Categoría | C2: Nuevo Grupo SAP | D2: Formato | E2: FOTO | F2: SKU-SH | G2: Descripción SAP 01.26 | H2: UNIDAD MÍNIMA DE VENTA (UNIDADES) | I2: UNIDAD MÍNIMA DE VENTA (FORMATO) | J2: CANTIDAD A COTIZAR
A3: Conducción Fluidos | B3: TUBERÍA PLUVIAL EXT. GRIS OSCURO NO CERT. | C3: TUBO OTROS | D3: TB | E3: #VALUE! | F3: 13305 | G3: PVC GRIS OSC TUBO 6M PLUV EXT N.C. 40 | H3: 1 | I3: Unitario
A4: Conducción Fluidos | B4: TUBERÍA PLUVIAL EXT. GRIS OSCURO NO CERT. | C4: TUBO OTROS | D4: TB | F4: 13306 | G4: PVC GRIS OSC TUBO 6M PLUV EXT N.C. 50 | H4: 1 | I4: Unitario
A5: Conducción Fluidos | B5: TUBERÍA PLUVIAL EXT. GRIS OSCURO NO CERT. | C5: TUBO OTROS | D5: TB | F5: 13308 | G5: PVC GRIS OSC TUBO 6M PLUV EXT N.C. 75 | H5: 1 | I5: Unitario
A6: Conducción Fluidos | B6: TUBERÍA PLUVIAL EXT. GRIS OSCURO NO CERT. | C6: TUBO OTROS | D6: TB | F6: 13310 | G6: PVC GRIS OSC TUBO 6M PLUV EXT N.C. 110 | H6: 1 | I6: Unitario
A7: Conducción Fluidos | B7: TUBERÍA PLUVIAL EXT. GRIS OSCURO NO CERT. | C7: TUBO OTROS | D7: TB | F7: 13405 | G7: PVC GRIS OS TUBO 3M PLUV EXT N.C. 40 *AP | H7: 1 | I7: Unitario
A8: Conducción Fluidos | B8: TUBERÍA PLUVIAL EXT. GRIS OSCURO NO CERT. | C8: TUBO OTROS | D8: TB | F8: 13406 | G8: PVC GRIS OS TUBO 3M PLUV EXT N.C. 50 *AP | H8: 1 | I8: Unitario
A9: Conducción Fluidos | B9: TUBERÍA PLUVIAL EXT. GRIS OSCURO NO CERT. | C9: TUBO OTROS | D9: TB | F9: 13408 | G9: PVC GRIS OS TUBO 3M PLUV EXT N.C. 75 *AP | H9: 1 | I9: Unitario
A10: Conducción Fluidos | B10: TUBERÍA PLUVIAL EXT. GRIS OSCURO NO CERT. | C10: TUBO OTROS | D10: TB | F10: 13410 | G10: PVC GRIS OS TUBO 3M PLUV EXT N.C. 110*AP | H10: 1 | I10: Unitario
A11: Conducción Fluidos | B11: TUBERÍA PLUVIAL EXT. GRIS OSCURO NO CERT. | C11: TUBO OTROS | D11: TB | F11: 13505 | G11: PVC GRIS OS TUBO 1M PLUV EXT N.C. 40 *AP | H11: 1 | I11: Unitario
A12: Conducción Fluidos | B12: TUBERÍA PLUVIAL EXT. GRIS OSCURO NO CERT. | C12: TUBO OTROS | D12: TB | F12: 13506 | G12: PVC GRIS OS TUBO 1M PLUV EXT N.C. 50 *AP | H12: 1 | I12: Unitario
A13: Conducción Fluidos | B13: TUBERÍA PLUVIAL EXT. GRIS OSCURO NO CERT. | C13: TUBO OTROS | D13: TB | F13: 13508 | G13: PVC GRIS OS TUBO 1M PLUV EXT N.C. 75 *AP | H13: 1 | I13: Unitario
A14: Conducción Fluidos | B14: TUBERÍA PLUVIAL EXT. GRIS OSCURO NO CERT. | C14: TUBO OTROS | D14: TB | F14: 13510 | G14: PVC GRIS OS TUBO 1M PLUV EX N.C. 110 *AP | H14: 1 | I14: Unitario

Sheet PVC Colector
A1: Volver al menú principal | B1: SISTEMAS HIDRÁULICOS FEBRERO 2026 - LISTA PRECIOS
A2: Categoría Madre | B2: Categoría | C2: Nuevo Grupo SAP | D2: Formato | E2: FOTO | F2: SKU-SH | G2: Descripción SAP 01.26 | H2: UNIDAD MÍNIMA DE VENTA (UNIDADES) | I2: UNIDAD MÍNIMA DE VENTA (FORMATO) | J2: CANTIDAD A COTIZAR
A3: Conducción Fluidos | B3: TUBO COLECTOR SN2 HASTA SN8 | C3: TUBERÍA PVC COLECTOR | D3: TB | E3: #VALUE! | F3: 99101 | G3: TUBO COLECTOR 200 X 6MTS SN2 *AP | H3: 1 | I3: Unitario
A4: Conducción Fluidos | B4: TUBO COLECTOR SN2 HASTA SN8 | C4: TUBERÍA PVC COLECTOR | D4: TB | F4: 99102 | G4: TUBO COLECTOR 250 X 6MTS SN2 *AP | H4: 1 | I4: Unitario
A5: Conducción Fluidos | B5: TUBO COLECTOR SN2 HASTA SN8 | C5: TUBERÍA PVC COLECTOR | D5: TB | F5: 99103 | G5: TUBO COLECTOR 160 X 6MTS SN4 *AP | H5: 1 | I5: Unitario
A6: Conducción Fluidos | B6: TUBO COLECTOR SN2 HASTA SN8 | C6: TUBERÍA PVC COLECTOR | D6: TB | F6: 99104 | G6: TUBO COLECTOR 200 X 6MTS SN4 *AP | H6: 1 | I6: Unitario
A7: Conducción Fluidos | B7: TUBO COLECTOR SN2 HASTA SN8 | C7: TUBERÍA PVC COLECTOR | D7: TB | F7: 99105 | G7: TUBO COLECTOR 250 X 6MTS SN4 *AP | H7: 1 | I7: Unitario
A8: Conducción Fluidos | B8: TUBO COLECTOR SN2 HASTA SN8 | C8: TUBERÍA PVC COLECTOR | D8: TB | F8: 99106 | G8: TUBO COLECTOR 110 X 6MTS SN8 *AP | H8: 1 | I8: Unitario
A9: Conducción Fluidos | B9: TUBO COLECTOR SN2 HASTA SN8 | C9: TUBERÍA PVC COLECTOR | D9: TB | F9: 99107 | G9: TUBO COLECTOR 160 X 6MTS SN8 *AP | H9: 1 | I9: Unitario
A10: Conducción Fluidos | B10: TUBO COLECTOR SN2 HASTA SN8 | C10: TUBERÍA PVC COLECTOR | D10: TB | F10: 99108 | G10: TUBO COLECTOR 200 X 6MTS SN8 *AP | H10: 1 | I10: Unitario
A11: Conducción Fluidos | B11: TUBO COLECTOR SN2 HASTA SN8 | C11: TUBERÍA PVC COLECTOR | D11: TB | F11: 99110 | G11: TUBO COLECTOR 250 X 6MTS SN8 *AP | H11: 1 | I11: Unitario

Sheet PVC Sanit Blanco
A1: Volver al menú principal | B1: SISTEMAS HIDRÁULICOS FEBRERO 2026 - LISTA PRECIOS
A2: Categoría Madre | B2: Categoría | C2: Nuevo Grupo SAP | D2: Formato | E2: FOTO | F2: SKU-SH | G2: Descripción SAP 01.26 | H2: UNIDAD MÍNIMA DE VENTA (UNIDADES) | I2: UNIDAD MÍNIMA DE VENTA (FORMATO) | J2: CANTIDAD A COTIZAR
A3: Conducción Fluidos | B3: PVC SANITARIO BLANCO | C3: TUBOS SANT BLANCO | D3: TB | E3: #VALUE! | F3: 14005NN | G3: PVC SAN BLCO TUBO N.NORMA 6M 40 N | H3: 1 | I3: Unitario
A4: Conducción Fluidos | B4: PVC SANITARIO BLANCO | C4: TUBOS SANT BLANCO | D4: TB | F4: 14006NN | G4: PVC SAN BLCO TUBO N.NORMA 6M 50 N | H4: 1 | I4: Unitario
A5: Conducción Fluidos | B5: PVC SANITARIO BLANCO | C5: TUBOS SANT BLANCO | D5: TB | F5: 14008NN | G5: PVC SAN BLCO TUBO N.NORMA 6M 75 N | H5: 1 | I5: Unitario
A6: Conducción Fluidos | B6: PVC SANITARIO BLANCO | C6: TUBOS SANT BLANCO | D6: TB | F6: 14010NN | G6: PVC SAN BLCO TUBO N.NORMA 6M 110 N | H6: 1 | I6: Unitario
A7: Conducción Fluidos | B7: PVC SANITARIO BLANCO | C7: TUBOS SANT BLANCO | D7: TB | F7: 14016NN | G7: PVC SAN BLCO TUBO N.NORMA 6M 160 N | H7: 1 | I7: Unitario
A8: Conducción Fluidos | B8: PVC SANITARIO BLANCO | C8: FITTING SANT BLANCO | D8: FT | E8: #VALUE! | F8: 342205 | G8: PVC SAN BLCO FT CODO 45° 40 I | H8: 1 | I8: Unitario
A9: Conducción Fluidos | B9: PVC SANITARIO BLANCO | C9: FITTING SANT BLANCO | D9: FT | F9: 342206 | G9: PVC SAN BLCO FT CODO 45° 50 I | H9: 1 | I9: Unitario
A10: Conducción Fluidos | B10: PVC SANITARIO BLANCO | C10: FITTING SANT BLANCO | D10: FT | F10: 342208 | G10: PVC SAN BLCO FT CODO 45° 75 I | H10: 1 | I10: Unitario
A11: Conducción Fluidos | B11: PVC SANITARIO BLANCO | C11: FITTING SANT BLANCO | D11: FT | F11: 342210 | G11: PVC SAN BLCO FT CODO 45° 110 I | H11: 1 | I11: Unitario
A12: Conducción Fluidos | B12: PVC SANITARIO BLANCO | C12: FITTING SANT BLANCO | D12: FT | F12: 342216 | G12: PVC SAN BLCO FT CODO 45° 160 I | H12: 1 | I12: Unitario
A13: Conducción Fluidos | B13: PVC SANITARIO BLANCO | C13: FITTING SANT BLANCO | D13: FT | E13: #VALUE! | F13: 342105 | G13: PVC SAN BLCO FT CODO 87,5° 40 I | H13: 1 | I13: Unitario
A14: Conducción Fluidos | B14: PVC SANITARIO BLANCO | C14: FITTING SANT BLANCO | D14: FT | F14: 342106 | G14: PVC SAN BLCO FT CODO 87,5° 50 I | H14: 1 | I14: Unitario
A15: Conducción Fluidos | B15: PVC SANITARIO BLANCO | C15: FITTING SANT BLANCO | D15: FT | F15: 342108 | G15: PVC SAN BLCO FT CODO 87,5° 75 I | H15: 1 | I15: Unitario
A16: Conducción Fluidos | B16: PVC SANITARIO BLANCO | C16: FITTING SANT BLANCO | D16: FT | F16: 342110 | G16: PVC SAN BLCO FT CODO 87,5° 110 I | H16: 1 | I16: Unitario
A17: Conducción Fluidos | B17: PVC SANITARIO BLANCO | C17: FITTING SANT BLANCO | D17: FT | F17: 342116 | G17: PVC SAN BLCO FT CODO 87,5° 160 I | H17: 1 | I17: Unitario
A18: Conducción Fluidos | B18: PVC SANITARIO BLANCO | C18: FITTING SANT BLANCO | D18: FT | E18: #VALUE! | F18: 342910 | G18: PVC SAN BLCO FT CODO REG 110 I | H18: 1 | I18: Unitario
A19: Conducción Fluidos | B19: PVC SANITARIO BLANCO | C19: FITTING SANT BLANCO | D19: FT | E19: #VALUE! | F19: 342911 | G19: PVC SAN BLCO CODO REGIST DOBLE ORING 110 | H19: 1 | I19: Unitario
A20: Conducción Fluidos | B20: PVC SANITARIO BLANCO | C20: FITTING SANT BLANCO | D20: FT | F20: 342916 | G20: PVC SAN BLCO CODO REGIST DOBLE ORING 160 | H20: 1 | I20: Unitario
A21: Conducción Fluidos | B21: PVC SANITARIO BLANCO | C21: FITTING SANT BLANCO | D21: FT | E21: #VALUE! | F21: 42405 | G21: PVC SAN BLCO FT COPLA 40 N | H21: 1 | I21: Unitario
A22: Conducción Fluidos | B22: PVC SANITARIO BLANCO | C22: FITTING SANT BLANCO | D22: FT | F22: 342406 | G22: PVC SAN BLCO FT COPLA 50 I | H22: 1 | I22: Unitario
A23: Conducción Fluidos | B23: PVC SANITARIO BLANCO | C23: FITTING SANT BLANCO | D23: FT | F23: 342408 | G23: PVC SAN BLCO FT COPLA 75 I | H23: 1 | I23: Unitario
A24: Conducción Fluidos | B24: PVC SANITARIO BLANCO | C24: FITTING SANT BLANCO | D24: FT | F24: 342410 | G24: PVC SAN BLCO FT COPLA 110 I | H24: 1 | I24: Unitario
A25: Conducción Fluidos | B25: PVC SANITARIO BLANCO | C25: FITTING SANT BLANCO | D25: FT | F25: 342416 | G25: PVC SAN BLCO FT COPLA 160 I | H25: 1 | I25: Unitario
A26: Conducción Fluidos | B26: PVC SANITARIO BLANCO | C26: FITTING SANT BLANCO | D26: FT | E26: #VALUE! | F26: 42810 | G26: PVC SAN BLCO FT COPLA REP 110 N | H26: 1 | I26: Unitario
A27: Conducción Fluidos | B27: PVC SANITARIO BLANCO | C27: FITTING SANT BLANCO | D27: FT | F27: 42816 | G27: PVC SAN BLCO FT COPLA REP 160 N | H27: 1 | I27: Unitario
A28: Conducción Fluidos | B28: PVC SANITARIO BLANCO | C28: FITTING SANT BLANCO | D28: FT | E28: #VALUE! | F28: 42305 | G28: PVC SAN BLCO FT TEE 40 40 N | H28: 1 | I28: Unitario
A29: Conducción Fluidos | B29: PVC SANITARIO BLANCO | C29: FITTING SANT BLANCO | D29: FT | F29: 342306 | G29: PVC SAN BLCO FT TEE 50 50 I | H29: 1 | I29: Unitario
A30: Conducción Fluidos | B30: PVC SANITARIO BLANCO | C30: FITTING SANT BLANCO | D30: FT | F30: 342308 | G30: PVC SAN BLCO FT TEE 75 75 I | H30: 1 | I30: Unitario
A31: Conducción Fluidos | B31: PVC SANITARIO BLANCO | C31: FITTING SANT BLANCO | D31: FT | F31: 342310 | G31: PVC SAN BLCO FT TEE 110 110 I | H31: 1 | I31: Unitario
A32: Conducción Fluidos | B32: PVC SANITARIO BLANCO | C32: FITTING SANT BLANCO | D32: FT | F32: 342318 | G32: PVC SAN BLCO FT TEE 160 160 I | H32: 1 | I32: Unitario
A33: Conducción Fluidos | B33: PVC SANITARIO BLANCO | C33: FITTING SANT BLANCO | D33: FT | E33: #VALUE! | F33: 42312 | G33: PVC SAN BLCO FT TEE RED 75 40 N | H33: 1 | I33: Unitario
A34: Conducción Fluidos | B34: PVC SANITARIO BLANCO | C34: FITTING SANT BLANCO | D34: FT | F34: 342313 | G34: PVC SAN BLCO FT TEE RED 75 50 I | H34: 1 | I34: Unitario
A35: Conducción Fluidos | B35: PVC SANITARIO BLANCO | C35: FITTING SANT BLANCO | D35: FT | F35: 342314 | G35: PVC SAN BLCO FT TEE RED 110 40 I | H35: 1 | I35: Unitario
A36: Conducción Fluidos | B36: PVC SANITARIO BLANCO | C36: FITTING SANT BLANCO | D36: FT | F36: 342315 | G36: PVC SAN BLCO FT TEE RED 110 50 I | H36: 1 | I36: Unitario
A37: Conducción Fluidos | B37: PVC SANITARIO BLANCO | C37: FITTING SANT BLANCO | D37: FT | F37: 342316 | G37: PVC SAN BLCO FT TEE RED 110 75 I | H37: 1 | I37: Unitario
A38: Conducción Fluidos | B38: PVC SANITARIO BLANCO | C38: FITTING SANT BLANCO | D38: FT | F38: 342317 | G38: PVC SAN BLCO FT TEE RED 160 110 I | H38: 1 | I38: Unitario
A39: Conducción Fluidos | B39: PVC SANITARIO BLANCO | C39: FITTING SANT BLANCO | D39: FT | E39: #VALUE! | F39: 42608 | G39: PVC SAN BLCO FT TEE REG. 75 N | H39: 1 | I39: Unitario
A40: Conducción Fluidos | B40: PVC SANITARIO BLANCO | C40: FITTING SANT BLANCO | D40: FT | F40: 342610 | G40: PVC SAN BLCO FT TEE REG. 110 I | H40: 1 | I40: Unitario
...

Sheet PVC Presión
A1: Volver al menú principal | B1: SISTEMAS HIDRÁULICOS FEBRERO 2026 - LISTA PRECIOS
A2: Categoría Madre | B2: Categoría | C2: Nuevo Grupo SAP | D2: Formato | E2: FOTO | F2: SKU-SH | G2: Descripción SAP 01.26 | H2: UNIDAD MÍNIMA DE VENTA (UNIDADES) | I2: UNIDAD MÍNIMA DE VENTA (FORMATO) | J2: CANTIDAD A COTIZAR
A3: Conducción Fluidos | B3: PVC PRESION / HIDRÁULICO | C3: TUBO PVC PRESION | D3: TB | E3: #VALUE! | F3: 15002 | G3: PVC PRE TUBO 6M 20 PN16 N | H3: 20 | I3: Bolsa
A4: Conducción Fluidos | B4: PVC PRESION / HIDRÁULICO | C4: TUBO PVC PRESION | D4: TB | F4: 15003 | G4: PVC PRE TUBO 6M 25 PN12,5 N | H4: 20 | I4: Bolsa
A5: Conducción Fluidos | B5: PVC PRESION / HIDRÁULICO | C5: TUBO PVC PRESION | D5: TB | F5: 15004 | G5: PVC PRE TUBO 6M 32 PN10 N | H5: 10 | I5: Bolsa
A6: Conducción Fluidos | B6: PVC PRESION / HIDRÁULICO | C6: TUBO PVC PRESION | D6: TB | F6: 15005 | G6: PVC PRE TUBO 6M 40 PN10 N | H6: 1 | I6: Unitario
A7: Conducción Fluidos | B7: PVC PRESION / HIDRÁULICO | C7: TUBO PVC PRESION | D7: TB | F7: 15006 | G7: PVC PRE TUBO 6M 50 PN10 N | H7: 1 | I7: Unitario
A8: Conducción Fluidos | B8: PVC PRESION / HIDRÁULICO | C8: TUBO PVC PRESION | D8: TB | F8: 15007 | G8: PVC PRE TUBO 6M 63 PN10 N | H8: 1 | I8: Unitario
A9: Conducción Fluidos | B9: PVC PRESION / HIDRÁULICO | C9: TUBO PVC PRESION | D9: TB | F9: 15008 | G9: PVC PRE TUBO 6M 75 PN10 N | H9: 1 | I9: Unitario
A10: Conducción Fluidos | B10: PVC PRESION / HIDRÁULICO | C10: TUBO PVC PRESION | D10: TB | F10: 15009 | G10: PVC PRE TUBO 6M 90 PN10 N | H10: 1 | I10: Unitario
A11: Conducción Fluidos | B11: PVC PRESION / HIDRÁULICO | C11: TUBO PVC PRESION | D11: TB | F11: 15010 | G11: PVC PRE TUBO 6M 110 PN10 N | H11: 1 | I11: Unitario
A12: Conducción Fluidos | B12: PVC PRESION / HIDRÁULICO | C12: TUBO PVC PRESION | D12: TB | F12: 15011 | G12: PVC PRE TUBO 6M 125 PN10 N | H12: 1 | I12: Unitario
